{"text_format":"1","workbook":"xlsx","n_sheets":11,"sheets":["Introductie","Stap 1 Risicomatrix","Stap 2 Register","Stap 3 Maatregelen","Overgebleven risico","1e berekening","Grafiek1","Dashboard","Verantwoording","BW tabel","Grafiek"],"not_rendered":{"charts":5,"images":4,"macros":1,"external_links":0,"defined_names":10,"comments":0,"pivot_tables":1},"unopened":[{"sheet":"Grafiek1","index":6,"reason":"not_a_worksheet"}],"bounds":{"document_bytes":16777216,"sheet_cells":100000,"rows_first":2000,"rows_last":500,"rows_between":2000,"halvings":0,"cell_chars":16384,"cell_head_chars":4096},"cells_cut":0,"cells_raw":0,"read":"whole","date_system":"1900"}

{"sheet":"Introductie","index":0,"n_rows":53,"n_cols":17,"rows_kept":53,"cut":false,"hidden":false,"merged":[[4,1,19,8],[21,1,34,8],[36,1,50,5],[36,6,43,10],[44,6,52,10],[52,1,59,5]]}
[]
[null,null,"Assetmanagement Risico Register (ARR)"]
[null,null,null,null,null,null,null,"Een Lean inzicht van uw assetmanagement risicopositie"]
[]
[null,"INTRODUCTIE\nLEAM Advies, kortweg LEAM, is een zelfstandig organisatie adviesbureau. LEAM staat voor de integratie van de filosofie van Lean met de wereld van Asset Management. LEAM heeft o.a. als doel om Asset Management zo praktisch mogelijk handen en voeten te geven op een wijze die past binnen uw organisatie. Dit op een manier zonder de bestaande richtlijnen uit het oog te verliezen. LEAM zorgt voor verandering door het ontwikkelen van het leervermogen in uw organisatie toepasbaar te maken. Daarbij kunnen instrumenten ondersteunend zijn, zoals dit Assetmanagement Risico Register.\n\nDit register helpt bij het vastleggen van uw risico's. Van elk ingevoerde gebeurtenis kan het risico worden bepaald aan de hand van een bedrijfswaardentabel. De risicopositie wordt weergegeven, evenals het \"monetair equivalent\". Dit is het risico uitgedrukt in geld. Het risicoregister (of deze ARR) wordt gebruikt in stap 2 van de zeven assetmanagement stappen. Deze stappen staan beschreven op de website van LEAM. Klik op het logo om hier naartoe te gaan. De ARR levert naast een overzicht van het totaal aan risico's ook een beeld van alle risico's op. Dit kan eenvoudig worden geprint. In dit register kunnen ook maatregelen ingevuld worden en het verwachte risiconiveau na het nemen van de maatregelen. \n\n"]
[]
[]
[]
[]
[]
[]
[]
[]
[]
[]
[]
[]
[]
[]
[]
[]
[null,"INSTRUCTIE\nDoorloop de 3 stappen. Een verantwoording over de uitkomsten is op het tabblad verantwoording zo goed mogelijk weergegeven. \nBij stap 1 wordt in de kolom financieel, de waarde uit uw eigen risicomatrix ingevuld op één plaats. Tevens kunt u hier uw eigen bedrijfswaarden invullen, m.u.v. de bedrijfswaarde \"financieel\". Deze is nodig voor de werking van dit register. Maximaal kunnen er zes bedrijfswaarden worden ingevuld. Minder kan altijd. De schaling van de matrix kan niet worden aangepast in deze versie.\nBij stap 2 kunnen de risico's worden ingevuld. Enkel de geel gekleurde velden zijn in te vullen.\nBij stap 3 kunnen de maatregelen worden ingevuld voor de risico's uit stap 2. Dit is nodig zodra bij stap 2 is aangegeven dat er voor enkele risico's maatregelen worden genomen. Ook hier geldt dat enkel de gele velden ingevuld kunnen worden.\nHet tabblad dashboard is een overzichtelijke weergave van de risico's per risicopositie. Ook staan hier de Monetaire waarden per bedrijfswaarde benoemd. Zowel voor de huidige situatie, als de situatie na het nemen van maatregelen.\nMet de schuifknop ziet u de verschillen in risicopositie ontstaan van de huidige en nieuwe situatie. \nMet de knop \"verversen grafiek\" worden risico's en maatregelen tov geplot. In combinatie met een budgetgrens maakt dat overgebleven risico's zichtbaar\n\n\n"]
[]
[]
[]
[]
[]
[]
[]
[]
[]
[]
[]
[null,null,null,null,null,null,null,null,null,null,null,null,null,null,null,null,"Voorbeeld van het dashboard"]
[]
[]
[null,"COLOFON\nUitgegeven door: LEAM Advies, Bergen op Zoom\nBeschikbaar sinds: januari 2019\nIllustraties: R.A. Boer\nVersie: 3.0 (januari 2024)\n\nContact\nRoland Boer\nLEAM Advies\nE  info@leam.nu\nT  06 19645905\n\nCopyright\nR.A. Boer - LEAM Advies\nDit Excelmodel kan voor eigen doeleinden worden gebruikt, mits voorzien van bronvermelding. Commerciële doeleinden zijn niet toegestaan zonder overleg met LEAM. Het (intellectueel) eigendom van dit model blijft altijd van LEAM."]
[]
[]
[]
[]
[]
[]
[]
[]
[]
[]
[]
[]
[]
[]
[]
[null,"Disclaimer\nHet Assetmanagement Risico Register (ARR) is met uiterste zorg ontwikkeld, opgesteld, getest en gecontroleerd. De ARR is een verzameling risico's en geeft een indicatie van de risicopositie en wat deze kan worden na het nemen van maatregelen. Consequenties volgend uit het gebruik ervan zijn voor eigen rekening en risico. Uitgangspunten van de gebruikte matrix zijn vast."]

{"sheet":"Stap 1 Risicomatrix","index":1,"n_rows":20,"n_cols":15,"rows_kept":20,"cut":false,"hidden":false,"merged":[[2,9,3,14],[4,8,6,8],[5,2,5,7],[7,0,18,0],[7,1,8,1],[7,8,8,8],[7,9,8,9],[7,10,8,10],[7,11,8,11],[7,12,8,12],[7,13,8,13],[7,14,8,14],[9,1,10,1],[9,8,10,8],[9,9,10,9],[9,10,10,10],[9,11,10,11],[9,12,10,12],[15,13,16,13],[15,14,16,14],[11,13,12,13],[13,12,14,12],[13,13,14,13],[11,12,12,12],[13,1,14,1],[13,8,14,8],[13,9,14,9],[13,10,14,10],[13,11,14,11],[11,1,12,1],[11,8,12,8],[11,9,12,9],[11,10,12,10],[11,11,12,11],[17,13,18,13],[17,14,18,14],[10,4,15,6],[17,1,18,1],[17,8,18,8],[17,9,18,9],[17,10,18,10],[17,11,18,11],[17,12,18,12],[13,14,14,14],[15,1,16,1],[15,8,16,8],[15,9,16,9],[15,10,16,10],[15,11,16,11],[15,12,16,12]]}
[]
[null,null,"Risicomatrix"]
[null,null,null,null,null,null,null,null,null,"Kans van voorkomen"]
[]
[null,null,null,null,null,null,null,null,null,"A","B","C","D","E","F"]
[null,null,"Bedrijfswaarden / Organisatiewaarden",null,null,null,null,null,null,"Zeer laag","Laag","Beperkt","Geregeld","Vaak","Zeer vaak"]
[null,null,"Financieel","Doelmatig","Kwantiteit/Veilig","Kwal leefomgeving","Imago","Circulair",null,"> 0,001 / jr","> 0,01 / jr","> 0,1 /jr","> 1 / jr","> 10 / jr","> 100 / jr"]
["Effecten / gevolgen","Catastrofaal",">=",null,null,null,null,null,6,"M","H","ZH","O","O","O"]
[null,null,{"$f":"C11*10","v":10000000}]
[null,"Ernstig",">=",null,null,null,null,null,5,"L","M","H","ZH","O","O"]
[null,null,1000000,null,"Instructie\nIn dit risicoregister wordt gebruik gemaakt van een 6x6 risicomatrix en een logaritmische schaling. Dit zijn randvoorwaarden voor een betrouwbare uitkomst. Indien er in jouw organisatie nog geen risicomatrix is, dan heeft het gebruik van dit risicoregister weinig nut. Het is dan beter om eerst een matrix op te stellen.\n\nDe gekleurde velden kunnen worden aangepast. Deze zijn van belang voor de uitkomsten in dit risicoregister.\n\nVul de eigen bedrijfswaarden in. Dit is gemaximaliseerd tot 6 waarden.\n\nDe financiële kolom kan zo gelaten worden of eveneens aangepast aan de financiële kolom in de eigen risicomatrix. "]
[null,"Groot",">=",null,null,null,null,null,4,"V","L","M","H","ZH","O"]
[null,null,{"$f":"C11/10","v":100000}]
[null,"Middelmatig",">=",null,null,null,null,null,3,"V","V","L","M","H","ZH"]
[null,null,{"$f":"C13/10","v":10000}]
[null,"Klein",">=",null,null,null,null,null,2,"V","V","V","L","M","H"]
[null,null,{"$f":"C15/10","v":1000}]
[null,"Verwaarloosbaar",">=",null,null,null,null,null,1,"V","V","V","V","L","M"]
[null,null,{"$f":"C17/10","v":100}]
[null,null,null,null,null,null,null,null,null,null,null,null,null,null,"LEAM © 2024"]

{"sheet":"Stap 2 Register","index":2,"n_rows":109,"n_cols":50,"rows_kept":109,"cut":false,"hidden":false,"merged":[[5,2,6,2],[5,1,6,1],[5,3,6,3],[5,22,5,27],[5,15,5,21],[5,13,6,13],[5,14,6,14],[5,7,5,12],[5,34,6,34],[5,36,6,36],[5,4,6,4],[5,28,5,33],[5,5,6,5],[5,6,6,6]]}
[]
[]
[null,null,"Stap 2: Risicoregister"]
[]
[]
[null,"Risico-nummer","Beschrijving van het risico\nAsset + faalmode","Oorzaak / invloed van","Omschrijving van het effect","Kans","per jaar","Risico coördinaten per bedrijfswaarde",null,null,null,null,null,"Risico","Risico uitgedrukt in\nMonetair Equivalent","risicogetal",null,null,null,null,null,null,"Monetair",null,null,null,null,null,"Risico per bedrijfswaarde",null,null,null,null,null,"Beheersmaat-regel nodig? \n1=ja leeg=nee",null,"Opmerkingen",null,". ",null,null,null,null,null,"mon eq totaal"]
["mon eq voor vert zoeken",null,null,null,null,null,null,{"$f":"'Stap 1 Risicomatrix'!C7","v":"Financieel"},{"$f":"'Stap 1 Risicomatrix'!D7","v":"Doelmatig"},{"$f":"'Stap 1 Risicomatrix'!E7","v":"Kwantiteit/Veilig"},{"$f":"'Stap 1 Risicomatrix'!F7","v":"Kwal leefomgeving"},{"$f":"'Stap 1 Risicomatrix'!G7","v":"Imago"},{"$f":"'Stap 1 Risicomatrix'!H7","v":"Circulair"},null,null,"eur","com","kwan","kwal","im","con","hoogste","eur","com","kwan","kwal","im","con",{"$f":"H7","v":"Financieel"},"Doelmatig","Kwantiteit/Veilig","Kwal leefomgeving","Imago","Circulair",null,"rekenkolom",null,null,"O","ZH","H","M","L","V","O","ZH","H","M","L","V"]
[{"$f":"O8+B8","v":1},1,null,null,null,{"$f":"IF(H8=\"\",\"\",VLOOKUP(H8,matrixtest,6,FALSE))","v":""},{"$f":"IF(H8=\"\",\"\",VLOOKUP(H8,matrixtest,5,FALSE))","v":""},null,null,null,null,null,null,{"$f":"IF(V8=0,\"\",VLOOKUP(V8,risico,2,FALSE))","v":""},{"$f":"SUM(W8:AB8)","v":0},{"$f":"IF(H8=\"\",0,VLOOKUP(H8,matrixtest,4,FALSE))","v":0},{"$f":"IF(I8=\"\",0,VLOOKUP(I8,matrixtest,4,FALSE))","v":0},{"$f":"IF(J8=\"\",0,VLOOKUP(J8,matrixtest,4,FALSE))","v":0},{"$f":"IF(K8=\"\",0,VLOOKUP(K8,matrixtest,4,FALSE))","v":0},{"$f":"IF(L8=\"\",0,VLOOKUP(L8,matrixtest,4,FALSE))","v":0},{"$f":"IF(M8=\"\",0,VLOOKUP(M8,matrixtest,4,FALSE))","v":0},{"$f":"MAX(P8:U8)","v":0},{"$f":"IF(H8=\"\",0,VLOOKUP(H8,matrixtest,2,FALSE))","v":0},{"$f":"IF(I8=\"\",0,VLOOKUP(I8,matrixtest,2,FALSE))","v":0},{"$f":"IF(J8=\"\",0,VLOOKUP(J8,matrixtest,2,FALSE))","v":0},{"$f":"IF(K8=\"\",0,VLOOKUP(K8,matrixtest,2,FALSE))","v":0},{"$f":"IF(L8=\"\",0,VLOOKUP(L8,matrixtest,2,FALSE))","v":0},{"$f":"IF(M8=\"\",0,VLOOKUP(M8,matrixtest,2,FALSE))","v":0},{"$f":"IF(H8=\"\",\"\",VLOOKUP(H8,matrixtest,3,FALSE))","v":""},{"$f":"IF(I8=\"\",\"\",VLOOKUP(I8,matrixtest,3,FALSE))","v":""},{"$f":"IF(J8=\"\",\"\",VLOOKUP(J8,matrixtest,3,FALSE))","v":""},{"$f":"IF(K8=\"\",\"\",VLOOKUP(K8,matrixtest,3,FALSE))","v":""},{"$f":"IF(L8=\"\",\"\",VLOOKUP(L8,matrixtest,3,FALSE))","v":""},{"$f":"IF(M8=\"\",\"\",VLOOKUP(M8,matrixtest,3,FALSE))","v":""},null,{"$f":"AI8","v":0},null,null,{"$f":"IF($N8=$AM$7,_xlfn.TEXTJOIN($AM$6,,$B8,$C8),\"\")","v":""},{"$f":"IF($N8=$AN$7,_xlfn.TEXTJOIN($AM$6,,$B8,$C8),\"\")","v":""},{"$f":"IF($N8=$AO$7,_xlfn.TEXTJOIN($AM$6,,$B8,$C8),\"\")","v":""},{"$f":"IF($N8=$AP$7,_xlfn.TEXTJOIN($AM$6,,$B8,$C8),\"\")","v":""},{"$f":"IF($N8=$AQ$7,_xlfn.TEXTJOIN($AM$6,,$B8,$C8),\"\")","v":""},{"$f":"IF($N8=$AR$7,_xlfn.TEXTJOIN($AM$6,,$B8,$C8),\"\")","v":""},{"$f":"SUMIF($N$8:$N$107,AS7,$O$8:$O$107)","v":0},0,0,0,0,0]
[{"$f":"O9+B9","v":2},2,null,null,null,"","",null,null,null,null,null,null,"",{"$f":"SUM(W9:AB9)","v":0},0,0,0,0,0,0,{"$f":"MAX(P9:U9)","v":0},0,0,0,0,0,0,"","","","","","",null,{"$f":"AJ8+AI9","v":0},null,null,"","","","","",""]
[3,3,null,null,null,"","",null,null,null,null,null,null,"",0,0,0,0,0,0,0,0,0,0,0,0,0,0,"","","","","","",null,{"$f":"AJ9+AI10","v":0},null,null,"","","","","",""]
[4,4,null,null,null,"","",null,null,null,null,null,null,"",0,0,0,0,0,0,0,{"$f":"MAX(P11:U11)","v":0},0,0,0,0,0,0,"","","","","","",null,0,null,null,"","","","","",""]
[5,5,null,null,null,"","",null,null,null,null,null,null,"",0,0,0,0,0,0,0,0,0,0,0,0,0,0,"","","","","","",null,0,null,null,"","","","","",""]
[6,6,null,null,null,"","",null,null,null,null,null,null,"",0,0,0,0,0,0,0,0,0,0,0,0,0,0,"","","","","","",null,0,null,null,"","","","","",""]
[7,7,null,null,null,"","",null,null,null,null,null,null,"",0,0,0,0,0,0,0,0,0,0,0,0,0,0,"","","","","","",null,0,null,null,"","","","","",""]
[8,8,null,null,null,"","",null,null,null,null,null,null,"",0,0,0,0,0,0,0,0,0,0,0,0,0,0,"","","","","","",null,0,null,null,"","","","","",""]
[9,9,null,null,null,"","",null,null,null,null,null,null,"",{"$f":"SUM(W16:AB16)","v":0},0,0,0,0,0,0,0,0,0,0,0,0,0,"","","","","","",null,0,null,null,"","","","","",""]
[10,10,null,null,null,"","",null,null,null,null,null,null,"",0,0,0,0,0,0,0,0,0,0,0,0,0,0,"","","","","","",null,0,null,null,"","","","","",""]
[11,11,null,null,null,"","",null,null,null,null,null,null,"",0,0,0,0,0,0,0,0,0,0,0,0,0,0,"","","","","","",null,0,null,null,"","","","","",""]
[12,12,null,null,null,"","",null,null,null,null,null,null,"",0,0,0,0,0,0,0,0,0,0,0,0,0,0,"","","","","","",null,0,null,null,"","","","","",""]
[13,13,null,null,null,"","",null,null,null,null,null,null,"",0,0,0,0,0,0,0,0,0,0,0,0,0,0,"","","","","","",null,0,null,null,"","","","","",""]
[14,14,null,null,null,"","",null,null,null,null,null,null,"",0,0,0,0,0,0,0,0,0,0,0,0,0,0,"","","","","","",null,0,null,null,"","","","","",""]
[15,15,null,null,null,"","",null,null,null,null,null,null,"",0,0,0,0,0,0,0,0,0,0,0,0,0,0,"","","","","","",null,0,null,null,"","","","","",""]
[16,16,null,null,null,"","",null,null,null,null,null,null,"",0,0,0,0,0,0,0,0,0,0,0,0,0,0,"","","","","","",null,0,null,null,"","","","","",""]
[17,17,null,null,null,"","",null,null,null,null,null,null,"",0,0,0,0,0,0,0,0,0,0,0,0,0,0,"","","","","","",null,0,null,null,"","","","","",""]
[18,18,null,null,null,"","",null,null,null,null,null,null,"",{"$f":"SUM(W25:AB25)","v":0},0,0,0,0,0,0,{"$f":"MAX(P25:U25)","v":0},0,0,0,0,0,0,"","","","","","",null,0,null,null,"","","","","",""]
[19,19,null,null,null,"","",null,null,null,null,null,null,"",0,0,0,0,0,0,0,0,0,0,0,0,0,0,"","","","","","",null,0,null,null,"","","","","",""]
[20,20,null,null,null,"","",null,null,null,null,null,null,"",0,0,0,0,0,0,0,0,0,0,0,0,0,0,"","","","","","",null,0,null,null,"","","","","",""]
[21,21,null,null,null,"","",null,null,null,null,null,null,"",0,0,0,0,0,0,0,0,0,0,0,0,0,0,"","","","","","",null,0,null,null,"","","","","",""]
[22,22,null,null,null,"","",null,null,null,null,null,null,"",0,0,0,0,0,0,0,0,0,0,0,0,0,0,"","","","","","",null,0,null,null,"","","","","",""]
[23,23,null,null,null,"","",null,null,null,null,null,null,"",0,0,0,0,0,0,0,0,0,0,0,0,0,0,"","","","","","",null,0,null,null,"","","","","",""]
[24,24,null,null,null,"","",null,null,null,null,null,null,"",0,0,0,0,0,0,0,0,0,0,0,0,0,0,"","","","","","",null,0,null,null,"","","","","",""]
[25,25,null,null,null,"","",null,null,null,null,null,null,"",0,0,0,0,0,0,0,0,0,0,0,0,0,0,"","","","","","",null,0,null,null,"","","","","",""]
[26,26,null,null,null,"","",null,null,null,null,null,null,"",0,0,0,0,0,0,0,0,0,0,0,0,0,0,"","","","","","",null,0,null,null,"","","","","",""]
[27,27,null,null,null,"","",null,null,null,null,null,null,"",0,0,0,0,0,0,0,0,0,0,0,0,0,0,"","","","","","",null,0,null,null,"","","","","",""]
[28,28,null,null,null,"","",null,null,null,null,null,null,"",0,0,0,0,0,0,0,0,0,0,0,0,0,0,"","","","","","",null,0,null,null,"","","","","",""]
[29,29,null,null,null,"","",null,null,null,null,null,null,"",0,0,0,0,0,0,0,0,0,0,0,0,0,0,"","","","","","",null,0,null,null,"","","","","",""]
[30,30,null,null,null,"","",null,null,null,null,null,null,"",0,0,0,0,0,0,0,0,0,0,0,0,0,0,"","","","","","",null,0,null,null,"","","","","",""]
[31,31,null,null,null,"","",null,null,null,null,null,null,"",0,0,0,0,0,0,0,0,0,0,0,0,0,0,"","","","","","",null,0,null,null,"","","","","",""]
[32,32,null,null,null,"","",null,null,null,null,null,null,"",0,0,0,0,0,0,0,0,0,0,0,0,0,0,"","","","","","",null,0,null,null,"","","","","",""]
[33,33,null,null,null,{"$f":"IF(H40=\"\",\"\",VLOOKUP(H40,matrixtest,6,FALSE))","v":""},{"$f":"IF(H40=\"\",\"\",VLOOKUP(H40,matrixtest,5,FALSE))","v":""},null,null,null,null,null,null,{"$f":"IF(V40=0,\"\",VLOOKUP(V40,risico,2,FALSE))","v":""},0,{"$f":"IF(H40=\"\",0,VLOOKUP(H40,matrixtest,4,FALSE))","v":0},{"$f":"IF(I40=\"\",0,VLOOKUP(I40,matrixtest,4,FALSE))","v":0},{"$f":"IF(J40=\"\",0,VLOOKUP(J40,matrixtest,4,FALSE))","v":0},{"$f":"IF(K40=\"\",0,VLOOKUP(K40,matrixtest,4,FALSE))","v":0},{"$f":"IF(L40=\"\",0,VLOOKUP(L40,matrixtest,4,FALSE))","v":0},{"$f":"IF(M40=\"\",0,VLOOKUP(M40,matrixtest,4,FALSE))","v":0},0,{"$f":"IF(H40=\"\",0,VLOOKUP(H40,matrixtest,2,FALSE))","v":0},{"$f":"IF(I40=\"\",0,VLOOKUP(I40,matrixtest,2,FALSE))","v":0},{"$f":"IF(J40=\"\",0,VLOOKUP(J40,matrixtest,2,FALSE))","v":0},{"$f":"IF(K40=\"\",0,VLOOKUP(K40,matrixtest,2,FALSE))","v":0},{"$f":"IF(L40=\"\",0,VLOOKUP(L40,matrixtest,2,FALSE))","v":0},{"$f":"IF(M40=\"\",0,VLOOKUP(M40,matrixtest,2,FALSE))","v":0},{"$f":"IF(H40=\"\",\"\",VLOOKUP(H40,matrixtest,3,FALSE))","v":""},{"$f":"IF(I40=\"\",\"\",VLOOKUP(I40,matrixtest,3,FALSE))","v":""},{"$f":"IF(J40=\"\",\"\",VLOOKUP(J40,matrixtest,3,FALSE))","v":""},{"$f":"IF(K40=\"\",\"\",VLOOKUP(K40,matrixtest,3,FALSE))","v":""},{"$f":"IF(L40=\"\",\"\",VLOOKUP(L40,matrixtest,3,FALSE))","v":""},{"$f":"IF(M40=\"\",\"\",VLOOKUP(M40,matrixtest,3,FALSE))","v":""},null,0,null,null,{"$f":"IF($N40=$AM$7,_xlfn.TEXTJOIN($AM$6,,$B40,$C40),\"\")","v":""},{"$f":"IF($N40=$AN$7,_xlfn.TEXTJOIN($AM$6,,$B40,$C40),\"\")","v":""},{"$f":"IF($N40=$AO$7,_xlfn.TEXTJOIN($AM$6,,$B40,$C40),\"\")","v":""},{"$f":"IF($N40=$AP$7,_xlfn.TEXTJOIN($AM$6,,$B40,$C40),\"\")","v":""},{"$f":"IF($N40=$AQ$7,_xlfn.TEXTJOIN($AM$6,,$B40,$C40),\"\")","v":""},{"$f":"IF($N40=$AR$7,_xlfn.TEXTJOIN($AM$6,,$B40,$C40),\"\")","v":""}]
[34,34,null,null,null,"","",null,null,null,null,null,null,"",0,0,0,0,0,0,0,0,0,0,0,0,0,0,"","","","","","",null,0,null,null,"","","","","",""]
[35,35,null,null,null,"","",null,null,null,null,null,null,"",0,0,0,0,0,0,0,0,0,0,0,0,0,0,"","","","","","",null,0,null,null,"","","","","",""]
[36,36,null,null,null,"","",null,null,null,null,null,null,"",0,0,0,0,0,0,0,0,0,0,0,0,0,0,"","","","","","",null,0,null,null,"","","","","",""]
[37,37,null,null,null,"","",null,null,null,null,null,null,"",0,0,0,0,0,0,0,0,0,0,0,0,0,0,"","","","","","",null,0,null,null,"","","","","",""]
[38,38,null,null,null,"","",null,null,null,null,null,null,"",0,0,0,0,0,0,0,0,0,0,0,0,0,0,"","","","","","",null,0,null,null,"","","","","",""]
[39,39,null,null,null,"","",null,null,null,null,null,null,"",0,0,0,0,0,0,0,0,0,0,0,0,0,0,"","","","","","",null,0,null,null,"","","","","",""]
[40,40,null,null,null,"","",null,null,null,null,null,null,"",0,0,0,0,0,0,0,0,0,0,0,0,0,0,"","","","","","",null,0,null,null,"","","","","",""]
[41,41,null,null,null,"","",null,null,null,null,null,null,"",0,0,0,0,0,0,0,0,0,0,0,0,0,0,"","","","","","",null,0,null,null,"","","","","",""]
[42,42,null,null,null,"","",null,null,null,null,null,null,"",0,0,0,0,0,0,0,0,0,0,0,0,0,0,"","","","","","",null,0,null,null,"","","","","",""]
[43,43,null,null,null,"","",null,null,null,null,null,null,"",0,0,0,0,0,0,0,0,0,0,0,0,0,0,"","","","","","",null,0,null,null,"","","","","",""]
[44,44,null,null,null,"","",null,null,null,null,null,null,"",0,0,0,0,0,0,0,0,0,0,0,0,0,0,"","","","","","",null,0,null,null,"","","","","",""]
[45,45,null,null,null,"","",null,null,null,null,null,null,"",0,0,0,0,0,0,0,0,0,0,0,0,0,0,"","","","","","",null,0,null,null,"","","","","",""]
[46,46,null,null,null,"","",null,null,null,null,null,null,"",0,0,0,0,0,0,0,0,0,0,0,0,0,0,"","","","","","",null,0,null,null,"","","","","",""]
[47,47,null,null,null,"","",null,null,null,null,null,null,"",0,0,0,0,0,0,0,0,0,0,0,0,0,0,"","","","","","",null,0,null,null,"","","","","",""]
[48,48,null,null,null,"","",null,null,null,null,null,null,"",0,0,0,0,0,0,0,0,0,0,0,0,0,0,"","","","","","",null,0,null,null,"","","","","",""]
[49,49,null,null,null,"","",null,null,null,null,null,null,"",0,0,0,0,0,0,0,0,0,0,0,0,0,0,"","","","","","",null,0,null,null,"","","","","",""]
[50,50,null,null,null,"","",null,null,null,null,null,null,"",0,0,0,0,0,0,0,0,0,0,0,0,0,0,"","","","","","",null,0,null,null,"","","","","",""]
[51,51,null,null,null,"","",null,null,null,null,null,null,"",0,0,0,0,0,0,0,0,0,0,0,0,0,0,"","","","","","",null,0,null,null,"","","","","",""]
[52,52,null,null,null,"","",null,null,null,null,null,null,"",0,0,0,0,0,0,0,0,0,0,0,0,0,0,"","","","","","",null,0,null,null,"","","","","",""]
[53,53,null,null,null,"","",null,null,null,null,null,null,"",0,0,0,0,0,0,0,0,0,0,0,0,0,0,"","","","","","",null,0,null,null,"","","","","",""]
[54,54,null,null,null,"","",null,null,null,null,null,null,"",0,0,0,0,0,0,0,0,0,0,0,0,0,0,"","","","","","",null,0,null,null,"","","","","",""]
[55,55,null,null,null,"","",null,null,null,null,null,null,"",0,0,0,0,0,0,0,0,0,0,0,0,0,0,"","","","","","",null,0,null,null,"","","","","",""]
[56,56,null,null,null,"","",null,null,null,null,null,null,"",0,0,0,0,0,0,0,0,0,0,0,0,0,0,"","","","","","",null,0,null,null,"","","","","",""]
[57,57,null,null,null,"","",null,null,null,null,null,null,"",0,0,0,0,0,0,0,0,0,0,0,0,0,0,"","","","","","",null,0,null,null,"","","","","",""]
[58,58,null,null,null,"","",null,null,null,null,null,null,"",0,0,0,0,0,0,0,0,0,0,0,0,0,0,"","","","","","",null,0,null,null,"","","","","",""]
[59,59,null,null,null,"","",null,null,null,null,null,null,"",0,0,0,0,0,0,0,0,0,0,0,0,0,0,"","","","","","",null,0,null,null,"","","","","",""]
[60,60,null,null,null,"","",null,null,null,null,null,null,"",0,0,0,0,0,0,0,0,0,0,0,0,0,0,"","","","","","",null,0,null,null,"","","","","",""]
[61,61,null,null,null,"","",null,null,null,null,null,null,"",0,0,0,0,0,0,0,0,0,0,0,0,0,0,"","","","","","",null,0,null,null,"","","","","",""]
[62,62,null,null,null,"","",null,null,null,null,null,null,"",0,0,0,0,0,0,0,0,0,0,0,0,0,0,"","","","","","",null,0,null,null,"","","","","",""]
[63,63,null,null,null,"","",null,null,null,null,null,null,"",0,0,0,0,0,0,0,0,0,0,0,0,0,0,"","","","","","",null,0,null,null,"","","","","",""]
[64,64,null,null,null,"","",null,null,null,null,null,null,"",0,0,0,0,0,0,0,0,0,0,0,0,0,0,"","","","","","",null,0,null,null,"","","","","",""]
[65,65,null,null,null,{"$f":"IF(H72=\"\",\"\",VLOOKUP(H72,matrixtest,6,FALSE))","v":""},{"$f":"IF(H72=\"\",\"\",VLOOKUP(H72,matrixtest,5,FALSE))","v":""},null,null,null,null,null,null,{"$f":"IF(V72=0,\"\",VLOOKUP(V72,risico,2,FALSE))","v":""},0,{"$f":"IF(H72=\"\",0,VLOOKUP(H72,matrixtest,4,FALSE))","v":0},{"$f":"IF(I72=\"\",0,VLOOKUP(I72,matrixtest,4,FALSE))","v":0},{"$f":"IF(J72=\"\",0,VLOOKUP(J72,matrixtest,4,FALSE))","v":0},{"$f":"IF(K72=\"\",0,VLOOKUP(K72,matrixtest,4,FALSE))","v":0},{"$f":"IF(L72=\"\",0,VLOOKUP(L72,matrixtest,4,FALSE))","v":0},{"$f":"IF(M72=\"\",0,VLOOKUP(M72,matrixtest,4,FALSE))","v":0},0,{"$f":"IF(H72=\"\",0,VLOOKUP(H72,matrixtest,2,FALSE))","v":0},{"$f":"IF(I72=\"\",0,VLOOKUP(I72,matrixtest,2,FALSE))","v":0},{"$f":"IF(J72=\"\",0,VLOOKUP(J72,matrixtest,2,FALSE))","v":0},{"$f":"IF(K72=\"\",0,VLOOKUP(K72,matrixtest,2,FALSE))","v":0},{"$f":"IF(L72=\"\",0,VLOOKUP(L72,matrixtest,2,FALSE))","v":0},{"$f":"IF(M72=\"\",0,VLOOKUP(M72,matrixtest,2,FALSE))","v":0},{"$f":"IF(H72=\"\",\"\",VLOOKUP(H72,matrixtest,3,FALSE))","v":""},{"$f":"IF(I72=\"\",\"\",VLOOKUP(I72,matrixtest,3,FALSE))","v":""},{"$f":"IF(J72=\"\",\"\",VLOOKUP(J72,matrixtest,3,FALSE))","v":""},{"$f":"IF(K72=\"\",\"\",VLOOKUP(K72,matrixtest,3,FALSE))","v":""},{"$f":"IF(L72=\"\",\"\",VLOOKUP(L72,matrixtest,3,FALSE))","v":""},{"$f":"IF(M72=\"\",\"\",VLOOKUP(M72,matrixtest,3,FALSE))","v":""},null,0,null,null,{"$f":"IF($N72=$AM$7,_xlfn.TEXTJOIN($AM$6,,$B72,$C72),\"\")","v":""},{"$f":"IF($N72=$AN$7,_xlfn.TEXTJOIN($AM$6,,$B72,$C72),\"\")","v":""},{"$f":"IF($N72=$AO$7,_xlfn.TEXTJOIN($AM$6,,$B72,$C72),\"\")","v":""},{"$f":"IF($N72=$AP$7,_xlfn.TEXTJOIN($AM$6,,$B72,$C72),\"\")","v":""},{"$f":"IF($N72=$AQ$7,_xlfn.TEXTJOIN($AM$6,,$B72,$C72),\"\")","v":""},{"$f":"IF($N72=$AR$7,_xlfn.TEXTJOIN($AM$6,,$B72,$C72),\"\")","v":""}]
[{"$f":"O73+B73","v":66},66,null,null,null,"","",null,null,null,null,null,null,"",0,0,0,0,0,0,0,0,0,0,0,0,0,0,"","","","","","",null,0,null,null,"","","","","",""]
[67,67,null,null,null,"","",null,null,null,null,null,null,"",0,0,0,0,0,0,0,0,0,0,0,0,0,0,"","","","","","",null,{"$f":"AJ73+AI74","v":0},null,null,"","","","","",""]
[68,68,null,null,null,"","",null,null,null,null,null,null,"",0,0,0,0,0,0,0,0,0,0,0,0,0,0,"","","","","","",null,0,null,null,"","","","","",""]
[69,69,null,null,null,"","",null,null,null,null,null,null,"",0,0,0,0,0,0,0,0,0,0,0,0,0,0,"","","","","","",null,0,null,null,"","","","","",""]
[70,70,null,null,null,"","",null,null,null,null,null,null,"",0,0,0,0,0,0,0,0,0,0,0,0,0,0,"","","","","","",null,0,null,null,"","","","","",""]
[71,71,null,null,null,"","",null,null,null,null,null,null,"",0,0,0,0,0,0,0,0,0,0,0,0,0,0,"","","","","","",null,0,null,null,"","","","","",""]
[72,72,null,null,null,"","",null,null,null,null,null,null,"",0,0,0,0,0,0,0,0,0,0,0,0,0,0,"","","","","","",null,0,null,null,"","","","","",""]
[73,73,null,null,null,"","",null,null,null,null,null,null,"",0,0,0,0,0,0,0,0,0,0,0,0,0,0,"","","","","","",null,0,null,null,"","","","","",""]
[74,74,null,null,null,"","",null,null,null,null,null,null,"",0,0,0,0,0,0,0,0,0,0,0,0,0,0,"","","","","","",null,0,null,null,"","","","","",""]
[75,75,null,null,null,"","",null,null,null,null,null,null,"",0,0,0,0,0,0,0,0,0,0,0,0,0,0,"","","","","","",null,0,null,null,"","","","","",""]
[76,76,null,null,null,"","",null,null,null,null,null,null,"",0,0,0,0,0,0,0,0,0,0,0,0,0,0,"","","","","","",null,0,null,null,"","","","","",""]
[77,77,null,null,null,"","",null,null,null,null,null,null,"",0,0,0,0,0,0,0,0,0,0,0,0,0,0,"","","","","","",null,0,null,null,"","","","","",""]
[78,78,null,null,null,"","",null,null,null,null,null,null,"",0,0,0,0,0,0,0,0,0,0,0,0,0,0,"","","","","","",null,0,null,null,"","","","","",""]
[79,79,null,null,null,"","",null,null,null,null,null,null,"",0,0,0,0,0,0,0,0,0,0,0,0,0,0,"","","","","","",null,0,null,null,"","","","","",""]
[80,80,null,null,null,"","",null,null,null,null,null,null,"",0,0,0,0,0,0,0,0,0,0,0,0,0,0,"","","","","","",null,0,null,null,"","","","","",""]
[81,81,null,null,null,"","",null,null,null,null,null,null,"",0,0,0,0,0,0,0,0,0,0,0,0,0,0,"","","","","","",null,0,null,null,"","","","","",""]
[82,82,null,null,null,"","",null,null,null,null,null,null,"",{"$f":"SUM(W89:AB89)","v":0},0,0,0,0,0,0,{"$f":"MAX(P89:U89)","v":0},0,0,0,0,0,0,"","","","","","",null,0,null,null,"","","","","",""]
[83,83,null,null,null,"","",null,null,null,null,null,null,"",0,0,0,0,0,0,0,0,0,0,0,0,0,0,"","","","","","",null,0,null,null,"","","","","",""]
[84,84,null,null,null,"","",null,null,null,null,null,null,"",0,0,0,0,0,0,0,0,0,0,0,0,0,0,"","","","","","",null,0,null,null,"","","","","",""]
[85,85,null,null,null,"","",null,null,null,null,null,null,"",0,0,0,0,0,0,0,0,0,0,0,0,0,0,"","","","","","",null,0,null,null,"","","","","",""]
[86,86,null,null,null,"","",null,null,null,null,null,null,"",0,0,0,0,0,0,0,0,0,0,0,0,0,0,"","","","","","",null,0,null,null,"","","","","",""]
[87,87,null,null,null,"","",null,null,null,null,null,null,"",0,0,0,0,0,0,0,0,0,0,0,0,0,0,"","","","","","",null,0,null,null,"","","","","",""]
[88,88,null,null,null,"","",null,null,null,null,null,null,"",0,0,0,0,0,0,0,0,0,0,0,0,0,0,"","","","","","",null,0,null,null,"","","","","",""]
[89,89,null,null,null,"","",null,null,null,null,null,null,"",0,0,0,0,0,0,0,0,0,0,0,0,0,0,"","","","","","",null,0,null,null,"","","","","",""]
[90,90,null,null,null,"","",null,null,null,null,null,null,"",0,0,0,0,0,0,0,0,0,0,0,0,0,0,"","","","","","",null,0,null,null,"","","","","",""]
[91,91,null,null,null,"","",null,null,null,null,null,null,"",0,0,0,0,0,0,0,0,0,0,0,0,0,0,"","","","","","",null,0,null,null,"","","","","",""]
[92,92,null,null,null,"","",null,null,null,null,null,null,"",0,0,0,0,0,0,0,0,0,0,0,0,0,0,"","","","","","",null,0,null,null,"","","","","",""]
[93,93,null,null,null,"","",null,null,null,null,null,null,"",0,0,0,0,0,0,0,0,0,0,0,0,0,0,"","","","","","",null,0,null,null,"","","","","",""]
[94,94,null,null,null,"","",null,null,null,null,null,null,"",0,0,0,0,0,0,0,0,0,0,0,0,0,0,"","","","","","",null,0,null,null,"","","","","",""]
[95,95,null,null,null,"","",null,null,null,null,null,null,"",0,0,0,0,0,0,0,0,0,0,0,0,0,0,"","","","","","",null,0,null,null,"","","","","",""]
[96,96,null,null,null,"","",null,null,null,null,null,null,"",0,0,0,0,0,0,0,0,0,0,0,0,0,0,"","","","","","",null,0,null,null,"","","","","",""]
[97,97,null,null,null,"",{"$f":"IF(H104=\"\",\"\",VLOOKUP(H104,matrixtest,5,FALSE))","v":""},null,null,null,null,null,null,"",0,0,0,0,0,0,0,0,0,0,0,0,0,0,"","","","","","",null,0,null,null,"","","","","",""]
[98,98,null,null,null,"","",null,null,null,null,null,null,"",0,0,0,0,0,0,0,0,0,0,0,0,0,0,"","","","","","",null,0,null,null,"","","","","",""]
[99,99,null,null,null,"","",null,null,null,null,null,null,"",0,0,0,0,0,0,0,0,0,0,0,0,0,0,"","","","","","",null,0,null,null,"","","","","",""]
[100,100,null,null,null,"","",null,null,null,null,null,null,"",0,0,0,0,0,0,0,0,0,0,0,0,0,0,"","","","","","",null,0,null,null,"","","","","",""]
[null,null,null,null,null,null,null,null,null,null,null,null,null,null,null,null,null,null,null,null,null,null,null,null,null,null,null,null,null,null,null,null,null,null,null,null,"LEAM © 2024"]
[null,null,null,null,null,null,null,null,null,null,null,null,null,null,null,null,null,null,null,null,null,null,{"$f":"SUM(W8:W107)","v":0},0,0,0,0,0,null,null,null,null,null,"aantal maatregeln",{"$f":"100-COUNTBLANK(AI8:AI107)","v":0},null,null,"aantal",{"$f":"100-COUNTBLANK(AM8:AM107)","v":0},0,0,0,0,0]

{"sheet":"Stap 3 Maatregelen","index":3,"n_rows":109,"n_cols":52,"rows_kept":109,"cut":false,"hidden":false,"merged":[[2,11,2,13],[5,38,6,38],[5,16,6,16],[5,9,5,14],[5,2,6,2],[5,3,6,3],[5,7,6,7],[5,8,6,8],[5,5,6,5],[5,15,6,15],[5,18,6,18],[5,19,5,25],[5,26,5,31],[5,32,5,37]]}
[]
[]
[null,null,null,"Stap 3: Maatregelen"]
[]
[]
[null,null,"Risico-nummer","Risico",null,"Omschrijving van de maatregel",null,"Kans","per jaar","Risico coördinaten per bedrijfswaarde NA het nemen van de maatregel",null,null,null,null,null,"Risico","Toegevoegde waarde \nper Euro",null,"Nieuwe risico uitgedrukt in\nMonetair Equivalent","risicogetal",null,null,null,null,null,null,"Monetair",null,null,null,null,null,"Risico per bedrijfswaarde NA het nemen van maatregelen",null,null,null,null,null,"Wat verandert de maatregel aan het huidige risico?",". "]
["rekenkolom","mon equ",null,null,"Effect van het risico",null,"Kosten van de maatregel",null,null,{"$f":"'Stap 1 Risicomatrix'!C7","v":"Financieel"},{"$f":"'Stap 1 Risicomatrix'!D7","v":"Doelmatig"},{"$f":"'Stap 1 Risicomatrix'!E7","v":"Kwantiteit/Veilig"},{"$f":"'Stap 1 Risicomatrix'!F7","v":"Kwal leefomgeving"},{"$f":"'Stap 1 Risicomatrix'!G7","v":"Imago"},{"$f":"'Stap 1 Risicomatrix'!H7","v":"Circulair"},null,null,"Oude ME",null,"eur","com","kwan","kwal","im","con","hoogste","eur","com","kwan","kwal","im","con",{"$f":"J7","v":"Financieel"},"Doelmatig","Kwantiteit/Veilig","Kwal leefomgeving","Imago","Circulair",null,null,"O","ZH","H","M","L","V","O","ZH","H","M","L","V"]
[1,{"$f":"_xlfn.XLOOKUP(A8,'Stap 2 Register'!$AJ$8:$AJ$107,'Stap 2 Register'!$A$8:$A$107)","v":{"$error":"#N/A"}},{"$f":"_xlfn.IFNA(_xlfn.XLOOKUP(B8,'Stap 2 Register'!$A$8:$A$107,'Stap 2 Register'!$B$8:$B$107),\"\")","v":""},{"$f":"_xlfn.IFNA(_xlfn.XLOOKUP(B8,'Stap 2 Register'!$A$8:$A$107,'Stap 2 Register'!$C$8:$C$107),\"\")","v":""},{"$f":"_xlfn.IFNA(_xlfn.XLOOKUP(B8,'Stap 2 Register'!$A$8:$A$107,'Stap 2 Register'!$E$8:$E$107),\"\")","v":""},null,0,{"$f":"IF(J8=\"\",\"\",VLOOKUP(J8,matrixtest,6,FALSE))","v":""},{"$f":"IF(J8=\"\",\"\",VLOOKUP(J8,matrixtest,5,FALSE))","v":""},null,null,null,null,null,null,{"$f":"IF(Z8=0,\"\",VLOOKUP(Z8,risico,2,FALSE))","v":""},{"$f":"IF(G8=0,\"\",IF((R8-S8)<0,(G8/(R8-S8)),((R8-S8)/G8)))","v":""},{"$f":"VLOOKUP($B8,'Stap 2 Register'!$A$8:$AK$107,15,0)","v":{"$error":"#N/A"}},{"$f":"SUM(AA8:AF8)","v":0},{"$f":"IF(J8=\"\",0,VLOOKUP(J8,matrixtest,4,FALSE))","v":0},{"$f":"IF(K8=\"\",0,VLOOKUP(K8,matrixtest,4,FALSE))","v":0},{"$f":"IF(L8=\"\",0,VLOOKUP(L8,matrixtest,4,FALSE))","v":0},{"$f":"IF(M8=\"\",0,VLOOKUP(M8,matrixtest,4,FALSE))","v":0},{"$f":"IF(N8=\"\",0,VLOOKUP(N8,matrixtest,4,FALSE))","v":0},{"$f":"IF(O8=\"\",0,VLOOKUP(O8,matrixtest,4,FALSE))","v":0},{"$f":"MAX(T8:Y8)","v":0},{"$f":"IF(J8=\"\",0,VLOOKUP(J8,matrixtest,2,FALSE))","v":0},{"$f":"IF(K8=\"\",0,VLOOKUP(K8,matrixtest,2,FALSE))","v":0},{"$f":"IF(L8=\"\",0,VLOOKUP(L8,matrixtest,2,FALSE))","v":0},{"$f":"IF(M8=\"\",0,VLOOKUP(M8,matrixtest,2,FALSE))","v":0},{"$f":"IF(N8=\"\",0,VLOOKUP(N8,matrixtest,2,FALSE))","v":0},{"$f":"IF(O8=\"\",0,VLOOKUP(O8,matrixtest,2,FALSE))","v":0},{"$f":"IF(J8=\"\",\"\",VLOOKUP(J8,matrixtest,3,FALSE))","v":""},{"$f":"IF(K8=\"\",\"\",VLOOKUP(K8,matrixtest,3,FALSE))","v":""},{"$f":"IF(L8=\"\",\"\",VLOOKUP(L8,matrixtest,3,FALSE))","v":""},{"$f":"IF(M8=\"\",\"\",VLOOKUP(M8,matrixtest,3,FALSE))","v":""},{"$f":"IF(N8=\"\",\"\",VLOOKUP(N8,matrixtest,3,FALSE))","v":""},{"$f":"IF(O8=\"\",\"\",VLOOKUP(O8,matrixtest,3,FALSE))","v":""},null,null,{"$f":"IF($P8=$AO$7,_xlfn.TEXTJOIN($AN$6,,$C8,$D8),\"\")","v":""},{"$f":"IF($P8=$AP$7,_xlfn.TEXTJOIN($AN$6,,$C8,$D8),\"\")","v":""},{"$f":"IF($P8=$AQ$7,_xlfn.TEXTJOIN($AN$6,,$C8,$D8),\"\")","v":""},{"$f":"IF($P8=$AR$7,_xlfn.TEXTJOIN($AN$6,,$C8,$D8),\"\")","v":""},{"$f":"IF($P8=$AS$7,_xlfn.TEXTJOIN($AN$6,,$C8,$D8),\"\")","v":""},{"$f":"IF($P8=$AT$7,_xlfn.TEXTJOIN($AN$6,,$C8,$D8),\"\")","v":""},{"$f":"SUMIF($P$8:$P$107,AU7,$S$8:$S$107)","v":0},0,0,0,0,0]
[2,{"$f":"_xlfn.XLOOKUP(A9,'Stap 2 Register'!$AJ$8:$AJ$107,'Stap 2 Register'!$A$8:$A$107)","v":{"$error":"#N/A"}},{"$f":"_xlfn.IFNA(_xlfn.XLOOKUP(B9,'Stap 2 Register'!$A$8:$A$107,'Stap 2 Register'!$B$8:$B$107),\"\")","v":""},{"$f":"_xlfn.IFNA(_xlfn.XLOOKUP(B9,'Stap 2 Register'!$A$8:$A$107,'Stap 2 Register'!$C$8:$C$107),\"\")","v":""},{"$f":"_xlfn.IFNA(_xlfn.XLOOKUP(B9,'Stap 2 Register'!$A$8:$A$107,'Stap 2 Register'!$E$8:$E$107),\"\")","v":""},null,0,"","",null,null,null,null,null,null,"",{"$f":"IF(G9=0,\"\",IF((R9-S9)<0,(G9/(R9-S9)),((R9-S9)/G9)))","v":""},{"$f":"VLOOKUP($B9,'Stap 2 Register'!$A$8:$AK$107,15,0)","v":{"$error":"#N/A"}},{"$f":"SUM(AA9:AF9)","v":0},0,0,0,0,0,0,{"$f":"MAX(T9:Y9)","v":0},0,0,0,0,0,0,"","","","","","",null,null,{"$f":"IF($P9=$AO$7,_xlfn.TEXTJOIN($AN$6,,$C9,$D9),\"\")","v":""},{"$f":"IF($P9=$AP$7,_xlfn.TEXTJOIN($AN$6,,$C9,$D9),\"\")","v":""},{"$f":"IF($P9=$AQ$7,_xlfn.TEXTJOIN($AN$6,,$C9,$D9),\"\")","v":""},{"$f":"IF($P9=$AR$7,_xlfn.TEXTJOIN($AN$6,,$C9,$D9),\"\")","v":""},{"$f":"IF($P9=$AS$7,_xlfn.TEXTJOIN($AN$6,,$C9,$D9),\"\")","v":""},{"$f":"IF($P9=$AT$7,_xlfn.TEXTJOIN($AN$6,,$C9,$D9),\"\")","v":""}]
[3,{"$f":"_xlfn.XLOOKUP(A10,'Stap 2 Register'!$AJ$8:$AJ$107,'Stap 2 Register'!$A$8:$A$107)","v":{"$error":"#N/A"}},{"$f":"_xlfn.IFNA(_xlfn.XLOOKUP(B10,'Stap 2 Register'!$A$8:$A$107,'Stap 2 Register'!$B$8:$B$107),\"\")","v":""},{"$f":"_xlfn.IFNA(_xlfn.XLOOKUP(B10,'Stap 2 Register'!$A$8:$A$107,'Stap 2 Register'!$C$8:$C$107),\"\")","v":""},{"$f":"_xlfn.IFNA(_xlfn.XLOOKUP(B10,'Stap 2 Register'!$A$8:$A$107,'Stap 2 Register'!$E$8:$E$107),\"\")","v":""},null,0,"","",null,null,null,null,null,null,"","",{"$f":"VLOOKUP($B10,'Stap 2 Register'!$A$8:$AK$107,15,0)","v":{"$error":"#N/A"}},0,0,0,0,0,0,0,0,0,0,0,0,0,0,"","","","","","",null,null,"","","","","",""]
[4,{"$f":"_xlfn.XLOOKUP(A11,'Stap 2 Register'!$AJ$8:$AJ$107,'Stap 2 Register'!$A$8:$A$107)","v":{"$error":"#N/A"}},{"$f":"_xlfn.IFNA(_xlfn.XLOOKUP(B11,'Stap 2 Register'!$A$8:$A$107,'Stap 2 Register'!$B$8:$B$107),\"\")","v":""},{"$f":"_xlfn.IFNA(_xlfn.XLOOKUP(B11,'Stap 2 Register'!$A$8:$A$107,'Stap 2 Register'!$C$8:$C$107),\"\")","v":""},{"$f":"_xlfn.IFNA(_xlfn.XLOOKUP(B11,'Stap 2 Register'!$A$8:$A$107,'Stap 2 Register'!$E$8:$E$107),\"\")","v":""},null,0,"","",null,null,null,null,null,null,"","",{"$f":"VLOOKUP($B11,'Stap 2 Register'!$A$8:$AK$107,15,0)","v":{"$error":"#N/A"}},0,0,0,0,0,0,0,0,0,0,0,0,0,0,"","","","","","",null,null,"","","","","",""]
[5,{"$f":"_xlfn.XLOOKUP(A12,'Stap 2 Register'!$AJ$8:$AJ$107,'Stap 2 Register'!$A$8:$A$107)","v":{"$error":"#N/A"}},{"$f":"_xlfn.IFNA(_xlfn.XLOOKUP(B12,'Stap 2 Register'!$A$8:$A$107,'Stap 2 Register'!$B$8:$B$107),\"\")","v":""},{"$f":"_xlfn.IFNA(_xlfn.XLOOKUP(B12,'Stap 2 Register'!$A$8:$A$107,'Stap 2 Register'!$C$8:$C$107),\"\")","v":""},{"$f":"_xlfn.IFNA(_xlfn.XLOOKUP(B12,'Stap 2 Register'!$A$8:$A$107,'Stap 2 Register'!$E$8:$E$107),\"\")","v":""},null,0,"","",null,null,null,null,null,null,"","",{"$f":"VLOOKUP($B12,'Stap 2 Register'!$A$8:$AK$107,15,0)","v":{"$error":"#N/A"}},0,0,0,0,0,0,0,0,0,0,0,0,0,0,"","","","","","",null,null,"","","","","",""]
[6,{"$f":"_xlfn.XLOOKUP(A13,'Stap 2 Register'!$AJ$8:$AJ$107,'Stap 2 Register'!$A$8:$A$107)","v":{"$error":"#N/A"}},{"$f":"_xlfn.IFNA(_xlfn.XLOOKUP(B13,'Stap 2 Register'!$A$8:$A$107,'Stap 2 Register'!$B$8:$B$107),\"\")","v":""},{"$f":"_xlfn.IFNA(_xlfn.XLOOKUP(B13,'Stap 2 Register'!$A$8:$A$107,'Stap 2 Register'!$C$8:$C$107),\"\")","v":""},{"$f":"_xlfn.IFNA(_xlfn.XLOOKUP(B13,'Stap 2 Register'!$A$8:$A$107,'Stap 2 Register'!$E$8:$E$107),\"\")","v":""},null,0,"","",null,null,null,null,null,null,"","",{"$f":"VLOOKUP($B13,'Stap 2 Register'!$A$8:$AK$107,15,0)","v":{"$error":"#N/A"}},0,0,0,0,0,0,0,0,0,0,0,0,0,0,"","","","","","",null,null,"","","","","",""]
[7,{"$f":"_xlfn.XLOOKUP(A14,'Stap 2 Register'!$AJ$8:$AJ$107,'Stap 2 Register'!$A$8:$A$107)","v":{"$error":"#N/A"}},{"$f":"_xlfn.IFNA(_xlfn.XLOOKUP(B14,'Stap 2 Register'!$A$8:$A$107,'Stap 2 Register'!$B$8:$B$107),\"\")","v":""},{"$f":"_xlfn.IFNA(_xlfn.XLOOKUP(B14,'Stap 2 Register'!$A$8:$A$107,'Stap 2 Register'!$C$8:$C$107),\"\")","v":""},{"$f":"_xlfn.IFNA(_xlfn.XLOOKUP(B14,'Stap 2 Register'!$A$8:$A$107,'Stap 2 Register'!$E$8:$E$107),\"\")","v":""},null,0,"","",null,null,null,null,null,null,"","",{"$f":"VLOOKUP($B14,'Stap 2 Register'!$A$8:$AK$107,15,0)","v":{"$error":"#N/A"}},0,0,0,0,0,0,0,0,0,0,0,0,0,0,"","","","","","",null,null,"","","","","",""]
[8,{"$f":"_xlfn.XLOOKUP(A15,'Stap 2 Register'!$AJ$8:$AJ$107,'Stap 2 Register'!$A$8:$A$107)","v":{"$error":"#N/A"}},{"$f":"_xlfn.IFNA(_xlfn.XLOOKUP(B15,'Stap 2 Register'!$A$8:$A$107,'Stap 2 Register'!$B$8:$B$107),\"\")","v":""},{"$f":"_xlfn.IFNA(_xlfn.XLOOKUP(B15,'Stap 2 Register'!$A$8:$A$107,'Stap 2 Register'!$C$8:$C$107),\"\")","v":""},{"$f":"_xlfn.IFNA(_xlfn.XLOOKUP(B15,'Stap 2 Register'!$A$8:$A$107,'Stap 2 Register'!$E$8:$E$107),\"\")","v":""},null,0,"","",null,null,null,null,null,null,"","",{"$f":"VLOOKUP($B15,'Stap 2 Register'!$A$8:$AK$107,15,0)","v":{"$error":"#N/A"}},0,0,0,0,0,0,0,0,0,0,0,0,0,0,"","","","","","",null,null,"","","","","",""]
[9,{"$f":"_xlfn.XLOOKUP(A16,'Stap 2 Register'!$AJ$8:$AJ$107,'Stap 2 Register'!$A$8:$A$107)","v":{"$error":"#N/A"}},{"$f":"_xlfn.IFNA(_xlfn.XLOOKUP(B16,'Stap 2 Register'!$A$8:$A$107,'Stap 2 Register'!$B$8:$B$107),\"\")","v":""},{"$f":"_xlfn.IFNA(_xlfn.XLOOKUP(B16,'Stap 2 Register'!$A$8:$A$107,'Stap 2 Register'!$C$8:$C$107),\"\")","v":""},{"$f":"_xlfn.IFNA(_xlfn.XLOOKUP(B16,'Stap 2 Register'!$A$8:$A$107,'Stap 2 Register'!$E$8:$E$107),\"\")","v":""},null,0,"","",null,null,null,null,null,null,"","",{"$f":"VLOOKUP($B16,'Stap 2 Register'!$A$8:$AK$107,15,0)","v":{"$error":"#N/A"}},0,0,0,0,0,0,0,0,0,0,0,0,0,0,"","","","","","",null,null,"","","","","",""]
[10,{"$f":"_xlfn.XLOOKUP(A17,'Stap 2 Register'!$AJ$8:$AJ$107,'Stap 2 Register'!$A$8:$A$107)","v":{"$error":"#N/A"}},{"$f":"_xlfn.IFNA(_xlfn.XLOOKUP(B17,'Stap 2 Register'!$A$8:$A$107,'Stap 2 Register'!$B$8:$B$107),\"\")","v":""},{"$f":"_xlfn.IFNA(_xlfn.XLOOKUP(B17,'Stap 2 Register'!$A$8:$A$107,'Stap 2 Register'!$C$8:$C$107),\"\")","v":""},{"$f":"_xlfn.IFNA(_xlfn.XLOOKUP(B17,'Stap 2 Register'!$A$8:$A$107,'Stap 2 Register'!$E$8:$E$107),\"\")","v":""},null,0,"","",null,null,null,null,null,null,"","",{"$f":"VLOOKUP($B17,'Stap 2 Register'!$A$8:$AK$107,15,0)","v":{"$error":"#N/A"}},0,0,0,0,0,0,0,0,0,0,0,0,0,0,"","","","","","",null,null,"","","","","",""]
[11,{"$f":"_xlfn.XLOOKUP(A18,'Stap 2 Register'!$AJ$8:$AJ$107,'Stap 2 Register'!$A$8:$A$107)","v":{"$error":"#N/A"}},{"$f":"_xlfn.IFNA(_xlfn.XLOOKUP(B18,'Stap 2 Register'!$A$8:$A$107,'Stap 2 Register'!$B$8:$B$107),\"\")","v":""},{"$f":"_xlfn.IFNA(_xlfn.XLOOKUP(B18,'Stap 2 Register'!$A$8:$A$107,'Stap 2 Register'!$C$8:$C$107),\"\")","v":""},{"$f":"_xlfn.IFNA(_xlfn.XLOOKUP(B18,'Stap 2 Register'!$A$8:$A$107,'Stap 2 Register'!$E$8:$E$107),\"\")","v":""},null,0,"","",null,null,null,null,null,null,"","",{"$f":"VLOOKUP($B18,'Stap 2 Register'!$A$8:$AK$107,15,0)","v":{"$error":"#N/A"}},0,0,0,0,0,0,0,0,0,0,0,0,0,0,"","","","","","",null,null,"","","","","",""]
[12,{"$f":"_xlfn.XLOOKUP(A19,'Stap 2 Register'!$AJ$8:$AJ$107,'Stap 2 Register'!$A$8:$A$107)","v":{"$error":"#N/A"}},{"$f":"_xlfn.IFNA(_xlfn.XLOOKUP(B19,'Stap 2 Register'!$A$8:$A$107,'Stap 2 Register'!$B$8:$B$107),\"\")","v":""},{"$f":"_xlfn.IFNA(_xlfn.XLOOKUP(B19,'Stap 2 Register'!$A$8:$A$107,'Stap 2 Register'!$C$8:$C$107),\"\")","v":""},{"$f":"_xlfn.IFNA(_xlfn.XLOOKUP(B19,'Stap 2 Register'!$A$8:$A$107,'Stap 2 Register'!$E$8:$E$107),\"\")","v":""},null,0,"","",null,null,null,null,null,null,"","",{"$f":"VLOOKUP($B19,'Stap 2 Register'!$A$8:$AK$107,15,0)","v":{"$error":"#N/A"}},0,0,0,0,0,0,0,0,0,0,0,0,0,0,"","","","","","",null,null,"","","","","",""]
[13,{"$f":"_xlfn.XLOOKUP(A20,'Stap 2 Register'!$AJ$8:$AJ$107,'Stap 2 Register'!$A$8:$A$107)","v":{"$error":"#N/A"}},{"$f":"_xlfn.IFNA(_xlfn.XLOOKUP(B20,'Stap 2 Register'!$A$8:$A$107,'Stap 2 Register'!$B$8:$B$107),\"\")","v":""},{"$f":"_xlfn.IFNA(_xlfn.XLOOKUP(B20,'Stap 2 Register'!$A$8:$A$107,'Stap 2 Register'!$C$8:$C$107),\"\")","v":""},{"$f":"_xlfn.IFNA(_xlfn.XLOOKUP(B20,'Stap 2 Register'!$A$8:$A$107,'Stap 2 Register'!$E$8:$E$107),\"\")","v":""},null,0,"","",null,null,null,null,null,null,"","",{"$f":"VLOOKUP($B20,'Stap 2 Register'!$A$8:$AK$107,15,0)","v":{"$error":"#N/A"}},0,0,0,0,0,0,0,0,0,0,0,0,0,0,"","","","","","",null,null,"","","","","",""]
[14,{"$f":"_xlfn.XLOOKUP(A21,'Stap 2 Register'!$AJ$8:$AJ$107,'Stap 2 Register'!$A$8:$A$107)","v":{"$error":"#N/A"}},{"$f":"_xlfn.IFNA(_xlfn.XLOOKUP(B21,'Stap 2 Register'!$A$8:$A$107,'Stap 2 Register'!$B$8:$B$107),\"\")","v":""},{"$f":"_xlfn.IFNA(_xlfn.XLOOKUP(B21,'Stap 2 Register'!$A$8:$A$107,'Stap 2 Register'!$C$8:$C$107),\"\")","v":""},{"$f":"_xlfn.IFNA(_xlfn.XLOOKUP(B21,'Stap 2 Register'!$A$8:$A$107,'Stap 2 Register'!$E$8:$E$107),\"\")","v":""},null,0,"","",null,null,null,null,null,null,"","",{"$f":"VLOOKUP($B21,'Stap 2 Register'!$A$8:$AK$107,15,0)","v":{"$error":"#N/A"}},0,0,0,0,0,0,0,0,0,0,0,0,0,0,"","","","","","",null,null,"","","","","",""]
[15,{"$f":"_xlfn.XLOOKUP(A22,'Stap 2 Register'!$AJ$8:$AJ$107,'Stap 2 Register'!$A$8:$A$107)","v":{"$error":"#N/A"}},{"$f":"_xlfn.IFNA(_xlfn.XLOOKUP(B22,'Stap 2 Register'!$A$8:$A$107,'Stap 2 Register'!$B$8:$B$107),\"\")","v":""},{"$f":"_xlfn.IFNA(_xlfn.XLOOKUP(B22,'Stap 2 Register'!$A$8:$A$107,'Stap 2 Register'!$C$8:$C$107),\"\")","v":""},{"$f":"_xlfn.IFNA(_xlfn.XLOOKUP(B22,'Stap 2 Register'!$A$8:$A$107,'Stap 2 Register'!$E$8:$E$107),\"\")","v":""},null,0,"","",null,null,null,null,null,null,"","",{"$f":"VLOOKUP($B22,'Stap 2 Register'!$A$8:$AK$107,15,0)","v":{"$error":"#N/A"}},0,0,0,0,0,0,0,0,0,0,0,0,0,0,"","","","","","",null,null,"","","","","",""]
[16,{"$f":"_xlfn.XLOOKUP(A23,'Stap 2 Register'!$AJ$8:$AJ$107,'Stap 2 Register'!$A$8:$A$107)","v":{"$error":"#N/A"}},{"$f":"_xlfn.IFNA(_xlfn.XLOOKUP(B23,'Stap 2 Register'!$A$8:$A$107,'Stap 2 Register'!$B$8:$B$107),\"\")","v":""},{"$f":"_xlfn.IFNA(_xlfn.XLOOKUP(B23,'Stap 2 Register'!$A$8:$A$107,'Stap 2 Register'!$C$8:$C$107),\"\")","v":""},{"$f":"_xlfn.IFNA(_xlfn.XLOOKUP(B23,'Stap 2 Register'!$A$8:$A$107,'Stap 2 Register'!$E$8:$E$107),\"\")","v":""},null,0,"","",null,null,null,null,null,null,"","",{"$f":"VLOOKUP($B23,'Stap 2 Register'!$A$8:$AK$107,15,0)","v":{"$error":"#N/A"}},0,0,0,0,0,0,0,0,0,0,0,0,0,0,"","","","","","",null,null,"","","","","",""]
[17,{"$f":"_xlfn.XLOOKUP(A24,'Stap 2 Register'!$AJ$8:$AJ$107,'Stap 2 Register'!$A$8:$A$107)","v":{"$error":"#N/A"}},{"$f":"_xlfn.IFNA(_xlfn.XLOOKUP(B24,'Stap 2 Register'!$A$8:$A$107,'Stap 2 Register'!$B$8:$B$107),\"\")","v":""},{"$f":"_xlfn.IFNA(_xlfn.XLOOKUP(B24,'Stap 2 Register'!$A$8:$A$107,'Stap 2 Register'!$C$8:$C$107),\"\")","v":""},{"$f":"_xlfn.IFNA(_xlfn.XLOOKUP(B24,'Stap 2 Register'!$A$8:$A$107,'Stap 2 Register'!$E$8:$E$107),\"\")","v":""},null,0,"","",null,null,null,null,null,null,"","",{"$f":"VLOOKUP($B24,'Stap 2 Register'!$A$8:$AK$107,15,0)","v":{"$error":"#N/A"}},0,0,0,0,0,0,0,0,0,0,0,0,0,0,"","","","","","",null,null,"","","","","",""]
[18,{"$f":"_xlfn.XLOOKUP(A25,'Stap 2 Register'!$AJ$8:$AJ$107,'Stap 2 Register'!$A$8:$A$107)","v":{"$error":"#N/A"}},{"$f":"_xlfn.IFNA(_xlfn.XLOOKUP(B25,'Stap 2 Register'!$A$8:$A$107,'Stap 2 Register'!$B$8:$B$107),\"\")","v":""},{"$f":"_xlfn.IFNA(_xlfn.XLOOKUP(B25,'Stap 2 Register'!$A$8:$A$107,'Stap 2 Register'!$C$8:$C$107),\"\")","v":""},{"$f":"_xlfn.IFNA(_xlfn.XLOOKUP(B25,'Stap 2 Register'!$A$8:$A$107,'Stap 2 Register'!$E$8:$E$107),\"\")","v":""},null,0,"","",null,null,null,null,null,null,"","",{"$f":"VLOOKUP($B25,'Stap 2 Register'!$A$8:$AK$107,15,0)","v":{"$error":"#N/A"}},0,0,0,0,0,0,0,0,0,0,0,0,0,0,"","","","","","",null,null,"","","","","",""]
[19,{"$f":"_xlfn.XLOOKUP(A26,'Stap 2 Register'!$AJ$8:$AJ$107,'Stap 2 Register'!$A$8:$A$107)","v":{"$error":"#N/A"}},{"$f":"_xlfn.IFNA(_xlfn.XLOOKUP(B26,'Stap 2 Register'!$A$8:$A$107,'Stap 2 Register'!$B$8:$B$107),\"\")","v":""},{"$f":"_xlfn.IFNA(_xlfn.XLOOKUP(B26,'Stap 2 Register'!$A$8:$A$107,'Stap 2 Register'!$C$8:$C$107),\"\")","v":""},{"$f":"_xlfn.IFNA(_xlfn.XLOOKUP(B26,'Stap 2 Register'!$A$8:$A$107,'Stap 2 Register'!$E$8:$E$107),\"\")","v":""},null,0,"","",null,null,null,null,null,null,"","",{"$f":"VLOOKUP($B26,'Stap 2 Register'!$A$8:$AK$107,15,0)","v":{"$error":"#N/A"}},0,0,0,0,0,0,0,0,0,0,0,0,0,0,"","","","","","",null,null,"","","","","",""]
[20,{"$f":"_xlfn.XLOOKUP(A27,'Stap 2 Register'!$AJ$8:$AJ$107,'Stap 2 Register'!$A$8:$A$107)","v":{"$error":"#N/A"}},{"$f":"_xlfn.IFNA(_xlfn.XLOOKUP(B27,'Stap 2 Register'!$A$8:$A$107,'Stap 2 Register'!$B$8:$B$107),\"\")","v":""},{"$f":"_xlfn.IFNA(_xlfn.XLOOKUP(B27,'Stap 2 Register'!$A$8:$A$107,'Stap 2 Register'!$C$8:$C$107),\"\")","v":""},{"$f":"_xlfn.IFNA(_xlfn.XLOOKUP(B27,'Stap 2 Register'!$A$8:$A$107,'Stap 2 Register'!$E$8:$E$107),\"\")","v":""},null,0,"","",null,null,null,null,null,null,"","",{"$f":"VLOOKUP($B27,'Stap 2 Register'!$A$8:$AK$107,15,0)","v":{"$error":"#N/A"}},0,0,0,0,0,0,0,0,0,0,0,0,0,0,"","","","","","",null,null,"","","","","",""]
[21,{"$f":"_xlfn.XLOOKUP(A28,'Stap 2 Register'!$AJ$8:$AJ$107,'Stap 2 Register'!$A$8:$A$107)","v":{"$error":"#N/A"}},{"$f":"_xlfn.IFNA(_xlfn.XLOOKUP(B28,'Stap 2 Register'!$A$8:$A$107,'Stap 2 Register'!$B$8:$B$107),\"\")","v":""},{"$f":"_xlfn.IFNA(_xlfn.XLOOKUP(B28,'Stap 2 Register'!$A$8:$A$107,'Stap 2 Register'!$C$8:$C$107),\"\")","v":""},{"$f":"_xlfn.IFNA(_xlfn.XLOOKUP(B28,'Stap 2 Register'!$A$8:$A$107,'Stap 2 Register'!$E$8:$E$107),\"\")","v":""},null,0,"","",null,null,null,null,null,null,"","",{"$f":"VLOOKUP($B28,'Stap 2 Register'!$A$8:$AK$107,15,0)","v":{"$error":"#N/A"}},0,0,0,0,0,0,0,0,0,0,0,0,0,0,"","","","","","",null,null,"","","","","",""]
[22,{"$f":"_xlfn.XLOOKUP(A29,'Stap 2 Register'!$AJ$8:$AJ$107,'Stap 2 Register'!$A$8:$A$107)","v":{"$error":"#N/A"}},{"$f":"_xlfn.IFNA(_xlfn.XLOOKUP(B29,'Stap 2 Register'!$A$8:$A$107,'Stap 2 Register'!$B$8:$B$107),\"\")","v":""},{"$f":"_xlfn.IFNA(_xlfn.XLOOKUP(B29,'Stap 2 Register'!$A$8:$A$107,'Stap 2 Register'!$C$8:$C$107),\"\")","v":""},{"$f":"_xlfn.IFNA(_xlfn.XLOOKUP(B29,'Stap 2 Register'!$A$8:$A$107,'Stap 2 Register'!$E$8:$E$107),\"\")","v":""},null,0,"","",null,null,null,null,null,null,"","",{"$f":"VLOOKUP($B29,'Stap 2 Register'!$A$8:$AK$107,15,0)","v":{"$error":"#N/A"}},0,0,0,0,0,0,0,0,0,0,0,0,0,0,"","","","","","",null,null,"","","","","",""]
[23,{"$f":"_xlfn.XLOOKUP(A30,'Stap 2 Register'!$AJ$8:$AJ$107,'Stap 2 Register'!$A$8:$A$107)","v":{"$error":"#N/A"}},{"$f":"_xlfn.IFNA(_xlfn.XLOOKUP(B30,'Stap 2 Register'!$A$8:$A$107,'Stap 2 Register'!$B$8:$B$107),\"\")","v":""},{"$f":"_xlfn.IFNA(_xlfn.XLOOKUP(B30,'Stap 2 Register'!$A$8:$A$107,'Stap 2 Register'!$C$8:$C$107),\"\")","v":""},{"$f":"_xlfn.IFNA(_xlfn.XLOOKUP(B30,'Stap 2 Register'!$A$8:$A$107,'Stap 2 Register'!$E$8:$E$107),\"\")","v":""},null,0,"","",null,null,null,null,null,null,"","",{"$f":"VLOOKUP($B30,'Stap 2 Register'!$A$8:$AK$107,15,0)","v":{"$error":"#N/A"}},0,0,0,0,0,0,0,0,0,0,0,0,0,0,"","","","","","",null,null,"","","","","",""]
[24,{"$f":"_xlfn.XLOOKUP(A31,'Stap 2 Register'!$AJ$8:$AJ$107,'Stap 2 Register'!$A$8:$A$107)","v":{"$error":"#N/A"}},{"$f":"_xlfn.IFNA(_xlfn.XLOOKUP(B31,'Stap 2 Register'!$A$8:$A$107,'Stap 2 Register'!$B$8:$B$107),\"\")","v":""},{"$f":"_xlfn.IFNA(_xlfn.XLOOKUP(B31,'Stap 2 Register'!$A$8:$A$107,'Stap 2 Register'!$C$8:$C$107),\"\")","v":""},{"$f":"_xlfn.IFNA(_xlfn.XLOOKUP(B31,'Stap 2 Register'!$A$8:$A$107,'Stap 2 Register'!$E$8:$E$107),\"\")","v":""},null,0,"","",null,null,null,null,null,null,"","",{"$f":"VLOOKUP($B31,'Stap 2 Register'!$A$8:$AK$107,15,0)","v":{"$error":"#N/A"}},0,0,0,0,0,0,0,0,0,0,0,0,0,0,"","","","","","",null,null,"","","","","",""]
[25,{"$f":"_xlfn.XLOOKUP(A32,'Stap 2 Register'!$AJ$8:$AJ$107,'Stap 2 Register'!$A$8:$A$107)","v":{"$error":"#N/A"}},{"$f":"_xlfn.IFNA(_xlfn.XLOOKUP(B32,'Stap 2 Register'!$A$8:$A$107,'Stap 2 Register'!$B$8:$B$107),\"\")","v":""},{"$f":"_xlfn.IFNA(_xlfn.XLOOKUP(B32,'Stap 2 Register'!$A$8:$A$107,'Stap 2 Register'!$C$8:$C$107),\"\")","v":""},{"$f":"_xlfn.IFNA(_xlfn.XLOOKUP(B32,'Stap 2 Register'!$A$8:$A$107,'Stap 2 Register'!$E$8:$E$107),\"\")","v":""},null,0,"","",null,null,null,null,null,null,"","",{"$f":"VLOOKUP($B32,'Stap 2 Register'!$A$8:$AK$107,15,0)","v":{"$error":"#N/A"}},0,0,0,0,0,0,0,0,0,0,0,0,0,0,"","","","","","",null,null,"","","","","",""]
[26,{"$f":"_xlfn.XLOOKUP(A33,'Stap 2 Register'!$AJ$8:$AJ$107,'Stap 2 Register'!$A$8:$A$107)","v":{"$error":"#N/A"}},{"$f":"_xlfn.IFNA(_xlfn.XLOOKUP(B33,'Stap 2 Register'!$A$8:$A$107,'Stap 2 Register'!$B$8:$B$107),\"\")","v":""},{"$f":"_xlfn.IFNA(_xlfn.XLOOKUP(B33,'Stap 2 Register'!$A$8:$A$107,'Stap 2 Register'!$C$8:$C$107),\"\")","v":""},{"$f":"_xlfn.IFNA(_xlfn.XLOOKUP(B33,'Stap 2 Register'!$A$8:$A$107,'Stap 2 Register'!$E$8:$E$107),\"\")","v":""},null,0,"","",null,null,null,null,null,null,"","",{"$f":"VLOOKUP($B33,'Stap 2 Register'!$A$8:$AK$107,15,0)","v":{"$error":"#N/A"}},0,0,0,0,0,0,0,0,0,0,0,0,0,0,"","","","","","",null,null,"","","","","",""]
[27,{"$f":"_xlfn.XLOOKUP(A34,'Stap 2 Register'!$AJ$8:$AJ$107,'Stap 2 Register'!$A$8:$A$107)","v":{"$error":"#N/A"}},{"$f":"_xlfn.IFNA(_xlfn.XLOOKUP(B34,'Stap 2 Register'!$A$8:$A$107,'Stap 2 Register'!$B$8:$B$107),\"\")","v":""},{"$f":"_xlfn.IFNA(_xlfn.XLOOKUP(B34,'Stap 2 Register'!$A$8:$A$107,'Stap 2 Register'!$C$8:$C$107),\"\")","v":""},{"$f":"_xlfn.IFNA(_xlfn.XLOOKUP(B34,'Stap 2 Register'!$A$8:$A$107,'Stap 2 Register'!$E$8:$E$107),\"\")","v":""},null,0,"","",null,null,null,null,null,null,"","",{"$f":"VLOOKUP($B34,'Stap 2 Register'!$A$8:$AK$107,15,0)","v":{"$error":"#N/A"}},0,0,0,0,0,0,0,0,0,0,0,0,0,0,"","","","","","",null,null,"","","","","",""]
[28,{"$f":"_xlfn.XLOOKUP(A35,'Stap 2 Register'!$AJ$8:$AJ$107,'Stap 2 Register'!$A$8:$A$107)","v":{"$error":"#N/A"}},{"$f":"_xlfn.IFNA(_xlfn.XLOOKUP(B35,'Stap 2 Register'!$A$8:$A$107,'Stap 2 Register'!$B$8:$B$107),\"\")","v":""},{"$f":"_xlfn.IFNA(_xlfn.XLOOKUP(B35,'Stap 2 Register'!$A$8:$A$107,'Stap 2 Register'!$C$8:$C$107),\"\")","v":""},{"$f":"_xlfn.IFNA(_xlfn.XLOOKUP(B35,'Stap 2 Register'!$A$8:$A$107,'Stap 2 Register'!$E$8:$E$107),\"\")","v":""},null,0,"","",null,null,null,null,null,null,"","",{"$f":"VLOOKUP($B35,'Stap 2 Register'!$A$8:$AK$107,15,0)","v":{"$error":"#N/A"}},0,0,0,0,0,0,0,0,0,0,0,0,0,0,"","","","","","",null,null,"","","","","",""]
[29,{"$f":"_xlfn.XLOOKUP(A36,'Stap 2 Register'!$AJ$8:$AJ$107,'Stap 2 Register'!$A$8:$A$107)","v":{"$error":"#N/A"}},{"$f":"_xlfn.IFNA(_xlfn.XLOOKUP(B36,'Stap 2 Register'!$A$8:$A$107,'Stap 2 Register'!$B$8:$B$107),\"\")","v":""},{"$f":"_xlfn.IFNA(_xlfn.XLOOKUP(B36,'Stap 2 Register'!$A$8:$A$107,'Stap 2 Register'!$C$8:$C$107),\"\")","v":""},{"$f":"_xlfn.IFNA(_xlfn.XLOOKUP(B36,'Stap 2 Register'!$A$8:$A$107,'Stap 2 Register'!$E$8:$E$107),\"\")","v":""},null,0,"","",null,null,null,null,null,null,"","",{"$f":"VLOOKUP($B36,'Stap 2 Register'!$A$8:$AK$107,15,0)","v":{"$error":"#N/A"}},0,0,0,0,0,0,0,0,0,0,0,0,0,0,"","","","","","",null,null,"","","","","",""]
[30,{"$f":"_xlfn.XLOOKUP(A37,'Stap 2 Register'!$AJ$8:$AJ$107,'Stap 2 Register'!$A$8:$A$107)","v":{"$error":"#N/A"}},{"$f":"_xlfn.IFNA(_xlfn.XLOOKUP(B37,'Stap 2 Register'!$A$8:$A$107,'Stap 2 Register'!$B$8:$B$107),\"\")","v":""},{"$f":"_xlfn.IFNA(_xlfn.XLOOKUP(B37,'Stap 2 Register'!$A$8:$A$107,'Stap 2 Register'!$C$8:$C$107),\"\")","v":""},{"$f":"_xlfn.IFNA(_xlfn.XLOOKUP(B37,'Stap 2 Register'!$A$8:$A$107,'Stap 2 Register'!$E$8:$E$107),\"\")","v":""},null,0,"","",null,null,null,null,null,null,"","",{"$f":"VLOOKUP($B37,'Stap 2 Register'!$A$8:$AK$107,15,0)","v":{"$error":"#N/A"}},0,0,0,0,0,0,0,0,0,0,0,0,0,0,"","","","","","",null,null,"","","","","",""]
[31,{"$f":"_xlfn.XLOOKUP(A38,'Stap 2 Register'!$AJ$8:$AJ$107,'Stap 2 Register'!$A$8:$A$107)","v":{"$error":"#N/A"}},{"$f":"_xlfn.IFNA(_xlfn.XLOOKUP(B38,'Stap 2 Register'!$A$8:$A$107,'Stap 2 Register'!$B$8:$B$107),\"\")","v":""},{"$f":"_xlfn.IFNA(_xlfn.XLOOKUP(B38,'Stap 2 Register'!$A$8:$A$107,'Stap 2 Register'!$C$8:$C$107),\"\")","v":""},{"$f":"_xlfn.IFNA(_xlfn.XLOOKUP(B38,'Stap 2 Register'!$A$8:$A$107,'Stap 2 Register'!$E$8:$E$107),\"\")","v":""},null,0,"","",null,null,null,null,null,null,"","",{"$f":"VLOOKUP($B38,'Stap 2 Register'!$A$8:$AK$107,15,0)","v":{"$error":"#N/A"}},0,0,0,0,0,0,0,0,0,0,0,0,0,0,"","","","","","",null,null,"","","","","",""]
[32,{"$f":"_xlfn.XLOOKUP(A39,'Stap 2 Register'!$AJ$8:$AJ$107,'Stap 2 Register'!$A$8:$A$107)","v":{"$error":"#N/A"}},{"$f":"_xlfn.IFNA(_xlfn.XLOOKUP(B39,'Stap 2 Register'!$A$8:$A$107,'Stap 2 Register'!$B$8:$B$107),\"\")","v":""},{"$f":"_xlfn.IFNA(_xlfn.XLOOKUP(B39,'Stap 2 Register'!$A$8:$A$107,'Stap 2 Register'!$C$8:$C$107),\"\")","v":""},{"$f":"_xlfn.IFNA(_xlfn.XLOOKUP(B39,'Stap 2 Register'!$A$8:$A$107,'Stap 2 Register'!$E$8:$E$107),\"\")","v":""},null,0,"","",null,null,null,null,null,null,"","",{"$f":"VLOOKUP($B39,'Stap 2 Register'!$A$8:$AK$107,15,0)","v":{"$error":"#N/A"}},0,0,0,0,0,0,0,0,0,0,0,0,0,0,"","","","","","",null,null,"","","","","",""]
[33,{"$f":"_xlfn.XLOOKUP(A40,'Stap 2 Register'!$AJ$8:$AJ$107,'Stap 2 Register'!$A$8:$A$107)","v":{"$error":"#N/A"}},{"$f":"_xlfn.IFNA(_xlfn.XLOOKUP(B40,'Stap 2 Register'!$A$8:$A$107,'Stap 2 Register'!$B$8:$B$107),\"\")","v":""},{"$f":"_xlfn.IFNA(_xlfn.XLOOKUP(B40,'Stap 2 Register'!$A$8:$A$107,'Stap 2 Register'!$C$8:$C$107),\"\")","v":""},{"$f":"_xlfn.IFNA(_xlfn.XLOOKUP(B40,'Stap 2 Register'!$A$8:$A$107,'Stap 2 Register'!$E$8:$E$107),\"\")","v":""},null,0,{"$f":"IF(J40=\"\",\"\",VLOOKUP(J40,matrixtest,6,FALSE))","v":""},{"$f":"IF(J40=\"\",\"\",VLOOKUP(J40,matrixtest,5,FALSE))","v":""},null,null,null,null,null,null,"","",{"$f":"VLOOKUP($B40,'Stap 2 Register'!$A$8:$AK$107,15,0)","v":{"$error":"#N/A"}},0,{"$f":"IF(J40=\"\",0,VLOOKUP(J40,matrixtest,4,FALSE))","v":0},{"$f":"IF(K40=\"\",0,VLOOKUP(K40,matrixtest,4,FALSE))","v":0},{"$f":"IF(L40=\"\",0,VLOOKUP(L40,matrixtest,4,FALSE))","v":0},{"$f":"IF(M40=\"\",0,VLOOKUP(M40,matrixtest,4,FALSE))","v":0},{"$f":"IF(N40=\"\",0,VLOOKUP(N40,matrixtest,4,FALSE))","v":0},{"$f":"IF(O40=\"\",0,VLOOKUP(O40,matrixtest,4,FALSE))","v":0},0,{"$f":"IF(J40=\"\",0,VLOOKUP(J40,matrixtest,2,FALSE))","v":0},{"$f":"IF(K40=\"\",0,VLOOKUP(K40,matrixtest,2,FALSE))","v":0},{"$f":"IF(L40=\"\",0,VLOOKUP(L40,matrixtest,2,FALSE))","v":0},{"$f":"IF(M40=\"\",0,VLOOKUP(M40,matrixtest,2,FALSE))","v":0},{"$f":"IF(N40=\"\",0,VLOOKUP(N40,matrixtest,2,FALSE))","v":0},{"$f":"IF(O40=\"\",0,VLOOKUP(O40,matrixtest,2,FALSE))","v":0},{"$f":"IF(J40=\"\",\"\",VLOOKUP(J40,matrixtest,3,FALSE))","v":""},{"$f":"IF(K40=\"\",\"\",VLOOKUP(K40,matrixtest,3,FALSE))","v":""},{"$f":"IF(L40=\"\",\"\",VLOOKUP(L40,matrixtest,3,FALSE))","v":""},{"$f":"IF(M40=\"\",\"\",VLOOKUP(M40,matrixtest,3,FALSE))","v":""},{"$f":"IF(N40=\"\",\"\",VLOOKUP(N40,matrixtest,3,FALSE))","v":""},{"$f":"IF(O40=\"\",\"\",VLOOKUP(O40,matrixtest,3,FALSE))","v":""},null,null,"","","","","",""]
[34,{"$f":"_xlfn.XLOOKUP(A41,'Stap 2 Register'!$AJ$8:$AJ$107,'Stap 2 Register'!$A$8:$A$107)","v":{"$error":"#N/A"}},{"$f":"_xlfn.IFNA(_xlfn.XLOOKUP(B41,'Stap 2 Register'!$A$8:$A$107,'Stap 2 Register'!$B$8:$B$107),\"\")","v":""},{"$f":"_xlfn.IFNA(_xlfn.XLOOKUP(B41,'Stap 2 Register'!$A$8:$A$107,'Stap 2 Register'!$C$8:$C$107),\"\")","v":""},{"$f":"_xlfn.IFNA(_xlfn.XLOOKUP(B41,'Stap 2 Register'!$A$8:$A$107,'Stap 2 Register'!$E$8:$E$107),\"\")","v":""},null,0,"","",null,null,null,null,null,null,"","",{"$f":"VLOOKUP($B41,'Stap 2 Register'!$A$8:$AK$107,15,0)","v":{"$error":"#N/A"}},0,0,0,0,0,0,0,0,0,0,0,0,0,0,"","","","","","",null,null,"","","","","",""]
[35,{"$f":"_xlfn.XLOOKUP(A42,'Stap 2 Register'!$AJ$8:$AJ$107,'Stap 2 Register'!$A$8:$A$107)","v":{"$error":"#N/A"}},{"$f":"_xlfn.IFNA(_xlfn.XLOOKUP(B42,'Stap 2 Register'!$A$8:$A$107,'Stap 2 Register'!$B$8:$B$107),\"\")","v":""},{"$f":"_xlfn.IFNA(_xlfn.XLOOKUP(B42,'Stap 2 Register'!$A$8:$A$107,'Stap 2 Register'!$C$8:$C$107),\"\")","v":""},{"$f":"_xlfn.IFNA(_xlfn.XLOOKUP(B42,'Stap 2 Register'!$A$8:$A$107,'Stap 2 Register'!$E$8:$E$107),\"\")","v":""},null,0,"","",null,null,null,null,null,null,"","",{"$f":"VLOOKUP($B42,'Stap 2 Register'!$A$8:$AK$107,15,0)","v":{"$error":"#N/A"}},0,0,0,0,0,0,0,0,0,0,0,0,0,0,"","","","","","",null,null,"","","","","",""]
[36,{"$f":"_xlfn.XLOOKUP(A43,'Stap 2 Register'!$AJ$8:$AJ$107,'Stap 2 Register'!$A$8:$A$107)","v":{"$error":"#N/A"}},{"$f":"_xlfn.IFNA(_xlfn.XLOOKUP(B43,'Stap 2 Register'!$A$8:$A$107,'Stap 2 Register'!$B$8:$B$107),\"\")","v":""},{"$f":"_xlfn.IFNA(_xlfn.XLOOKUP(B43,'Stap 2 Register'!$A$8:$A$107,'Stap 2 Register'!$C$8:$C$107),\"\")","v":""},{"$f":"_xlfn.IFNA(_xlfn.XLOOKUP(B43,'Stap 2 Register'!$A$8:$A$107,'Stap 2 Register'!$E$8:$E$107),\"\")","v":""},null,0,"","",null,null,null,null,null,null,"","",{"$f":"VLOOKUP($B43,'Stap 2 Register'!$A$8:$AK$107,15,0)","v":{"$error":"#N/A"}},0,0,0,0,0,0,0,0,0,0,0,0,0,0,"","","","","","",null,null,"","","","","",""]
[37,{"$f":"_xlfn.XLOOKUP(A44,'Stap 2 Register'!$AJ$8:$AJ$107,'Stap 2 Register'!$A$8:$A$107)","v":{"$error":"#N/A"}},{"$f":"_xlfn.IFNA(_xlfn.XLOOKUP(B44,'Stap 2 Register'!$A$8:$A$107,'Stap 2 Register'!$B$8:$B$107),\"\")","v":""},{"$f":"_xlfn.IFNA(_xlfn.XLOOKUP(B44,'Stap 2 Register'!$A$8:$A$107,'Stap 2 Register'!$C$8:$C$107),\"\")","v":""},{"$f":"_xlfn.IFNA(_xlfn.XLOOKUP(B44,'Stap 2 Register'!$A$8:$A$107,'Stap 2 Register'!$E$8:$E$107),\"\")","v":""},null,0,"","",null,null,null,null,null,null,"","",{"$f":"VLOOKUP($B44,'Stap 2 Register'!$A$8:$AK$107,15,0)","v":{"$error":"#N/A"}},0,0,0,0,0,0,0,0,0,0,0,0,0,0,"","","","","","",null,null,"","","","","",""]
[38,{"$f":"_xlfn.XLOOKUP(A45,'Stap 2 Register'!$AJ$8:$AJ$107,'Stap 2 Register'!$A$8:$A$107)","v":{"$error":"#N/A"}},{"$f":"_xlfn.IFNA(_xlfn.XLOOKUP(B45,'Stap 2 Register'!$A$8:$A$107,'Stap 2 Register'!$B$8:$B$107),\"\")","v":""},{"$f":"_xlfn.IFNA(_xlfn.XLOOKUP(B45,'Stap 2 Register'!$A$8:$A$107,'Stap 2 Register'!$C$8:$C$107),\"\")","v":""},{"$f":"_xlfn.IFNA(_xlfn.XLOOKUP(B45,'Stap 2 Register'!$A$8:$A$107,'Stap 2 Register'!$E$8:$E$107),\"\")","v":""},null,0,"","",null,null,null,null,null,null,"","",{"$f":"VLOOKUP($B45,'Stap 2 Register'!$A$8:$AK$107,15,0)","v":{"$error":"#N/A"}},0,0,0,0,0,0,0,0,0,0,0,0,0,0,"","","","","","",null,null,"","","","","",""]
[39,{"$f":"_xlfn.XLOOKUP(A46,'Stap 2 Register'!$AJ$8:$AJ$107,'Stap 2 Register'!$A$8:$A$107)","v":{"$error":"#N/A"}},{"$f":"_xlfn.IFNA(_xlfn.XLOOKUP(B46,'Stap 2 Register'!$A$8:$A$107,'Stap 2 Register'!$B$8:$B$107),\"\")","v":""},{"$f":"_xlfn.IFNA(_xlfn.XLOOKUP(B46,'Stap 2 Register'!$A$8:$A$107,'Stap 2 Register'!$C$8:$C$107),\"\")","v":""},{"$f":"_xlfn.IFNA(_xlfn.XLOOKUP(B46,'Stap 2 Register'!$A$8:$A$107,'Stap 2 Register'!$E$8:$E$107),\"\")","v":""},null,0,"","",null,null,null,null,null,null,"","",{"$f":"VLOOKUP($B46,'Stap 2 Register'!$A$8:$AK$107,15,0)","v":{"$error":"#N/A"}},0,0,0,0,0,0,0,0,0,0,0,0,0,0,"","","","","","",null,null,"","","","","",""]
[40,{"$f":"_xlfn.XLOOKUP(A47,'Stap 2 Register'!$AJ$8:$AJ$107,'Stap 2 Register'!$A$8:$A$107)","v":{"$error":"#N/A"}},{"$f":"_xlfn.IFNA(_xlfn.XLOOKUP(B47,'Stap 2 Register'!$A$8:$A$107,'Stap 2 Register'!$B$8:$B$107),\"\")","v":""},{"$f":"_xlfn.IFNA(_xlfn.XLOOKUP(B47,'Stap 2 Register'!$A$8:$A$107,'Stap 2 Register'!$C$8:$C$107),\"\")","v":""},{"$f":"_xlfn.IFNA(_xlfn.XLOOKUP(B47,'Stap 2 Register'!$A$8:$A$107,'Stap 2 Register'!$E$8:$E$107),\"\")","v":""},null,0,"","",null,null,null,null,null,null,"","",{"$f":"VLOOKUP($B47,'Stap 2 Register'!$A$8:$AK$107,15,0)","v":{"$error":"#N/A"}},0,0,0,0,0,0,0,0,0,0,0,0,0,0,"","","","","","",null,null,"","","","","",""]
[41,{"$f":"_xlfn.XLOOKUP(A48,'Stap 2 Register'!$AJ$8:$AJ$107,'Stap 2 Register'!$A$8:$A$107)","v":{"$error":"#N/A"}},{"$f":"_xlfn.IFNA(_xlfn.XLOOKUP(B48,'Stap 2 Register'!$A$8:$A$107,'Stap 2 Register'!$B$8:$B$107),\"\")","v":""},{"$f":"_xlfn.IFNA(_xlfn.XLOOKUP(B48,'Stap 2 Register'!$A$8:$A$107,'Stap 2 Register'!$C$8:$C$107),\"\")","v":""},{"$f":"_xlfn.IFNA(_xlfn.XLOOKUP(B48,'Stap 2 Register'!$A$8:$A$107,'Stap 2 Register'!$E$8:$E$107),\"\")","v":""},null,0,"","",null,null,null,null,null,null,"","",{"$f":"VLOOKUP($B48,'Stap 2 Register'!$A$8:$AK$107,15,0)","v":{"$error":"#N/A"}},0,0,0,0,0,0,0,0,0,0,0,0,0,0,"","","","","","",null,null,"","","","","",""]
[42,{"$f":"_xlfn.XLOOKUP(A49,'Stap 2 Register'!$AJ$8:$AJ$107,'Stap 2 Register'!$A$8:$A$107)","v":{"$error":"#N/A"}},{"$f":"_xlfn.IFNA(_xlfn.XLOOKUP(B49,'Stap 2 Register'!$A$8:$A$107,'Stap 2 Register'!$B$8:$B$107),\"\")","v":""},{"$f":"_xlfn.IFNA(_xlfn.XLOOKUP(B49,'Stap 2 Register'!$A$8:$A$107,'Stap 2 Register'!$C$8:$C$107),\"\")","v":""},{"$f":"_xlfn.IFNA(_xlfn.XLOOKUP(B49,'Stap 2 Register'!$A$8:$A$107,'Stap 2 Register'!$E$8:$E$107),\"\")","v":""},null,0,"","",null,null,null,null,null,null,"","",{"$f":"VLOOKUP($B49,'Stap 2 Register'!$A$8:$AK$107,15,0)","v":{"$error":"#N/A"}},0,0,0,0,0,0,0,0,0,0,0,0,0,0,"","","","","","",null,null,"","","","","",""]
[43,{"$f":"_xlfn.XLOOKUP(A50,'Stap 2 Register'!$AJ$8:$AJ$107,'Stap 2 Register'!$A$8:$A$107)","v":{"$error":"#N/A"}},{"$f":"_xlfn.IFNA(_xlfn.XLOOKUP(B50,'Stap 2 Register'!$A$8:$A$107,'Stap 2 Register'!$B$8:$B$107),\"\")","v":""},{"$f":"_xlfn.IFNA(_xlfn.XLOOKUP(B50,'Stap 2 Register'!$A$8:$A$107,'Stap 2 Register'!$C$8:$C$107),\"\")","v":""},{"$f":"_xlfn.IFNA(_xlfn.XLOOKUP(B50,'Stap 2 Register'!$A$8:$A$107,'Stap 2 Register'!$E$8:$E$107),\"\")","v":""},null,0,"","",null,null,null,null,null,null,"","",{"$f":"VLOOKUP($B50,'Stap 2 Register'!$A$8:$AK$107,15,0)","v":{"$error":"#N/A"}},0,0,0,0,0,0,0,0,0,0,0,0,0,0,"","","","","","",null,null,"","","","","",""]
[44,{"$f":"_xlfn.XLOOKUP(A51,'Stap 2 Register'!$AJ$8:$AJ$107,'Stap 2 Register'!$A$8:$A$107)","v":{"$error":"#N/A"}},{"$f":"_xlfn.IFNA(_xlfn.XLOOKUP(B51,'Stap 2 Register'!$A$8:$A$107,'Stap 2 Register'!$B$8:$B$107),\"\")","v":""},{"$f":"_xlfn.IFNA(_xlfn.XLOOKUP(B51,'Stap 2 Register'!$A$8:$A$107,'Stap 2 Register'!$C$8:$C$107),\"\")","v":""},{"$f":"_xlfn.IFNA(_xlfn.XLOOKUP(B51,'Stap 2 Register'!$A$8:$A$107,'Stap 2 Register'!$E$8:$E$107),\"\")","v":""},null,0,"","",null,null,null,null,null,null,"","",{"$f":"VLOOKUP($B51,'Stap 2 Register'!$A$8:$AK$107,15,0)","v":{"$error":"#N/A"}},0,0,0,0,0,0,0,0,0,0,0,0,0,0,"","","","","","",null,null,"","","","","",""]
[45,{"$f":"_xlfn.XLOOKUP(A52,'Stap 2 Register'!$AJ$8:$AJ$107,'Stap 2 Register'!$A$8:$A$107)","v":{"$error":"#N/A"}},{"$f":"_xlfn.IFNA(_xlfn.XLOOKUP(B52,'Stap 2 Register'!$A$8:$A$107,'Stap 2 Register'!$B$8:$B$107),\"\")","v":""},{"$f":"_xlfn.IFNA(_xlfn.XLOOKUP(B52,'Stap 2 Register'!$A$8:$A$107,'Stap 2 Register'!$C$8:$C$107),\"\")","v":""},{"$f":"_xlfn.IFNA(_xlfn.XLOOKUP(B52,'Stap 2 Register'!$A$8:$A$107,'Stap 2 Register'!$E$8:$E$107),\"\")","v":""},null,0,"","",null,null,null,null,null,null,"","",{"$f":"VLOOKUP($B52,'Stap 2 Register'!$A$8:$AK$107,15,0)","v":{"$error":"#N/A"}},0,0,0,0,0,0,0,0,0,0,0,0,0,0,"","","","","","",null,null,"","","","","",""]
[46,{"$f":"_xlfn.XLOOKUP(A53,'Stap 2 Register'!$AJ$8:$AJ$107,'Stap 2 Register'!$A$8:$A$107)","v":{"$error":"#N/A"}},{"$f":"_xlfn.IFNA(_xlfn.XLOOKUP(B53,'Stap 2 Register'!$A$8:$A$107,'Stap 2 Register'!$B$8:$B$107),\"\")","v":""},{"$f":"_xlfn.IFNA(_xlfn.XLOOKUP(B53,'Stap 2 Register'!$A$8:$A$107,'Stap 2 Register'!$C$8:$C$107),\"\")","v":""},{"$f":"_xlfn.IFNA(_xlfn.XLOOKUP(B53,'Stap 2 Register'!$A$8:$A$107,'Stap 2 Register'!$E$8:$E$107),\"\")","v":""},null,0,"","",null,null,null,null,null,null,"","",{"$f":"VLOOKUP($B53,'Stap 2 Register'!$A$8:$AK$107,15,0)","v":{"$error":"#N/A"}},0,0,0,0,0,0,0,0,0,0,0,0,0,0,"","","","","","",null,null,"","","","","",""]
[47,{"$f":"_xlfn.XLOOKUP(A54,'Stap 2 Register'!$AJ$8:$AJ$107,'Stap 2 Register'!$A$8:$A$107)","v":{"$error":"#N/A"}},{"$f":"_xlfn.IFNA(_xlfn.XLOOKUP(B54,'Stap 2 Register'!$A$8:$A$107,'Stap 2 Register'!$B$8:$B$107),\"\")","v":""},{"$f":"_xlfn.IFNA(_xlfn.XLOOKUP(B54,'Stap 2 Register'!$A$8:$A$107,'Stap 2 Register'!$C$8:$C$107),\"\")","v":""},{"$f":"_xlfn.IFNA(_xlfn.XLOOKUP(B54,'Stap 2 Register'!$A$8:$A$107,'Stap 2 Register'!$E$8:$E$107),\"\")","v":""},null,0,"","",null,null,null,null,null,null,"","",{"$f":"VLOOKUP($B54,'Stap 2 Register'!$A$8:$AK$107,15,0)","v":{"$error":"#N/A"}},0,0,0,0,0,0,0,0,0,0,0,0,0,0,"","","","","","",null,null,"","","","","",""]
[48,{"$f":"_xlfn.XLOOKUP(A55,'Stap 2 Register'!$AJ$8:$AJ$107,'Stap 2 Register'!$A$8:$A$107)","v":{"$error":"#N/A"}},{"$f":"_xlfn.IFNA(_xlfn.XLOOKUP(B55,'Stap 2 Register'!$A$8:$A$107,'Stap 2 Register'!$B$8:$B$107),\"\")","v":""},{"$f":"_xlfn.IFNA(_xlfn.XLOOKUP(B55,'Stap 2 Register'!$A$8:$A$107,'Stap 2 Register'!$C$8:$C$107),\"\")","v":""},{"$f":"_xlfn.IFNA(_xlfn.XLOOKUP(B55,'Stap 2 Register'!$A$8:$A$107,'Stap 2 Register'!$E$8:$E$107),\"\")","v":""},null,0,"","",null,null,null,null,null,null,"","",{"$f":"VLOOKUP($B55,'Stap 2 Register'!$A$8:$AK$107,15,0)","v":{"$error":"#N/A"}},0,0,0,0,0,0,0,0,0,0,0,0,0,0,"","","","","","",null,null,"","","","","",""]
[49,{"$f":"_xlfn.XLOOKUP(A56,'Stap 2 Register'!$AJ$8:$AJ$107,'Stap 2 Register'!$A$8:$A$107)","v":{"$error":"#N/A"}},{"$f":"_xlfn.IFNA(_xlfn.XLOOKUP(B56,'Stap 2 Register'!$A$8:$A$107,'Stap 2 Register'!$B$8:$B$107),\"\")","v":""},{"$f":"_xlfn.IFNA(_xlfn.XLOOKUP(B56,'Stap 2 Register'!$A$8:$A$107,'Stap 2 Register'!$C$8:$C$107),\"\")","v":""},{"$f":"_xlfn.IFNA(_xlfn.XLOOKUP(B56,'Stap 2 Register'!$A$8:$A$107,'Stap 2 Register'!$E$8:$E$107),\"\")","v":""},null,0,"","",null,null,null,null,null,null,"","",{"$f":"VLOOKUP($B56,'Stap 2 Register'!$A$8:$AK$107,15,0)","v":{"$error":"#N/A"}},0,0,0,0,0,0,0,0,0,0,0,0,0,0,"","","","","","",null,null,"","","","","",""]
[50,{"$f":"_xlfn.XLOOKUP(A57,'Stap 2 Register'!$AJ$8:$AJ$107,'Stap 2 Register'!$A$8:$A$107)","v":{"$error":"#N/A"}},{"$f":"_xlfn.IFNA(_xlfn.XLOOKUP(B57,'Stap 2 Register'!$A$8:$A$107,'Stap 2 Register'!$B$8:$B$107),\"\")","v":""},{"$f":"_xlfn.IFNA(_xlfn.XLOOKUP(B57,'Stap 2 Register'!$A$8:$A$107,'Stap 2 Register'!$C$8:$C$107),\"\")","v":""},{"$f":"_xlfn.IFNA(_xlfn.XLOOKUP(B57,'Stap 2 Register'!$A$8:$A$107,'Stap 2 Register'!$E$8:$E$107),\"\")","v":""},null,0,"","",null,null,null,null,null,null,"","",{"$f":"VLOOKUP($B57,'Stap 2 Register'!$A$8:$AK$107,15,0)","v":{"$error":"#N/A"}},0,0,0,0,0,0,0,0,0,0,0,0,0,0,"","","","","","",null,null,"","","","","",""]
[51,{"$f":"_xlfn.XLOOKUP(A58,'Stap 2 Register'!$AJ$8:$AJ$107,'Stap 2 Register'!$A$8:$A$107)","v":{"$error":"#N/A"}},{"$f":"_xlfn.IFNA(_xlfn.XLOOKUP(B58,'Stap 2 Register'!$A$8:$A$107,'Stap 2 Register'!$B$8:$B$107),\"\")","v":""},{"$f":"_xlfn.IFNA(_xlfn.XLOOKUP(B58,'Stap 2 Register'!$A$8:$A$107,'Stap 2 Register'!$C$8:$C$107),\"\")","v":""},{"$f":"_xlfn.IFNA(_xlfn.XLOOKUP(B58,'Stap 2 Register'!$A$8:$A$107,'Stap 2 Register'!$E$8:$E$107),\"\")","v":""},null,0,"","",null,null,null,null,null,null,"","",{"$f":"VLOOKUP($B58,'Stap 2 Register'!$A$8:$AK$107,15,0)","v":{"$error":"#N/A"}},0,0,0,0,0,0,0,0,0,0,0,0,0,0,"","","","","","",null,null,"","","","","",""]
[52,{"$f":"_xlfn.XLOOKUP(A59,'Stap 2 Register'!$AJ$8:$AJ$107,'Stap 2 Register'!$A$8:$A$107)","v":{"$error":"#N/A"}},{"$f":"_xlfn.IFNA(_xlfn.XLOOKUP(B59,'Stap 2 Register'!$A$8:$A$107,'Stap 2 Register'!$B$8:$B$107),\"\")","v":""},{"$f":"_xlfn.IFNA(_xlfn.XLOOKUP(B59,'Stap 2 Register'!$A$8:$A$107,'Stap 2 Register'!$C$8:$C$107),\"\")","v":""},{"$f":"_xlfn.IFNA(_xlfn.XLOOKUP(B59,'Stap 2 Register'!$A$8:$A$107,'Stap 2 Register'!$E$8:$E$107),\"\")","v":""},null,0,"","",null,null,null,null,null,null,"","",{"$f":"VLOOKUP($B59,'Stap 2 Register'!$A$8:$AK$107,15,0)","v":{"$error":"#N/A"}},0,0,0,0,0,0,0,0,0,0,0,0,0,0,"","","","","","",null,null,"","","","","",""]
[53,{"$f":"_xlfn.XLOOKUP(A60,'Stap 2 Register'!$AJ$8:$AJ$107,'Stap 2 Register'!$A$8:$A$107)","v":{"$error":"#N/A"}},{"$f":"_xlfn.IFNA(_xlfn.XLOOKUP(B60,'Stap 2 Register'!$A$8:$A$107,'Stap 2 Register'!$B$8:$B$107),\"\")","v":""},{"$f":"_xlfn.IFNA(_xlfn.XLOOKUP(B60,'Stap 2 Register'!$A$8:$A$107,'Stap 2 Register'!$C$8:$C$107),\"\")","v":""},{"$f":"_xlfn.IFNA(_xlfn.XLOOKUP(B60,'Stap 2 Register'!$A$8:$A$107,'Stap 2 Register'!$E$8:$E$107),\"\")","v":""},null,0,"","",null,null,null,null,null,null,"","",{"$f":"VLOOKUP($B60,'Stap 2 Register'!$A$8:$AK$107,15,0)","v":{"$error":"#N/A"}},0,0,0,0,0,0,0,0,0,0,0,0,0,0,"","","","","","",null,null,"","","","","",""]
[54,{"$f":"_xlfn.XLOOKUP(A61,'Stap 2 Register'!$AJ$8:$AJ$107,'Stap 2 Register'!$A$8:$A$107)","v":{"$error":"#N/A"}},{"$f":"_xlfn.IFNA(_xlfn.XLOOKUP(B61,'Stap 2 Register'!$A$8:$A$107,'Stap 2 Register'!$B$8:$B$107),\"\")","v":""},{"$f":"_xlfn.IFNA(_xlfn.XLOOKUP(B61,'Stap 2 Register'!$A$8:$A$107,'Stap 2 Register'!$C$8:$C$107),\"\")","v":""},{"$f":"_xlfn.IFNA(_xlfn.XLOOKUP(B61,'Stap 2 Register'!$A$8:$A$107,'Stap 2 Register'!$E$8:$E$107),\"\")","v":""},null,0,"","",null,null,null,null,null,null,"","",{"$f":"VLOOKUP($B61,'Stap 2 Register'!$A$8:$AK$107,15,0)","v":{"$error":"#N/A"}},0,0,0,0,0,0,0,0,0,0,0,0,0,0,"","","","","","",null,null,"","","","","",""]
[55,{"$f":"_xlfn.XLOOKUP(A62,'Stap 2 Register'!$AJ$8:$AJ$107,'Stap 2 Register'!$A$8:$A$107)","v":{"$error":"#N/A"}},{"$f":"_xlfn.IFNA(_xlfn.XLOOKUP(B62,'Stap 2 Register'!$A$8:$A$107,'Stap 2 Register'!$B$8:$B$107),\"\")","v":""},{"$f":"_xlfn.IFNA(_xlfn.XLOOKUP(B62,'Stap 2 Register'!$A$8:$A$107,'Stap 2 Register'!$C$8:$C$107),\"\")","v":""},{"$f":"_xlfn.IFNA(_xlfn.XLOOKUP(B62,'Stap 2 Register'!$A$8:$A$107,'Stap 2 Register'!$E$8:$E$107),\"\")","v":""},null,0,"","",null,null,null,null,null,null,"","",{"$f":"VLOOKUP($B62,'Stap 2 Register'!$A$8:$AK$107,15,0)","v":{"$error":"#N/A"}},0,0,0,0,0,0,0,0,0,0,0,0,0,0,"","","","","","",null,null,"","","","","",""]
[56,{"$f":"_xlfn.XLOOKUP(A63,'Stap 2 Register'!$AJ$8:$AJ$107,'Stap 2 Register'!$A$8:$A$107)","v":{"$error":"#N/A"}},{"$f":"_xlfn.IFNA(_xlfn.XLOOKUP(B63,'Stap 2 Register'!$A$8:$A$107,'Stap 2 Register'!$B$8:$B$107),\"\")","v":""},{"$f":"_xlfn.IFNA(_xlfn.XLOOKUP(B63,'Stap 2 Register'!$A$8:$A$107,'Stap 2 Register'!$C$8:$C$107),\"\")","v":""},{"$f":"_xlfn.IFNA(_xlfn.XLOOKUP(B63,'Stap 2 Register'!$A$8:$A$107,'Stap 2 Register'!$E$8:$E$107),\"\")","v":""},null,0,"","",null,null,null,null,null,null,"","",{"$f":"VLOOKUP($B63,'Stap 2 Register'!$A$8:$AK$107,15,0)","v":{"$error":"#N/A"}},0,0,0,0,0,0,0,0,0,0,0,0,0,0,"","","","","","",null,null,"","","","","",""]
[57,{"$f":"_xlfn.XLOOKUP(A64,'Stap 2 Register'!$AJ$8:$AJ$107,'Stap 2 Register'!$A$8:$A$107)","v":{"$error":"#N/A"}},{"$f":"_xlfn.IFNA(_xlfn.XLOOKUP(B64,'Stap 2 Register'!$A$8:$A$107,'Stap 2 Register'!$B$8:$B$107),\"\")","v":""},{"$f":"_xlfn.IFNA(_xlfn.XLOOKUP(B64,'Stap 2 Register'!$A$8:$A$107,'Stap 2 Register'!$C$8:$C$107),\"\")","v":""},{"$f":"_xlfn.IFNA(_xlfn.XLOOKUP(B64,'Stap 2 Register'!$A$8:$A$107,'Stap 2 Register'!$E$8:$E$107),\"\")","v":""},null,0,"","",null,null,null,null,null,null,"","",{"$f":"VLOOKUP($B64,'Stap 2 Register'!$A$8:$AK$107,15,0)","v":{"$error":"#N/A"}},0,0,0,0,0,0,0,0,0,0,0,0,0,0,"","","","","","",null,null,"","","","","",""]
[58,{"$f":"_xlfn.XLOOKUP(A65,'Stap 2 Register'!$AJ$8:$AJ$107,'Stap 2 Register'!$A$8:$A$107)","v":{"$error":"#N/A"}},{"$f":"_xlfn.IFNA(_xlfn.XLOOKUP(B65,'Stap 2 Register'!$A$8:$A$107,'Stap 2 Register'!$B$8:$B$107),\"\")","v":""},{"$f":"_xlfn.IFNA(_xlfn.XLOOKUP(B65,'Stap 2 Register'!$A$8:$A$107,'Stap 2 Register'!$C$8:$C$107),\"\")","v":""},{"$f":"_xlfn.IFNA(_xlfn.XLOOKUP(B65,'Stap 2 Register'!$A$8:$A$107,'Stap 2 Register'!$E$8:$E$107),\"\")","v":""},null,0,"","",null,null,null,null,null,null,"","",{"$f":"VLOOKUP($B65,'Stap 2 Register'!$A$8:$AK$107,15,0)","v":{"$error":"#N/A"}},0,0,0,0,0,0,0,0,0,0,0,0,0,0,"","","","","","",null,null,"","","","","",""]
[59,{"$f":"_xlfn.XLOOKUP(A66,'Stap 2 Register'!$AJ$8:$AJ$107,'Stap 2 Register'!$A$8:$A$107)","v":{"$error":"#N/A"}},{"$f":"_xlfn.IFNA(_xlfn.XLOOKUP(B66,'Stap 2 Register'!$A$8:$A$107,'Stap 2 Register'!$B$8:$B$107),\"\")","v":""},{"$f":"_xlfn.IFNA(_xlfn.XLOOKUP(B66,'Stap 2 Register'!$A$8:$A$107,'Stap 2 Register'!$C$8:$C$107),\"\")","v":""},{"$f":"_xlfn.IFNA(_xlfn.XLOOKUP(B66,'Stap 2 Register'!$A$8:$A$107,'Stap 2 Register'!$E$8:$E$107),\"\")","v":""},null,0,"","",null,null,null,null,null,null,"","",{"$f":"VLOOKUP($B66,'Stap 2 Register'!$A$8:$AK$107,15,0)","v":{"$error":"#N/A"}},0,0,0,0,0,0,0,0,0,0,0,0,0,0,"","","","","","",null,null,"","","","","",""]
[60,{"$f":"_xlfn.XLOOKUP(A67,'Stap 2 Register'!$AJ$8:$AJ$107,'Stap 2 Register'!$A$8:$A$107)","v":{"$error":"#N/A"}},{"$f":"_xlfn.IFNA(_xlfn.XLOOKUP(B67,'Stap 2 Register'!$A$8:$A$107,'Stap 2 Register'!$B$8:$B$107),\"\")","v":""},{"$f":"_xlfn.IFNA(_xlfn.XLOOKUP(B67,'Stap 2 Register'!$A$8:$A$107,'Stap 2 Register'!$C$8:$C$107),\"\")","v":""},{"$f":"_xlfn.IFNA(_xlfn.XLOOKUP(B67,'Stap 2 Register'!$A$8:$A$107,'Stap 2 Register'!$E$8:$E$107),\"\")","v":""},null,0,"","",null,null,null,null,null,null,"","",{"$f":"VLOOKUP($B67,'Stap 2 Register'!$A$8:$AK$107,15,0)","v":{"$error":"#N/A"}},0,0,0,0,0,0,0,0,0,0,0,0,0,0,"","","","","","",null,null,"","","","","",""]
[61,{"$f":"_xlfn.XLOOKUP(A68,'Stap 2 Register'!$AJ$8:$AJ$107,'Stap 2 Register'!$A$8:$A$107)","v":{"$error":"#N/A"}},{"$f":"_xlfn.IFNA(_xlfn.XLOOKUP(B68,'Stap 2 Register'!$A$8:$A$107,'Stap 2 Register'!$B$8:$B$107),\"\")","v":""},{"$f":"_xlfn.IFNA(_xlfn.XLOOKUP(B68,'Stap 2 Register'!$A$8:$A$107,'Stap 2 Register'!$C$8:$C$107),\"\")","v":""},{"$f":"_xlfn.IFNA(_xlfn.XLOOKUP(B68,'Stap 2 Register'!$A$8:$A$107,'Stap 2 Register'!$E$8:$E$107),\"\")","v":""},null,0,"","",null,null,null,null,null,null,"","",{"$f":"VLOOKUP($B68,'Stap 2 Register'!$A$8:$AK$107,15,0)","v":{"$error":"#N/A"}},0,0,0,0,0,0,0,0,0,0,0,0,0,0,"","","","","","",null,null,"","","","","",""]
[62,{"$f":"_xlfn.XLOOKUP(A69,'Stap 2 Register'!$AJ$8:$AJ$107,'Stap 2 Register'!$A$8:$A$107)","v":{"$error":"#N/A"}},{"$f":"_xlfn.IFNA(_xlfn.XLOOKUP(B69,'Stap 2 Register'!$A$8:$A$107,'Stap 2 Register'!$B$8:$B$107),\"\")","v":""},{"$f":"_xlfn.IFNA(_xlfn.XLOOKUP(B69,'Stap 2 Register'!$A$8:$A$107,'Stap 2 Register'!$C$8:$C$107),\"\")","v":""},{"$f":"_xlfn.IFNA(_xlfn.XLOOKUP(B69,'Stap 2 Register'!$A$8:$A$107,'Stap 2 Register'!$E$8:$E$107),\"\")","v":""},null,0,"","",null,null,null,null,null,null,"","",{"$f":"VLOOKUP($B69,'Stap 2 Register'!$A$8:$AK$107,15,0)","v":{"$error":"#N/A"}},0,0,0,0,0,0,0,0,0,0,0,0,0,0,"","","","","","",null,null,"","","","","",""]
[63,{"$f":"_xlfn.XLOOKUP(A70,'Stap 2 Register'!$AJ$8:$AJ$107,'Stap 2 Register'!$A$8:$A$107)","v":{"$error":"#N/A"}},{"$f":"_xlfn.IFNA(_xlfn.XLOOKUP(B70,'Stap 2 Register'!$A$8:$A$107,'Stap 2 Register'!$B$8:$B$107),\"\")","v":""},{"$f":"_xlfn.IFNA(_xlfn.XLOOKUP(B70,'Stap 2 Register'!$A$8:$A$107,'Stap 2 Register'!$C$8:$C$107),\"\")","v":""},{"$f":"_xlfn.IFNA(_xlfn.XLOOKUP(B70,'Stap 2 Register'!$A$8:$A$107,'Stap 2 Register'!$E$8:$E$107),\"\")","v":""},null,0,"","",null,null,null,null,null,null,"","",{"$f":"VLOOKUP($B70,'Stap 2 Register'!$A$8:$AK$107,15,0)","v":{"$error":"#N/A"}},0,0,0,0,0,0,0,0,0,0,0,0,0,0,"","","","","","",null,null,"","","","","",""]
[64,{"$f":"_xlfn.XLOOKUP(A71,'Stap 2 Register'!$AJ$8:$AJ$107,'Stap 2 Register'!$A$8:$A$107)","v":{"$error":"#N/A"}},{"$f":"_xlfn.IFNA(_xlfn.XLOOKUP(B71,'Stap 2 Register'!$A$8:$A$107,'Stap 2 Register'!$B$8:$B$107),\"\")","v":""},{"$f":"_xlfn.IFNA(_xlfn.XLOOKUP(B71,'Stap 2 Register'!$A$8:$A$107,'Stap 2 Register'!$C$8:$C$107),\"\")","v":""},{"$f":"_xlfn.IFNA(_xlfn.XLOOKUP(B71,'Stap 2 Register'!$A$8:$A$107,'Stap 2 Register'!$E$8:$E$107),\"\")","v":""},null,0,"","",null,null,null,null,null,null,"","",{"$f":"VLOOKUP($B71,'Stap 2 Register'!$A$8:$AK$107,15,0)","v":{"$error":"#N/A"}},0,0,0,0,0,0,0,0,0,0,0,0,0,0,"","","","","","",null,null,"","","","","",""]
[65,{"$f":"_xlfn.XLOOKUP(A72,'Stap 2 Register'!$AJ$8:$AJ$107,'Stap 2 Register'!$A$8:$A$107)","v":{"$error":"#N/A"}},{"$f":"_xlfn.IFNA(_xlfn.XLOOKUP(B72,'Stap 2 Register'!$A$8:$A$107,'Stap 2 Register'!$B$8:$B$107),\"\")","v":""},{"$f":"_xlfn.IFNA(_xlfn.XLOOKUP(B72,'Stap 2 Register'!$A$8:$A$107,'Stap 2 Register'!$C$8:$C$107),\"\")","v":""},{"$f":"_xlfn.IFNA(_xlfn.XLOOKUP(B72,'Stap 2 Register'!$A$8:$A$107,'Stap 2 Register'!$E$8:$E$107),\"\")","v":""},null,0,{"$f":"IF(J72=\"\",\"\",VLOOKUP(J72,matrixtest,6,FALSE))","v":""},{"$f":"IF(J72=\"\",\"\",VLOOKUP(J72,matrixtest,5,FALSE))","v":""},null,null,null,null,null,null,{"$f":"IF(Z72=0,\"\",VLOOKUP(Z72,risico,2,FALSE))","v":""},"",{"$f":"VLOOKUP($B72,'Stap 2 Register'!$A$8:$AK$107,15,0)","v":{"$error":"#N/A"}},0,{"$f":"IF(J72=\"\",0,VLOOKUP(J72,matrixtest,4,FALSE))","v":0},{"$f":"IF(K72=\"\",0,VLOOKUP(K72,matrixtest,4,FALSE))","v":0},{"$f":"IF(L72=\"\",0,VLOOKUP(L72,matrixtest,4,FALSE))","v":0},{"$f":"IF(M72=\"\",0,VLOOKUP(M72,matrixtest,4,FALSE))","v":0},{"$f":"IF(N72=\"\",0,VLOOKUP(N72,matrixtest,4,FALSE))","v":0},{"$f":"IF(O72=\"\",0,VLOOKUP(O72,matrixtest,4,FALSE))","v":0},0,{"$f":"IF(J72=\"\",0,VLOOKUP(J72,matrixtest,2,FALSE))","v":0},{"$f":"IF(K72=\"\",0,VLOOKUP(K72,matrixtest,2,FALSE))","v":0},{"$f":"IF(L72=\"\",0,VLOOKUP(L72,matrixtest,2,FALSE))","v":0},{"$f":"IF(M72=\"\",0,VLOOKUP(M72,matrixtest,2,FALSE))","v":0},{"$f":"IF(N72=\"\",0,VLOOKUP(N72,matrixtest,2,FALSE))","v":0},{"$f":"IF(O72=\"\",0,VLOOKUP(O72,matrixtest,2,FALSE))","v":0},{"$f":"IF(J72=\"\",\"\",VLOOKUP(J72,matrixtest,3,FALSE))","v":""},{"$f":"IF(K72=\"\",\"\",VLOOKUP(K72,matrixtest,3,FALSE))","v":""},{"$f":"IF(L72=\"\",\"\",VLOOKUP(L72,matrixtest,3,FALSE))","v":""},{"$f":"IF(M72=\"\",\"\",VLOOKUP(M72,matrixtest,3,FALSE))","v":""},{"$f":"IF(N72=\"\",\"\",VLOOKUP(N72,matrixtest,3,FALSE))","v":""},{"$f":"IF(O72=\"\",\"\",VLOOKUP(O72,matrixtest,3,FALSE))","v":""},null,null,"","","","","",""]
[66,{"$f":"_xlfn.XLOOKUP(A73,'Stap 2 Register'!$AJ$8:$AJ$107,'Stap 2 Register'!$A$8:$A$107)","v":{"$error":"#N/A"}},{"$f":"_xlfn.IFNA(_xlfn.XLOOKUP(B73,'Stap 2 Register'!$A$8:$A$107,'Stap 2 Register'!$B$8:$B$107),\"\")","v":""},{"$f":"_xlfn.IFNA(_xlfn.XLOOKUP(B73,'Stap 2 Register'!$A$8:$A$107,'Stap 2 Register'!$C$8:$C$107),\"\")","v":""},{"$f":"_xlfn.IFNA(_xlfn.XLOOKUP(B73,'Stap 2 Register'!$A$8:$A$107,'Stap 2 Register'!$E$8:$E$107),\"\")","v":""},null,0,"","",null,null,null,null,null,null,"",{"$f":"IF(G73=0,\"\",IF((R73-S73)<0,(G73/(R73-S73)),((R73-S73)/G73)))","v":""},{"$f":"VLOOKUP($B73,'Stap 2 Register'!$A$8:$AK$107,15,0)","v":{"$error":"#N/A"}},{"$f":"SUM(AA73:AF73)","v":0},0,0,0,0,0,0,{"$f":"MAX(T73:Y73)","v":0},0,0,0,0,0,0,"","","","","","",null,null,{"$f":"IF($P73=$AO$7,_xlfn.TEXTJOIN($AN$6,,$C73,$D73),\"\")","v":""},{"$f":"IF($P73=$AP$7,_xlfn.TEXTJOIN($AN$6,,$C73,$D73),\"\")","v":""},{"$f":"IF($P73=$AQ$7,_xlfn.TEXTJOIN($AN$6,,$C73,$D73),\"\")","v":""},{"$f":"IF($P73=$AR$7,_xlfn.TEXTJOIN($AN$6,,$C73,$D73),\"\")","v":""},{"$f":"IF($P73=$AS$7,_xlfn.TEXTJOIN($AN$6,,$C73,$D73),\"\")","v":""},{"$f":"IF($P73=$AT$7,_xlfn.TEXTJOIN($AN$6,,$C73,$D73),\"\")","v":""}]
[67,{"$f":"_xlfn.XLOOKUP(A74,'Stap 2 Register'!$AJ$8:$AJ$107,'Stap 2 Register'!$A$8:$A$107)","v":{"$error":"#N/A"}},{"$f":"_xlfn.IFNA(_xlfn.XLOOKUP(B74,'Stap 2 Register'!$A$8:$A$107,'Stap 2 Register'!$B$8:$B$107),\"\")","v":""},{"$f":"_xlfn.IFNA(_xlfn.XLOOKUP(B74,'Stap 2 Register'!$A$8:$A$107,'Stap 2 Register'!$C$8:$C$107),\"\")","v":""},{"$f":"_xlfn.IFNA(_xlfn.XLOOKUP(B74,'Stap 2 Register'!$A$8:$A$107,'Stap 2 Register'!$E$8:$E$107),\"\")","v":""},null,0,"","",null,null,null,null,null,null,"","",{"$f":"VLOOKUP($B74,'Stap 2 Register'!$A$8:$AK$107,15,0)","v":{"$error":"#N/A"}},0,0,0,0,0,0,0,0,0,0,0,0,0,0,"","","","","","",null,null,"","","","","",""]
[68,{"$f":"_xlfn.XLOOKUP(A75,'Stap 2 Register'!$AJ$8:$AJ$107,'Stap 2 Register'!$A$8:$A$107)","v":{"$error":"#N/A"}},{"$f":"_xlfn.IFNA(_xlfn.XLOOKUP(B75,'Stap 2 Register'!$A$8:$A$107,'Stap 2 Register'!$B$8:$B$107),\"\")","v":""},{"$f":"_xlfn.IFNA(_xlfn.XLOOKUP(B75,'Stap 2 Register'!$A$8:$A$107,'Stap 2 Register'!$C$8:$C$107),\"\")","v":""},{"$f":"_xlfn.IFNA(_xlfn.XLOOKUP(B75,'Stap 2 Register'!$A$8:$A$107,'Stap 2 Register'!$E$8:$E$107),\"\")","v":""},null,0,"","",null,null,null,null,null,null,"","",{"$f":"VLOOKUP($B75,'Stap 2 Register'!$A$8:$AK$107,15,0)","v":{"$error":"#N/A"}},0,0,0,0,0,0,0,0,0,0,0,0,0,0,"","","","","","",null,null,"","","","","",""]
[69,{"$f":"_xlfn.XLOOKUP(A76,'Stap 2 Register'!$AJ$8:$AJ$107,'Stap 2 Register'!$A$8:$A$107)","v":{"$error":"#N/A"}},{"$f":"_xlfn.IFNA(_xlfn.XLOOKUP(B76,'Stap 2 Register'!$A$8:$A$107,'Stap 2 Register'!$B$8:$B$107),\"\")","v":""},{"$f":"_xlfn.IFNA(_xlfn.XLOOKUP(B76,'Stap 2 Register'!$A$8:$A$107,'Stap 2 Register'!$C$8:$C$107),\"\")","v":""},{"$f":"_xlfn.IFNA(_xlfn.XLOOKUP(B76,'Stap 2 Register'!$A$8:$A$107,'Stap 2 Register'!$E$8:$E$107),\"\")","v":""},null,0,"","",null,null,null,null,null,null,"","",{"$f":"VLOOKUP($B76,'Stap 2 Register'!$A$8:$AK$107,15,0)","v":{"$error":"#N/A"}},0,0,0,0,0,0,0,0,0,0,0,0,0,0,"","","","","","",null,null,"","","","","",""]
[70,{"$f":"_xlfn.XLOOKUP(A77,'Stap 2 Register'!$AJ$8:$AJ$107,'Stap 2 Register'!$A$8:$A$107)","v":{"$error":"#N/A"}},{"$f":"_xlfn.IFNA(_xlfn.XLOOKUP(B77,'Stap 2 Register'!$A$8:$A$107,'Stap 2 Register'!$B$8:$B$107),\"\")","v":""},{"$f":"_xlfn.IFNA(_xlfn.XLOOKUP(B77,'Stap 2 Register'!$A$8:$A$107,'Stap 2 Register'!$C$8:$C$107),\"\")","v":""},{"$f":"_xlfn.IFNA(_xlfn.XLOOKUP(B77,'Stap 2 Register'!$A$8:$A$107,'Stap 2 Register'!$E$8:$E$107),\"\")","v":""},null,0,"","",null,null,null,null,null,null,"","",{"$f":"VLOOKUP($B77,'Stap 2 Register'!$A$8:$AK$107,15,0)","v":{"$error":"#N/A"}},0,0,0,0,0,0,0,0,0,0,0,0,0,0,"","","","","","",null,null,"","","","","",""]
[71,{"$f":"_xlfn.XLOOKUP(A78,'Stap 2 Register'!$AJ$8:$AJ$107,'Stap 2 Register'!$A$8:$A$107)","v":{"$error":"#N/A"}},{"$f":"_xlfn.IFNA(_xlfn.XLOOKUP(B78,'Stap 2 Register'!$A$8:$A$107,'Stap 2 Register'!$B$8:$B$107),\"\")","v":""},{"$f":"_xlfn.IFNA(_xlfn.XLOOKUP(B78,'Stap 2 Register'!$A$8:$A$107,'Stap 2 Register'!$C$8:$C$107),\"\")","v":""},{"$f":"_xlfn.IFNA(_xlfn.XLOOKUP(B78,'Stap 2 Register'!$A$8:$A$107,'Stap 2 Register'!$E$8:$E$107),\"\")","v":""},null,0,"","",null,null,null,null,null,null,"","",{"$f":"VLOOKUP($B78,'Stap 2 Register'!$A$8:$AK$107,15,0)","v":{"$error":"#N/A"}},0,0,0,0,0,0,0,0,0,0,0,0,0,0,"","","","","","",null,null,"","","","","",""]
[72,{"$f":"_xlfn.XLOOKUP(A79,'Stap 2 Register'!$AJ$8:$AJ$107,'Stap 2 Register'!$A$8:$A$107)","v":{"$error":"#N/A"}},{"$f":"_xlfn.IFNA(_xlfn.XLOOKUP(B79,'Stap 2 Register'!$A$8:$A$107,'Stap 2 Register'!$B$8:$B$107),\"\")","v":""},{"$f":"_xlfn.IFNA(_xlfn.XLOOKUP(B79,'Stap 2 Register'!$A$8:$A$107,'Stap 2 Register'!$C$8:$C$107),\"\")","v":""},{"$f":"_xlfn.IFNA(_xlfn.XLOOKUP(B79,'Stap 2 Register'!$A$8:$A$107,'Stap 2 Register'!$E$8:$E$107),\"\")","v":""},null,0,"","",null,null,null,null,null,null,"","",{"$f":"VLOOKUP($B79,'Stap 2 Register'!$A$8:$AK$107,15,0)","v":{"$error":"#N/A"}},0,0,0,0,0,0,0,0,0,0,0,0,0,0,"","","","","","",null,null,"","","","","",""]
[73,{"$f":"_xlfn.XLOOKUP(A80,'Stap 2 Register'!$AJ$8:$AJ$107,'Stap 2 Register'!$A$8:$A$107)","v":{"$error":"#N/A"}},{"$f":"_xlfn.IFNA(_xlfn.XLOOKUP(B80,'Stap 2 Register'!$A$8:$A$107,'Stap 2 Register'!$B$8:$B$107),\"\")","v":""},{"$f":"_xlfn.IFNA(_xlfn.XLOOKUP(B80,'Stap 2 Register'!$A$8:$A$107,'Stap 2 Register'!$C$8:$C$107),\"\")","v":""},{"$f":"_xlfn.IFNA(_xlfn.XLOOKUP(B80,'Stap 2 Register'!$A$8:$A$107,'Stap 2 Register'!$E$8:$E$107),\"\")","v":""},null,0,"","",null,null,null,null,null,null,"","",{"$f":"VLOOKUP($B80,'Stap 2 Register'!$A$8:$AK$107,15,0)","v":{"$error":"#N/A"}},0,0,0,0,0,0,0,0,0,0,0,0,0,0,"","","","","","",null,null,"","","","","",""]
[74,{"$f":"_xlfn.XLOOKUP(A81,'Stap 2 Register'!$AJ$8:$AJ$107,'Stap 2 Register'!$A$8:$A$107)","v":{"$error":"#N/A"}},{"$f":"_xlfn.IFNA(_xlfn.XLOOKUP(B81,'Stap 2 Register'!$A$8:$A$107,'Stap 2 Register'!$B$8:$B$107),\"\")","v":""},{"$f":"_xlfn.IFNA(_xlfn.XLOOKUP(B81,'Stap 2 Register'!$A$8:$A$107,'Stap 2 Register'!$C$8:$C$107),\"\")","v":""},{"$f":"_xlfn.IFNA(_xlfn.XLOOKUP(B81,'Stap 2 Register'!$A$8:$A$107,'Stap 2 Register'!$E$8:$E$107),\"\")","v":""},null,0,"","",null,null,null,null,null,null,"","",{"$f":"VLOOKUP($B81,'Stap 2 Register'!$A$8:$AK$107,15,0)","v":{"$error":"#N/A"}},0,0,0,0,0,0,0,0,0,0,0,0,0,0,"","","","","","",null,null,"","","","","",""]
[75,{"$f":"_xlfn.XLOOKUP(A82,'Stap 2 Register'!$AJ$8:$AJ$107,'Stap 2 Register'!$A$8:$A$107)","v":{"$error":"#N/A"}},{"$f":"_xlfn.IFNA(_xlfn.XLOOKUP(B82,'Stap 2 Register'!$A$8:$A$107,'Stap 2 Register'!$B$8:$B$107),\"\")","v":""},{"$f":"_xlfn.IFNA(_xlfn.XLOOKUP(B82,'Stap 2 Register'!$A$8:$A$107,'Stap 2 Register'!$C$8:$C$107),\"\")","v":""},{"$f":"_xlfn.IFNA(_xlfn.XLOOKUP(B82,'Stap 2 Register'!$A$8:$A$107,'Stap 2 Register'!$E$8:$E$107),\"\")","v":""},null,0,"","",null,null,null,null,null,null,"","",{"$f":"VLOOKUP($B82,'Stap 2 Register'!$A$8:$AK$107,15,0)","v":{"$error":"#N/A"}},0,0,0,0,0,0,0,0,0,0,0,0,0,0,"","","","","","",null,null,"","","","","",""]
[76,{"$f":"_xlfn.XLOOKUP(A83,'Stap 2 Register'!$AJ$8:$AJ$107,'Stap 2 Register'!$A$8:$A$107)","v":{"$error":"#N/A"}},{"$f":"_xlfn.IFNA(_xlfn.XLOOKUP(B83,'Stap 2 Register'!$A$8:$A$107,'Stap 2 Register'!$B$8:$B$107),\"\")","v":""},{"$f":"_xlfn.IFNA(_xlfn.XLOOKUP(B83,'Stap 2 Register'!$A$8:$A$107,'Stap 2 Register'!$C$8:$C$107),\"\")","v":""},{"$f":"_xlfn.IFNA(_xlfn.XLOOKUP(B83,'Stap 2 Register'!$A$8:$A$107,'Stap 2 Register'!$E$8:$E$107),\"\")","v":""},null,0,"","",null,null,null,null,null,null,"","",{"$f":"VLOOKUP($B83,'Stap 2 Register'!$A$8:$AK$107,15,0)","v":{"$error":"#N/A"}},0,0,0,0,0,0,0,0,0,0,0,0,0,0,"","","","","","",null,null,"","","","","",""]
[77,{"$f":"_xlfn.XLOOKUP(A84,'Stap 2 Register'!$AJ$8:$AJ$107,'Stap 2 Register'!$A$8:$A$107)","v":{"$error":"#N/A"}},{"$f":"_xlfn.IFNA(_xlfn.XLOOKUP(B84,'Stap 2 Register'!$A$8:$A$107,'Stap 2 Register'!$B$8:$B$107),\"\")","v":""},{"$f":"_xlfn.IFNA(_xlfn.XLOOKUP(B84,'Stap 2 Register'!$A$8:$A$107,'Stap 2 Register'!$C$8:$C$107),\"\")","v":""},{"$f":"_xlfn.IFNA(_xlfn.XLOOKUP(B84,'Stap 2 Register'!$A$8:$A$107,'Stap 2 Register'!$E$8:$E$107),\"\")","v":""},null,0,"","",null,null,null,null,null,null,"","",{"$f":"VLOOKUP($B84,'Stap 2 Register'!$A$8:$AK$107,15,0)","v":{"$error":"#N/A"}},0,0,0,0,0,0,0,0,0,0,0,0,0,0,"","","","","","",null,null,"","","","","",""]
[78,{"$f":"_xlfn.XLOOKUP(A85,'Stap 2 Register'!$AJ$8:$AJ$107,'Stap 2 Register'!$A$8:$A$107)","v":{"$error":"#N/A"}},{"$f":"_xlfn.IFNA(_xlfn.XLOOKUP(B85,'Stap 2 Register'!$A$8:$A$107,'Stap 2 Register'!$B$8:$B$107),\"\")","v":""},{"$f":"_xlfn.IFNA(_xlfn.XLOOKUP(B85,'Stap 2 Register'!$A$8:$A$107,'Stap 2 Register'!$C$8:$C$107),\"\")","v":""},{"$f":"_xlfn.IFNA(_xlfn.XLOOKUP(B85,'Stap 2 Register'!$A$8:$A$107,'Stap 2 Register'!$E$8:$E$107),\"\")","v":""},null,0,"","",null,null,null,null,null,null,"","",{"$f":"VLOOKUP($B85,'Stap 2 Register'!$A$8:$AK$107,15,0)","v":{"$error":"#N/A"}},0,0,0,0,0,0,0,0,0,0,0,0,0,0,"","","","","","",null,null,"","","","","",""]
[79,{"$f":"_xlfn.XLOOKUP(A86,'Stap 2 Register'!$AJ$8:$AJ$107,'Stap 2 Register'!$A$8:$A$107)","v":{"$error":"#N/A"}},{"$f":"_xlfn.IFNA(_xlfn.XLOOKUP(B86,'Stap 2 Register'!$A$8:$A$107,'Stap 2 Register'!$B$8:$B$107),\"\")","v":""},{"$f":"_xlfn.IFNA(_xlfn.XLOOKUP(B86,'Stap 2 Register'!$A$8:$A$107,'Stap 2 Register'!$C$8:$C$107),\"\")","v":""},{"$f":"_xlfn.IFNA(_xlfn.XLOOKUP(B86,'Stap 2 Register'!$A$8:$A$107,'Stap 2 Register'!$E$8:$E$107),\"\")","v":""},null,0,"","",null,null,null,null,null,null,"","",{"$f":"VLOOKUP($B86,'Stap 2 Register'!$A$8:$AK$107,15,0)","v":{"$error":"#N/A"}},0,0,0,0,0,0,0,0,0,0,0,0,0,0,"","","","","","",null,null,"","","","","",""]
[80,{"$f":"_xlfn.XLOOKUP(A87,'Stap 2 Register'!$AJ$8:$AJ$107,'Stap 2 Register'!$A$8:$A$107)","v":{"$error":"#N/A"}},{"$f":"_xlfn.IFNA(_xlfn.XLOOKUP(B87,'Stap 2 Register'!$A$8:$A$107,'Stap 2 Register'!$B$8:$B$107),\"\")","v":""},{"$f":"_xlfn.IFNA(_xlfn.XLOOKUP(B87,'Stap 2 Register'!$A$8:$A$107,'Stap 2 Register'!$C$8:$C$107),\"\")","v":""},{"$f":"_xlfn.IFNA(_xlfn.XLOOKUP(B87,'Stap 2 Register'!$A$8:$A$107,'Stap 2 Register'!$E$8:$E$107),\"\")","v":""},null,0,"","",null,null,null,null,null,null,"","",{"$f":"VLOOKUP($B87,'Stap 2 Register'!$A$8:$AK$107,15,0)","v":{"$error":"#N/A"}},0,0,0,0,0,0,0,0,0,0,0,0,0,0,"","","","","","",null,null,"","","","","",""]
[81,{"$f":"_xlfn.XLOOKUP(A88,'Stap 2 Register'!$AJ$8:$AJ$107,'Stap 2 Register'!$A$8:$A$107)","v":{"$error":"#N/A"}},{"$f":"_xlfn.IFNA(_xlfn.XLOOKUP(B88,'Stap 2 Register'!$A$8:$A$107,'Stap 2 Register'!$B$8:$B$107),\"\")","v":""},{"$f":"_xlfn.IFNA(_xlfn.XLOOKUP(B88,'Stap 2 Register'!$A$8:$A$107,'Stap 2 Register'!$C$8:$C$107),\"\")","v":""},{"$f":"_xlfn.IFNA(_xlfn.XLOOKUP(B88,'Stap 2 Register'!$A$8:$A$107,'Stap 2 Register'!$E$8:$E$107),\"\")","v":""},null,0,"","",null,null,null,null,null,null,"","",{"$f":"VLOOKUP($B88,'Stap 2 Register'!$A$8:$AK$107,15,0)","v":{"$error":"#N/A"}},0,0,0,0,0,0,0,0,0,0,0,0,0,0,"","","","","","",null,null,"","","","","",""]
[82,{"$f":"_xlfn.XLOOKUP(A89,'Stap 2 Register'!$AJ$8:$AJ$107,'Stap 2 Register'!$A$8:$A$107)","v":{"$error":"#N/A"}},{"$f":"_xlfn.IFNA(_xlfn.XLOOKUP(B89,'Stap 2 Register'!$A$8:$A$107,'Stap 2 Register'!$B$8:$B$107),\"\")","v":""},{"$f":"_xlfn.IFNA(_xlfn.XLOOKUP(B89,'Stap 2 Register'!$A$8:$A$107,'Stap 2 Register'!$C$8:$C$107),\"\")","v":""},{"$f":"_xlfn.IFNA(_xlfn.XLOOKUP(B89,'Stap 2 Register'!$A$8:$A$107,'Stap 2 Register'!$E$8:$E$107),\"\")","v":""},null,0,"","",null,null,null,null,null,null,"","",{"$f":"VLOOKUP($B89,'Stap 2 Register'!$A$8:$AK$107,15,0)","v":{"$error":"#N/A"}},0,0,0,0,0,0,0,0,0,0,0,0,0,0,"","","","","","",null,null,"","","","","",""]
[83,{"$f":"_xlfn.XLOOKUP(A90,'Stap 2 Register'!$AJ$8:$AJ$107,'Stap 2 Register'!$A$8:$A$107)","v":{"$error":"#N/A"}},{"$f":"_xlfn.IFNA(_xlfn.XLOOKUP(B90,'Stap 2 Register'!$A$8:$A$107,'Stap 2 Register'!$B$8:$B$107),\"\")","v":""},{"$f":"_xlfn.IFNA(_xlfn.XLOOKUP(B90,'Stap 2 Register'!$A$8:$A$107,'Stap 2 Register'!$C$8:$C$107),\"\")","v":""},{"$f":"_xlfn.IFNA(_xlfn.XLOOKUP(B90,'Stap 2 Register'!$A$8:$A$107,'Stap 2 Register'!$E$8:$E$107),\"\")","v":""},null,0,"","",null,null,null,null,null,null,"","",{"$f":"VLOOKUP($B90,'Stap 2 Register'!$A$8:$AK$107,15,0)","v":{"$error":"#N/A"}},0,0,0,0,0,0,0,0,0,0,0,0,0,0,"","","","","","",null,null,"","","","","",""]
[84,{"$f":"_xlfn.XLOOKUP(A91,'Stap 2 Register'!$AJ$8:$AJ$107,'Stap 2 Register'!$A$8:$A$107)","v":{"$error":"#N/A"}},{"$f":"_xlfn.IFNA(_xlfn.XLOOKUP(B91,'Stap 2 Register'!$A$8:$A$107,'Stap 2 Register'!$B$8:$B$107),\"\")","v":""},{"$f":"_xlfn.IFNA(_xlfn.XLOOKUP(B91,'Stap 2 Register'!$A$8:$A$107,'Stap 2 Register'!$C$8:$C$107),\"\")","v":""},{"$f":"_xlfn.IFNA(_xlfn.XLOOKUP(B91,'Stap 2 Register'!$A$8:$A$107,'Stap 2 Register'!$E$8:$E$107),\"\")","v":""},null,0,"","",null,null,null,null,null,null,"","",{"$f":"VLOOKUP($B91,'Stap 2 Register'!$A$8:$AK$107,15,0)","v":{"$error":"#N/A"}},0,0,0,0,0,0,0,0,0,0,0,0,0,0,"","","","","","",null,null,"","","","","",""]
[85,{"$f":"_xlfn.XLOOKUP(A92,'Stap 2 Register'!$AJ$8:$AJ$107,'Stap 2 Register'!$A$8:$A$107)","v":{"$error":"#N/A"}},{"$f":"_xlfn.IFNA(_xlfn.XLOOKUP(B92,'Stap 2 Register'!$A$8:$A$107,'Stap 2 Register'!$B$8:$B$107),\"\")","v":""},{"$f":"_xlfn.IFNA(_xlfn.XLOOKUP(B92,'Stap 2 Register'!$A$8:$A$107,'Stap 2 Register'!$C$8:$C$107),\"\")","v":""},{"$f":"_xlfn.IFNA(_xlfn.XLOOKUP(B92,'Stap 2 Register'!$A$8:$A$107,'Stap 2 Register'!$E$8:$E$107),\"\")","v":""},null,0,"","",null,null,null,null,null,null,"","",{"$f":"VLOOKUP($B92,'Stap 2 Register'!$A$8:$AK$107,15,0)","v":{"$error":"#N/A"}},0,0,0,0,0,0,0,0,0,0,0,0,0,0,"","","","","","",null,null,"","","","","",""]
[86,{"$f":"_xlfn.XLOOKUP(A93,'Stap 2 Register'!$AJ$8:$AJ$107,'Stap 2 Register'!$A$8:$A$107)","v":{"$error":"#N/A"}},{"$f":"_xlfn.IFNA(_xlfn.XLOOKUP(B93,'Stap 2 Register'!$A$8:$A$107,'Stap 2 Register'!$B$8:$B$107),\"\")","v":""},{"$f":"_xlfn.IFNA(_xlfn.XLOOKUP(B93,'Stap 2 Register'!$A$8:$A$107,'Stap 2 Register'!$C$8:$C$107),\"\")","v":""},{"$f":"_xlfn.IFNA(_xlfn.XLOOKUP(B93,'Stap 2 Register'!$A$8:$A$107,'Stap 2 Register'!$E$8:$E$107),\"\")","v":""},null,0,"","",null,null,null,null,null,null,"","",{"$f":"VLOOKUP($B93,'Stap 2 Register'!$A$8:$AK$107,15,0)","v":{"$error":"#N/A"}},0,0,0,0,0,0,0,0,0,0,0,0,0,0,"","","","","","",null,null,"","","","","",""]
[87,{"$f":"_xlfn.XLOOKUP(A94,'Stap 2 Register'!$AJ$8:$AJ$107,'Stap 2 Register'!$A$8:$A$107)","v":{"$error":"#N/A"}},{"$f":"_xlfn.IFNA(_xlfn.XLOOKUP(B94,'Stap 2 Register'!$A$8:$A$107,'Stap 2 Register'!$B$8:$B$107),\"\")","v":""},{"$f":"_xlfn.IFNA(_xlfn.XLOOKUP(B94,'Stap 2 Register'!$A$8:$A$107,'Stap 2 Register'!$C$8:$C$107),\"\")","v":""},{"$f":"_xlfn.IFNA(_xlfn.XLOOKUP(B94,'Stap 2 Register'!$A$8:$A$107,'Stap 2 Register'!$E$8:$E$107),\"\")","v":""},null,0,"","",null,null,null,null,null,null,"","",{"$f":"VLOOKUP($B94,'Stap 2 Register'!$A$8:$AK$107,15,0)","v":{"$error":"#N/A"}},0,0,0,0,0,0,0,0,0,0,0,0,0,0,"","","","","","",null,null,"","","","","",""]
[88,{"$f":"_xlfn.XLOOKUP(A95,'Stap 2 Register'!$AJ$8:$AJ$107,'Stap 2 Register'!$A$8:$A$107)","v":{"$error":"#N/A"}},{"$f":"_xlfn.IFNA(_xlfn.XLOOKUP(B95,'Stap 2 Register'!$A$8:$A$107,'Stap 2 Register'!$B$8:$B$107),\"\")","v":""},{"$f":"_xlfn.IFNA(_xlfn.XLOOKUP(B95,'Stap 2 Register'!$A$8:$A$107,'Stap 2 Register'!$C$8:$C$107),\"\")","v":""},{"$f":"_xlfn.IFNA(_xlfn.XLOOKUP(B95,'Stap 2 Register'!$A$8:$A$107,'Stap 2 Register'!$E$8:$E$107),\"\")","v":""},null,0,"","",null,null,null,null,null,null,"","",{"$f":"VLOOKUP($B95,'Stap 2 Register'!$A$8:$AK$107,15,0)","v":{"$error":"#N/A"}},0,0,0,0,0,0,0,0,0,0,0,0,0,0,"","","","","","",null,null,"","","","","",""]
[89,{"$f":"_xlfn.XLOOKUP(A96,'Stap 2 Register'!$AJ$8:$AJ$107,'Stap 2 Register'!$A$8:$A$107)","v":{"$error":"#N/A"}},{"$f":"_xlfn.IFNA(_xlfn.XLOOKUP(B96,'Stap 2 Register'!$A$8:$A$107,'Stap 2 Register'!$B$8:$B$107),\"\")","v":""},{"$f":"_xlfn.IFNA(_xlfn.XLOOKUP(B96,'Stap 2 Register'!$A$8:$A$107,'Stap 2 Register'!$C$8:$C$107),\"\")","v":""},{"$f":"_xlfn.IFNA(_xlfn.XLOOKUP(B96,'Stap 2 Register'!$A$8:$A$107,'Stap 2 Register'!$E$8:$E$107),\"\")","v":""},null,0,"","",null,null,null,null,null,null,"","",{"$f":"VLOOKUP($B96,'Stap 2 Register'!$A$8:$AK$107,15,0)","v":{"$error":"#N/A"}},0,0,0,0,0,0,0,0,0,0,0,0,0,0,"","","","","","",null,null,"","","","","",""]
[90,{"$f":"_xlfn.XLOOKUP(A97,'Stap 2 Register'!$AJ$8:$AJ$107,'Stap 2 Register'!$A$8:$A$107)","v":{"$error":"#N/A"}},{"$f":"_xlfn.IFNA(_xlfn.XLOOKUP(B97,'Stap 2 Register'!$A$8:$A$107,'Stap 2 Register'!$B$8:$B$107),\"\")","v":""},{"$f":"_xlfn.IFNA(_xlfn.XLOOKUP(B97,'Stap 2 Register'!$A$8:$A$107,'Stap 2 Register'!$C$8:$C$107),\"\")","v":""},{"$f":"_xlfn.IFNA(_xlfn.XLOOKUP(B97,'Stap 2 Register'!$A$8:$A$107,'Stap 2 Register'!$E$8:$E$107),\"\")","v":""},null,0,"","",null,null,null,null,null,null,"","",{"$f":"VLOOKUP($B97,'Stap 2 Register'!$A$8:$AK$107,15,0)","v":{"$error":"#N/A"}},0,0,0,0,0,0,0,0,0,0,0,0,0,0,"","","","","","",null,null,"","","","","",""]
[91,{"$f":"_xlfn.XLOOKUP(A98,'Stap 2 Register'!$AJ$8:$AJ$107,'Stap 2 Register'!$A$8:$A$107)","v":{"$error":"#N/A"}},{"$f":"_xlfn.IFNA(_xlfn.XLOOKUP(B98,'Stap 2 Register'!$A$8:$A$107,'Stap 2 Register'!$B$8:$B$107),\"\")","v":""},{"$f":"_xlfn.IFNA(_xlfn.XLOOKUP(B98,'Stap 2 Register'!$A$8:$A$107,'Stap 2 Register'!$C$8:$C$107),\"\")","v":""},{"$f":"_xlfn.IFNA(_xlfn.XLOOKUP(B98,'Stap 2 Register'!$A$8:$A$107,'Stap 2 Register'!$E$8:$E$107),\"\")","v":""},null,0,"","",null,null,null,null,null,null,"","",{"$f":"VLOOKUP($B98,'Stap 2 Register'!$A$8:$AK$107,15,0)","v":{"$error":"#N/A"}},0,0,0,0,0,0,0,0,0,0,0,0,0,0,"","","","","","",null,null,"","","","","",""]
[92,{"$f":"_xlfn.XLOOKUP(A99,'Stap 2 Register'!$AJ$8:$AJ$107,'Stap 2 Register'!$A$8:$A$107)","v":{"$error":"#N/A"}},{"$f":"_xlfn.IFNA(_xlfn.XLOOKUP(B99,'Stap 2 Register'!$A$8:$A$107,'Stap 2 Register'!$B$8:$B$107),\"\")","v":""},{"$f":"_xlfn.IFNA(_xlfn.XLOOKUP(B99,'Stap 2 Register'!$A$8:$A$107,'Stap 2 Register'!$C$8:$C$107),\"\")","v":""},{"$f":"_xlfn.IFNA(_xlfn.XLOOKUP(B99,'Stap 2 Register'!$A$8:$A$107,'Stap 2 Register'!$E$8:$E$107),\"\")","v":""},null,0,"","",null,null,null,null,null,null,"","",{"$f":"VLOOKUP($B99,'Stap 2 Register'!$A$8:$AK$107,15,0)","v":{"$error":"#N/A"}},0,0,0,0,0,0,0,0,0,0,0,0,0,0,"","","","","","",null,null,"","","","","",""]
[93,{"$f":"_xlfn.XLOOKUP(A100,'Stap 2 Register'!$AJ$8:$AJ$107,'Stap 2 Register'!$A$8:$A$107)","v":{"$error":"#N/A"}},{"$f":"_xlfn.IFNA(_xlfn.XLOOKUP(B100,'Stap 2 Register'!$A$8:$A$107,'Stap 2 Register'!$B$8:$B$107),\"\")","v":""},{"$f":"_xlfn.IFNA(_xlfn.XLOOKUP(B100,'Stap 2 Register'!$A$8:$A$107,'Stap 2 Register'!$C$8:$C$107),\"\")","v":""},{"$f":"_xlfn.IFNA(_xlfn.XLOOKUP(B100,'Stap 2 Register'!$A$8:$A$107,'Stap 2 Register'!$E$8:$E$107),\"\")","v":""},null,0,"","",null,null,null,null,null,null,"","",{"$f":"VLOOKUP($B100,'Stap 2 Register'!$A$8:$AK$107,15,0)","v":{"$error":"#N/A"}},0,0,0,0,0,0,0,0,0,0,0,0,0,0,"","","","","","",null,null,"","","","","",""]
[94,{"$f":"_xlfn.XLOOKUP(A101,'Stap 2 Register'!$AJ$8:$AJ$107,'Stap 2 Register'!$A$8:$A$107)","v":{"$error":"#N/A"}},{"$f":"_xlfn.IFNA(_xlfn.XLOOKUP(B101,'Stap 2 Register'!$A$8:$A$107,'Stap 2 Register'!$B$8:$B$107),\"\")","v":""},{"$f":"_xlfn.IFNA(_xlfn.XLOOKUP(B101,'Stap 2 Register'!$A$8:$A$107,'Stap 2 Register'!$C$8:$C$107),\"\")","v":""},{"$f":"_xlfn.IFNA(_xlfn.XLOOKUP(B101,'Stap 2 Register'!$A$8:$A$107,'Stap 2 Register'!$E$8:$E$107),\"\")","v":""},null,0,"","",null,null,null,null,null,null,"","",{"$f":"VLOOKUP($B101,'Stap 2 Register'!$A$8:$AK$107,15,0)","v":{"$error":"#N/A"}},0,0,0,0,0,0,0,0,0,0,0,0,0,0,"","","","","","",null,null,"","","","","",""]
[95,{"$f":"_xlfn.XLOOKUP(A102,'Stap 2 Register'!$AJ$8:$AJ$107,'Stap 2 Register'!$A$8:$A$107)","v":{"$error":"#N/A"}},{"$f":"_xlfn.IFNA(_xlfn.XLOOKUP(B102,'Stap 2 Register'!$A$8:$A$107,'Stap 2 Register'!$B$8:$B$107),\"\")","v":""},{"$f":"_xlfn.IFNA(_xlfn.XLOOKUP(B102,'Stap 2 Register'!$A$8:$A$107,'Stap 2 Register'!$C$8:$C$107),\"\")","v":""},{"$f":"_xlfn.IFNA(_xlfn.XLOOKUP(B102,'Stap 2 Register'!$A$8:$A$107,'Stap 2 Register'!$E$8:$E$107),\"\")","v":""},null,0,"","",null,null,null,null,null,null,"","",{"$f":"VLOOKUP($B102,'Stap 2 Register'!$A$8:$AK$107,15,0)","v":{"$error":"#N/A"}},0,0,0,0,0,0,0,0,0,0,0,0,0,0,"","","","","","",null,null,"","","","","",""]
[96,{"$f":"_xlfn.XLOOKUP(A103,'Stap 2 Register'!$AJ$8:$AJ$107,'Stap 2 Register'!$A$8:$A$107)","v":{"$error":"#N/A"}},{"$f":"_xlfn.IFNA(_xlfn.XLOOKUP(B103,'Stap 2 Register'!$A$8:$A$107,'Stap 2 Register'!$B$8:$B$107),\"\")","v":""},{"$f":"_xlfn.IFNA(_xlfn.XLOOKUP(B103,'Stap 2 Register'!$A$8:$A$107,'Stap 2 Register'!$C$8:$C$107),\"\")","v":""},{"$f":"_xlfn.IFNA(_xlfn.XLOOKUP(B103,'Stap 2 Register'!$A$8:$A$107,'Stap 2 Register'!$E$8:$E$107),\"\")","v":""},null,0,"","",null,null,null,null,null,null,"","",{"$f":"VLOOKUP($B103,'Stap 2 Register'!$A$8:$AK$107,15,0)","v":{"$error":"#N/A"}},0,0,0,0,0,0,0,0,0,0,0,0,0,0,"","","","","","",null,null,"","","","","",""]
[97,{"$f":"_xlfn.XLOOKUP(A104,'Stap 2 Register'!$AJ$8:$AJ$107,'Stap 2 Register'!$A$8:$A$107)","v":{"$error":"#N/A"}},{"$f":"_xlfn.IFNA(_xlfn.XLOOKUP(B104,'Stap 2 Register'!$A$8:$A$107,'Stap 2 Register'!$B$8:$B$107),\"\")","v":""},{"$f":"_xlfn.IFNA(_xlfn.XLOOKUP(B104,'Stap 2 Register'!$A$8:$A$107,'Stap 2 Register'!$C$8:$C$107),\"\")","v":""},{"$f":"_xlfn.IFNA(_xlfn.XLOOKUP(B104,'Stap 2 Register'!$A$8:$A$107,'Stap 2 Register'!$E$8:$E$107),\"\")","v":""},null,0,"",{"$f":"IF(J104=\"\",\"\",VLOOKUP(J104,matrixtest,5,FALSE))","v":""},null,null,null,null,null,null,"","",{"$f":"VLOOKUP($B104,'Stap 2 Register'!$A$8:$AK$107,15,0)","v":{"$error":"#N/A"}},0,0,0,0,0,0,0,0,0,0,0,0,0,0,"","","","","","",null,null,"","","","","",""]
[98,{"$f":"_xlfn.XLOOKUP(A105,'Stap 2 Register'!$AJ$8:$AJ$107,'Stap 2 Register'!$A$8:$A$107)","v":{"$error":"#N/A"}},{"$f":"_xlfn.IFNA(_xlfn.XLOOKUP(B105,'Stap 2 Register'!$A$8:$A$107,'Stap 2 Register'!$B$8:$B$107),\"\")","v":""},{"$f":"_xlfn.IFNA(_xlfn.XLOOKUP(B105,'Stap 2 Register'!$A$8:$A$107,'Stap 2 Register'!$C$8:$C$107),\"\")","v":""},{"$f":"_xlfn.IFNA(_xlfn.XLOOKUP(B105,'Stap 2 Register'!$A$8:$A$107,'Stap 2 Register'!$E$8:$E$107),\"\")","v":""},null,0,"","",null,null,null,null,null,null,"","",{"$f":"VLOOKUP($B105,'Stap 2 Register'!$A$8:$AK$107,15,0)","v":{"$error":"#N/A"}},0,0,0,0,0,0,0,0,0,0,0,0,0,0,"","","","","","",null,null,"","","","","",""]
[99,{"$f":"_xlfn.XLOOKUP(A106,'Stap 2 Register'!$AJ$8:$AJ$107,'Stap 2 Register'!$A$8:$A$107)","v":{"$error":"#N/A"}},{"$f":"_xlfn.IFNA(_xlfn.XLOOKUP(B106,'Stap 2 Register'!$A$8:$A$107,'Stap 2 Register'!$B$8:$B$107),\"\")","v":""},{"$f":"_xlfn.IFNA(_xlfn.XLOOKUP(B106,'Stap 2 Register'!$A$8:$A$107,'Stap 2 Register'!$C$8:$C$107),\"\")","v":""},{"$f":"_xlfn.IFNA(_xlfn.XLOOKUP(B106,'Stap 2 Register'!$A$8:$A$107,'Stap 2 Register'!$E$8:$E$107),\"\")","v":""},null,0,"","",null,null,null,null,null,null,"","",{"$f":"VLOOKUP($B106,'Stap 2 Register'!$A$8:$AK$107,15,0)","v":{"$error":"#N/A"}},0,0,0,0,0,0,0,0,0,0,0,0,0,0,"","","","","","",null,null,"","","","","",""]
[100,{"$f":"_xlfn.XLOOKUP(A107,'Stap 2 Register'!$AJ$8:$AJ$107,'Stap 2 Register'!$A$8:$A$107)","v":{"$error":"#N/A"}},{"$f":"_xlfn.IFNA(_xlfn.XLOOKUP(B107,'Stap 2 Register'!$A$8:$A$107,'Stap 2 Register'!$B$8:$B$107),\"\")","v":""},{"$f":"_xlfn.IFNA(_xlfn.XLOOKUP(B107,'Stap 2 Register'!$A$8:$A$107,'Stap 2 Register'!$C$8:$C$107),\"\")","v":""},{"$f":"_xlfn.IFNA(_xlfn.XLOOKUP(B107,'Stap 2 Register'!$A$8:$A$107,'Stap 2 Register'!$E$8:$E$107),\"\")","v":""},null,0,"","",null,null,null,null,null,null,"","",{"$f":"VLOOKUP($B107,'Stap 2 Register'!$A$8:$AK$107,15,0)","v":{"$error":"#N/A"}},0,0,0,0,0,0,0,0,0,0,0,0,0,0,"","","","","","",null,null,"","","","","",""]
[null,null,null,null,null,null,null,null,null,null,null,null,null,null,null,null,null,null,null,null,null,null,null,null,null,null,null,null,null,null,null,null,null,null,null,null,null,null,"LEAM © 2024"]
[null,null,null,null,null,null,null,null,null,null,null,null,null,null,null,null,null,null,null,null,null,null,null,null,null,"menieuw",{"$f":"SUM(AA8:AA107)","v":0},0,0,0,0,0,null,null,null,null,null,null,null,"aantal",{"$f":"100-COUNTBLANK(AO8:AO107)","v":0},0,0,0,0,0]

{"sheet":"Overgebleven risico","index":4,"n_rows":109,"n_cols":22,"rows_kept":109,"cut":false,"hidden":true,"merged":[[5,3,6,3],[5,1,6,1],[5,2,6,2]]}
[]
[]
[null,null,"Overgebleven risico's"]
[]
[]
[null,"Risico-nummer","Omschrijving risico","Risico","monetair",null,null,null,null,". "]
["mon equ",null,null,null,{"$f":"'Stap 2 Register'!AC7","v":"Financieel"},{"$f":"'Stap 2 Register'!AD7","v":"Doelmatig"},{"$f":"'Stap 2 Register'!AE7","v":"Kwantiteit/Veilig"},{"$f":"'Stap 2 Register'!AF7","v":"Kwal leefomgeving"},{"$f":"'Stap 2 Register'!AG7","v":"Imago"},{"$f":"'Stap 2 Register'!AH7","v":"Circulair"},"O","ZH","H","M","L","V","O","ZH","H","M","L","V"]
[{"$f":"IF('1e berekening'!G3=0,'1e berekening'!B3,0)","v":100},{"$f":"IF(A8=0,\"\",VLOOKUP($A8,'Stap 2 Register'!$A$8:$AK$107,2,0))","v":100},{"$f":"IF(A8=0,0,VLOOKUP($A8,'Stap 2 Register'!$A$8:$AK$107,3,0))","v":0},{"$f":"IF(A8=0,\"\",VLOOKUP($A8,'Stap 2 Register'!$A$8:$AK$107,14,0))","v":""},{"$f":"IF(A8=0,0,VLOOKUP($A8,'Stap 2 Register'!$A$8:$AK$107,23,0))","v":0},{"$f":"IF(A8=0,0,VLOOKUP($A8,'Stap 2 Register'!$A$8:$AK$107,24,0))","v":0},{"$f":"IF(A8=0,0,VLOOKUP($A8,'Stap 2 Register'!$A$8:$AK$107,25,0))","v":0},{"$f":"IF(A8=0,0,VLOOKUP($A8,'Stap 2 Register'!$A$8:$AK$107,26,0))","v":0},{"$f":"IF(A8=0,0,VLOOKUP($A8,'Stap 2 Register'!$A$8:$AK$107,27,0))","v":0},{"$f":"IF(A8=0,0,VLOOKUP($A8,'Stap 2 Register'!$A$8:$AK$107,28,0))","v":0},{"$f":"IF($D8=$K$7,_xlfn.TEXTJOIN($J$6,,$B8,$C8),\"\")","v":""},{"$f":"IF($D8=$L$7,_xlfn.TEXTJOIN($J$6,,$B8,$C8),\"\")","v":""},{"$f":"IF($D8=$M$7,_xlfn.TEXTJOIN($J$6,,$B8,$C8),\"\")","v":""},{"$f":"IF($D8=$N$7,_xlfn.TEXTJOIN($J$6,,$B8,$C8),\"\")","v":""},{"$f":"IF($D8=$O$7,_xlfn.TEXTJOIN($J$6,,$B8,$C8),\"\")","v":""},{"$f":"IF($D8=$P$7,_xlfn.TEXTJOIN($J$6,,$B8,$C8),\"\")","v":""},{"$f":"SUMIF($D$8:$D$107,Q7,$A$8:$A$107)","v":0},0,0,0,0,0]
[{"$f":"IF('1e berekening'!G4=0,'1e berekening'!B4,0)","v":99},{"$f":"IF(A9=0,\"\",VLOOKUP($A9,'Stap 2 Register'!$A$8:$AK$107,2,0))","v":99},{"$f":"IF(A9=0,0,VLOOKUP($A9,'Stap 2 Register'!$A$8:$AK$107,3,0))","v":0},{"$f":"IF(A9=0,\"\",VLOOKUP($A9,'Stap 2 Register'!$A$8:$AK$107,14,0))","v":""},{"$f":"IF(A9=0,0,VLOOKUP($A9,'Stap 2 Register'!$A$8:$AK$107,23,0))","v":0},{"$f":"IF(A9=0,0,VLOOKUP($A9,'Stap 2 Register'!$A$8:$AK$107,24,0))","v":0},{"$f":"IF(A9=0,0,VLOOKUP($A9,'Stap 2 Register'!$A$8:$AK$107,25,0))","v":0},{"$f":"IF(A9=0,0,VLOOKUP($A9,'Stap 2 Register'!$A$8:$AK$107,26,0))","v":0},{"$f":"IF(A9=0,0,VLOOKUP($A9,'Stap 2 Register'!$A$8:$AK$107,27,0))","v":0},{"$f":"IF(A9=0,0,VLOOKUP($A9,'Stap 2 Register'!$A$8:$AK$107,28,0))","v":0},{"$f":"IF($D9=$K$7,_xlfn.TEXTJOIN($J$6,,$B9,$C9),\"\")","v":""},{"$f":"IF($D9=$L$7,_xlfn.TEXTJOIN($J$6,,$B9,$C9),\"\")","v":""},{"$f":"IF($D9=$M$7,_xlfn.TEXTJOIN($J$6,,$B9,$C9),\"\")","v":""},{"$f":"IF($D9=$N$7,_xlfn.TEXTJOIN($J$6,,$B9,$C9),\"\")","v":""},{"$f":"IF($D9=$O$7,_xlfn.TEXTJOIN($J$6,,$B9,$C9),\"\")","v":""},{"$f":"IF($D9=$P$7,_xlfn.TEXTJOIN($J$6,,$B9,$C9),\"\")","v":""}]
[{"$f":"IF('1e berekening'!G5=0,'1e berekening'!B5,0)","v":98},{"$f":"IF(A10=0,\"\",VLOOKUP($A10,'Stap 2 Register'!$A$8:$AK$107,2,0))","v":98},{"$f":"IF(A10=0,0,VLOOKUP($A10,'Stap 2 Register'!$A$8:$AK$107,3,0))","v":0},{"$f":"IF(A10=0,\"\",VLOOKUP($A10,'Stap 2 Register'!$A$8:$AK$107,14,0))","v":""},{"$f":"IF(A10=0,0,VLOOKUP($A10,'Stap 2 Register'!$A$8:$AK$107,23,0))","v":0},{"$f":"IF(A10=0,0,VLOOKUP($A10,'Stap 2 Register'!$A$8:$AK$107,24,0))","v":0},{"$f":"IF(A10=0,0,VLOOKUP($A10,'Stap 2 Register'!$A$8:$AK$107,25,0))","v":0},{"$f":"IF(A10=0,0,VLOOKUP($A10,'Stap 2 Register'!$A$8:$AK$107,26,0))","v":0},{"$f":"IF(A10=0,0,VLOOKUP($A10,'Stap 2 Register'!$A$8:$AK$107,27,0))","v":0},{"$f":"IF(A10=0,0,VLOOKUP($A10,'Stap 2 Register'!$A$8:$AK$107,28,0))","v":0},{"$f":"IF($D10=$K$7,_xlfn.TEXTJOIN($J$6,,$B10,$C10),\"\")","v":""},{"$f":"IF($D10=$L$7,_xlfn.TEXTJOIN($J$6,,$B10,$C10),\"\")","v":""},{"$f":"IF($D10=$M$7,_xlfn.TEXTJOIN($J$6,,$B10,$C10),\"\")","v":""},{"$f":"IF($D10=$N$7,_xlfn.TEXTJOIN($J$6,,$B10,$C10),\"\")","v":""},{"$f":"IF($D10=$O$7,_xlfn.TEXTJOIN($J$6,,$B10,$C10),\"\")","v":""},""]
[{"$f":"IF('1e berekening'!G6=0,'1e berekening'!B6,0)","v":97},{"$f":"IF(A11=0,\"\",VLOOKUP($A11,'Stap 2 Register'!$A$8:$AK$107,2,0))","v":97},{"$f":"IF(A11=0,0,VLOOKUP($A11,'Stap 2 Register'!$A$8:$AK$107,3,0))","v":0},{"$f":"IF(A11=0,\"\",VLOOKUP($A11,'Stap 2 Register'!$A$8:$AK$107,14,0))","v":""},{"$f":"IF(A11=0,0,VLOOKUP($A11,'Stap 2 Register'!$A$8:$AK$107,23,0))","v":0},{"$f":"IF(A11=0,0,VLOOKUP($A11,'Stap 2 Register'!$A$8:$AK$107,24,0))","v":0},{"$f":"IF(A11=0,0,VLOOKUP($A11,'Stap 2 Register'!$A$8:$AK$107,25,0))","v":0},{"$f":"IF(A11=0,0,VLOOKUP($A11,'Stap 2 Register'!$A$8:$AK$107,26,0))","v":0},{"$f":"IF(A11=0,0,VLOOKUP($A11,'Stap 2 Register'!$A$8:$AK$107,27,0))","v":0},{"$f":"IF(A11=0,0,VLOOKUP($A11,'Stap 2 Register'!$A$8:$AK$107,28,0))","v":0},{"$f":"IF($D11=$K$7,_xlfn.TEXTJOIN($J$6,,$B11,$C11),\"\")","v":""},{"$f":"IF($D11=$L$7,_xlfn.TEXTJOIN($J$6,,$B11,$C11),\"\")","v":""},{"$f":"IF($D11=$M$7,_xlfn.TEXTJOIN($J$6,,$B11,$C11),\"\")","v":""},{"$f":"IF($D11=$N$7,_xlfn.TEXTJOIN($J$6,,$B11,$C11),\"\")","v":""},{"$f":"IF($D11=$O$7,_xlfn.TEXTJOIN($J$6,,$B11,$C11),\"\")","v":""},""]
[{"$f":"IF('1e berekening'!G7=0,'1e berekening'!B7,0)","v":96},{"$f":"IF(A12=0,\"\",VLOOKUP($A12,'Stap 2 Register'!$A$8:$AK$107,2,0))","v":96},{"$f":"IF(A12=0,0,VLOOKUP($A12,'Stap 2 Register'!$A$8:$AK$107,3,0))","v":0},{"$f":"IF(A12=0,\"\",VLOOKUP($A12,'Stap 2 Register'!$A$8:$AK$107,14,0))","v":""},{"$f":"IF(A12=0,0,VLOOKUP($A12,'Stap 2 Register'!$A$8:$AK$107,23,0))","v":0},{"$f":"IF(A12=0,0,VLOOKUP($A12,'Stap 2 Register'!$A$8:$AK$107,24,0))","v":0},{"$f":"IF(A12=0,0,VLOOKUP($A12,'Stap 2 Register'!$A$8:$AK$107,25,0))","v":0},{"$f":"IF(A12=0,0,VLOOKUP($A12,'Stap 2 Register'!$A$8:$AK$107,26,0))","v":0},{"$f":"IF(A12=0,0,VLOOKUP($A12,'Stap 2 Register'!$A$8:$AK$107,27,0))","v":0},{"$f":"IF(A12=0,0,VLOOKUP($A12,'Stap 2 Register'!$A$8:$AK$107,28,0))","v":0},{"$f":"IF($D12=$K$7,_xlfn.TEXTJOIN($J$6,,$B12,$C12),\"\")","v":""},{"$f":"IF($D12=$L$7,_xlfn.TEXTJOIN($J$6,,$B12,$C12),\"\")","v":""},{"$f":"IF($D12=$M$7,_xlfn.TEXTJOIN($J$6,,$B12,$C12),\"\")","v":""},{"$f":"IF($D12=$N$7,_xlfn.TEXTJOIN($J$6,,$B12,$C12),\"\")","v":""},{"$f":"IF($D12=$O$7,_xlfn.TEXTJOIN($J$6,,$B12,$C12),\"\")","v":""},""]
[{"$f":"IF('1e berekening'!G8=0,'1e berekening'!B8,0)","v":95},{"$f":"IF(A13=0,\"\",VLOOKUP($A13,'Stap 2 Register'!$A$8:$AK$107,2,0))","v":95},{"$f":"IF(A13=0,0,VLOOKUP($A13,'Stap 2 Register'!$A$8:$AK$107,3,0))","v":0},{"$f":"IF(A13=0,\"\",VLOOKUP($A13,'Stap 2 Register'!$A$8:$AK$107,14,0))","v":""},{"$f":"IF(A13=0,0,VLOOKUP($A13,'Stap 2 Register'!$A$8:$AK$107,23,0))","v":0},{"$f":"IF(A13=0,0,VLOOKUP($A13,'Stap 2 Register'!$A$8:$AK$107,24,0))","v":0},{"$f":"IF(A13=0,0,VLOOKUP($A13,'Stap 2 Register'!$A$8:$AK$107,25,0))","v":0},{"$f":"IF(A13=0,0,VLOOKUP($A13,'Stap 2 Register'!$A$8:$AK$107,26,0))","v":0},{"$f":"IF(A13=0,0,VLOOKUP($A13,'Stap 2 Register'!$A$8:$AK$107,27,0))","v":0},{"$f":"IF(A13=0,0,VLOOKUP($A13,'Stap 2 Register'!$A$8:$AK$107,28,0))","v":0},{"$f":"IF($D13=$K$7,_xlfn.TEXTJOIN($J$6,,$B13,$C13),\"\")","v":""},"","","","",""]
[{"$f":"IF('1e berekening'!G9=0,'1e berekening'!B9,0)","v":94},{"$f":"IF(A14=0,\"\",VLOOKUP($A14,'Stap 2 Register'!$A$8:$AK$107,2,0))","v":94},{"$f":"IF(A14=0,0,VLOOKUP($A14,'Stap 2 Register'!$A$8:$AK$107,3,0))","v":0},{"$f":"IF(A14=0,\"\",VLOOKUP($A14,'Stap 2 Register'!$A$8:$AK$107,14,0))","v":""},{"$f":"IF(A14=0,0,VLOOKUP($A14,'Stap 2 Register'!$A$8:$AK$107,23,0))","v":0},{"$f":"IF(A14=0,0,VLOOKUP($A14,'Stap 2 Register'!$A$8:$AK$107,24,0))","v":0},{"$f":"IF(A14=0,0,VLOOKUP($A14,'Stap 2 Register'!$A$8:$AK$107,25,0))","v":0},{"$f":"IF(A14=0,0,VLOOKUP($A14,'Stap 2 Register'!$A$8:$AK$107,26,0))","v":0},{"$f":"IF(A14=0,0,VLOOKUP($A14,'Stap 2 Register'!$A$8:$AK$107,27,0))","v":0},{"$f":"IF(A14=0,0,VLOOKUP($A14,'Stap 2 Register'!$A$8:$AK$107,28,0))","v":0},"","","","","",""]
[{"$f":"IF('1e berekening'!G10=0,'1e berekening'!B10,0)","v":93},{"$f":"IF(A15=0,\"\",VLOOKUP($A15,'Stap 2 Register'!$A$8:$AK$107,2,0))","v":93},{"$f":"IF(A15=0,0,VLOOKUP($A15,'Stap 2 Register'!$A$8:$AK$107,3,0))","v":0},{"$f":"IF(A15=0,\"\",VLOOKUP($A15,'Stap 2 Register'!$A$8:$AK$107,14,0))","v":""},{"$f":"IF(A15=0,0,VLOOKUP($A15,'Stap 2 Register'!$A$8:$AK$107,23,0))","v":0},{"$f":"IF(A15=0,0,VLOOKUP($A15,'Stap 2 Register'!$A$8:$AK$107,24,0))","v":0},{"$f":"IF(A15=0,0,VLOOKUP($A15,'Stap 2 Register'!$A$8:$AK$107,25,0))","v":0},{"$f":"IF(A15=0,0,VLOOKUP($A15,'Stap 2 Register'!$A$8:$AK$107,26,0))","v":0},{"$f":"IF(A15=0,0,VLOOKUP($A15,'Stap 2 Register'!$A$8:$AK$107,27,0))","v":0},{"$f":"IF(A15=0,0,VLOOKUP($A15,'Stap 2 Register'!$A$8:$AK$107,28,0))","v":0},"","","","","",""]
[{"$f":"IF('1e berekening'!G11=0,'1e berekening'!B11,0)","v":92},{"$f":"IF(A16=0,\"\",VLOOKUP($A16,'Stap 2 Register'!$A$8:$AK$107,2,0))","v":92},{"$f":"IF(A16=0,0,VLOOKUP($A16,'Stap 2 Register'!$A$8:$AK$107,3,0))","v":0},{"$f":"IF(A16=0,\"\",VLOOKUP($A16,'Stap 2 Register'!$A$8:$AK$107,14,0))","v":""},{"$f":"IF(A16=0,0,VLOOKUP($A16,'Stap 2 Register'!$A$8:$AK$107,23,0))","v":0},{"$f":"IF(A16=0,0,VLOOKUP($A16,'Stap 2 Register'!$A$8:$AK$107,24,0))","v":0},{"$f":"IF(A16=0,0,VLOOKUP($A16,'Stap 2 Register'!$A$8:$AK$107,25,0))","v":0},{"$f":"IF(A16=0,0,VLOOKUP($A16,'Stap 2 Register'!$A$8:$AK$107,26,0))","v":0},{"$f":"IF(A16=0,0,VLOOKUP($A16,'Stap 2 Register'!$A$8:$AK$107,27,0))","v":0},{"$f":"IF(A16=0,0,VLOOKUP($A16,'Stap 2 Register'!$A$8:$AK$107,28,0))","v":0},"","","","","",""]
[{"$f":"IF('1e berekening'!G12=0,'1e berekening'!B12,0)","v":91},{"$f":"IF(A17=0,\"\",VLOOKUP($A17,'Stap 2 Register'!$A$8:$AK$107,2,0))","v":91},{"$f":"IF(A17=0,0,VLOOKUP($A17,'Stap 2 Register'!$A$8:$AK$107,3,0))","v":0},{"$f":"IF(A17=0,\"\",VLOOKUP($A17,'Stap 2 Register'!$A$8:$AK$107,14,0))","v":""},{"$f":"IF(A17=0,0,VLOOKUP($A17,'Stap 2 Register'!$A$8:$AK$107,23,0))","v":0},{"$f":"IF(A17=0,0,VLOOKUP($A17,'Stap 2 Register'!$A$8:$AK$107,24,0))","v":0},{"$f":"IF(A17=0,0,VLOOKUP($A17,'Stap 2 Register'!$A$8:$AK$107,25,0))","v":0},{"$f":"IF(A17=0,0,VLOOKUP($A17,'Stap 2 Register'!$A$8:$AK$107,26,0))","v":0},{"$f":"IF(A17=0,0,VLOOKUP($A17,'Stap 2 Register'!$A$8:$AK$107,27,0))","v":0},{"$f":"IF(A17=0,0,VLOOKUP($A17,'Stap 2 Register'!$A$8:$AK$107,28,0))","v":0},"","","","","",""]
[{"$f":"IF('1e berekening'!G13=0,'1e berekening'!B13,0)","v":90},{"$f":"IF(A18=0,\"\",VLOOKUP($A18,'Stap 2 Register'!$A$8:$AK$107,2,0))","v":90},{"$f":"IF(A18=0,0,VLOOKUP($A18,'Stap 2 Register'!$A$8:$AK$107,3,0))","v":0},{"$f":"IF(A18=0,\"\",VLOOKUP($A18,'Stap 2 Register'!$A$8:$AK$107,14,0))","v":""},{"$f":"IF(A18=0,0,VLOOKUP($A18,'Stap 2 Register'!$A$8:$AK$107,23,0))","v":0},{"$f":"IF(A18=0,0,VLOOKUP($A18,'Stap 2 Register'!$A$8:$AK$107,24,0))","v":0},{"$f":"IF(A18=0,0,VLOOKUP($A18,'Stap 2 Register'!$A$8:$AK$107,25,0))","v":0},{"$f":"IF(A18=0,0,VLOOKUP($A18,'Stap 2 Register'!$A$8:$AK$107,26,0))","v":0},{"$f":"IF(A18=0,0,VLOOKUP($A18,'Stap 2 Register'!$A$8:$AK$107,27,0))","v":0},{"$f":"IF(A18=0,0,VLOOKUP($A18,'Stap 2 Register'!$A$8:$AK$107,28,0))","v":0},"","","","","",""]
[{"$f":"IF('1e berekening'!G14=0,'1e berekening'!B14,0)","v":89},{"$f":"IF(A19=0,\"\",VLOOKUP($A19,'Stap 2 Register'!$A$8:$AK$107,2,0))","v":89},{"$f":"IF(A19=0,0,VLOOKUP($A19,'Stap 2 Register'!$A$8:$AK$107,3,0))","v":0},{"$f":"IF(A19=0,\"\",VLOOKUP($A19,'Stap 2 Register'!$A$8:$AK$107,14,0))","v":""},{"$f":"IF(A19=0,0,VLOOKUP($A19,'Stap 2 Register'!$A$8:$AK$107,23,0))","v":0},{"$f":"IF(A19=0,0,VLOOKUP($A19,'Stap 2 Register'!$A$8:$AK$107,24,0))","v":0},{"$f":"IF(A19=0,0,VLOOKUP($A19,'Stap 2 Register'!$A$8:$AK$107,25,0))","v":0},{"$f":"IF(A19=0,0,VLOOKUP($A19,'Stap 2 Register'!$A$8:$AK$107,26,0))","v":0},{"$f":"IF(A19=0,0,VLOOKUP($A19,'Stap 2 Register'!$A$8:$AK$107,27,0))","v":0},{"$f":"IF(A19=0,0,VLOOKUP($A19,'Stap 2 Register'!$A$8:$AK$107,28,0))","v":0},"","","","","",""]
[{"$f":"IF('1e berekening'!G15=0,'1e berekening'!B15,0)","v":88},{"$f":"IF(A20=0,\"\",VLOOKUP($A20,'Stap 2 Register'!$A$8:$AK$107,2,0))","v":88},{"$f":"IF(A20=0,0,VLOOKUP($A20,'Stap 2 Register'!$A$8:$AK$107,3,0))","v":0},{"$f":"IF(A20=0,\"\",VLOOKUP($A20,'Stap 2 Register'!$A$8:$AK$107,14,0))","v":""},{"$f":"IF(A20=0,0,VLOOKUP($A20,'Stap 2 Register'!$A$8:$AK$107,23,0))","v":0},{"$f":"IF(A20=0,0,VLOOKUP($A20,'Stap 2 Register'!$A$8:$AK$107,24,0))","v":0},{"$f":"IF(A20=0,0,VLOOKUP($A20,'Stap 2 Register'!$A$8:$AK$107,25,0))","v":0},{"$f":"IF(A20=0,0,VLOOKUP($A20,'Stap 2 Register'!$A$8:$AK$107,26,0))","v":0},{"$f":"IF(A20=0,0,VLOOKUP($A20,'Stap 2 Register'!$A$8:$AK$107,27,0))","v":0},{"$f":"IF(A20=0,0,VLOOKUP($A20,'Stap 2 Register'!$A$8:$AK$107,28,0))","v":0},"","","","","",""]
[{"$f":"IF('1e berekening'!G16=0,'1e berekening'!B16,0)","v":87},{"$f":"IF(A21=0,\"\",VLOOKUP($A21,'Stap 2 Register'!$A$8:$AK$107,2,0))","v":87},{"$f":"IF(A21=0,0,VLOOKUP($A21,'Stap 2 Register'!$A$8:$AK$107,3,0))","v":0},{"$f":"IF(A21=0,\"\",VLOOKUP($A21,'Stap 2 Register'!$A$8:$AK$107,14,0))","v":""},{"$f":"IF(A21=0,0,VLOOKUP($A21,'Stap 2 Register'!$A$8:$AK$107,23,0))","v":0},{"$f":"IF(A21=0,0,VLOOKUP($A21,'Stap 2 Register'!$A$8:$AK$107,24,0))","v":0},{"$f":"IF(A21=0,0,VLOOKUP($A21,'Stap 2 Register'!$A$8:$AK$107,25,0))","v":0},{"$f":"IF(A21=0,0,VLOOKUP($A21,'Stap 2 Register'!$A$8:$AK$107,26,0))","v":0},{"$f":"IF(A21=0,0,VLOOKUP($A21,'Stap 2 Register'!$A$8:$AK$107,27,0))","v":0},{"$f":"IF(A21=0,0,VLOOKUP($A21,'Stap 2 Register'!$A$8:$AK$107,28,0))","v":0},"","","","","",""]
[{"$f":"IF('1e berekening'!G17=0,'1e berekening'!B17,0)","v":86},{"$f":"IF(A22=0,\"\",VLOOKUP($A22,'Stap 2 Register'!$A$8:$AK$107,2,0))","v":86},{"$f":"IF(A22=0,0,VLOOKUP($A22,'Stap 2 Register'!$A$8:$AK$107,3,0))","v":0},{"$f":"IF(A22=0,\"\",VLOOKUP($A22,'Stap 2 Register'!$A$8:$AK$107,14,0))","v":""},{"$f":"IF(A22=0,0,VLOOKUP($A22,'Stap 2 Register'!$A$8:$AK$107,23,0))","v":0},{"$f":"IF(A22=0,0,VLOOKUP($A22,'Stap 2 Register'!$A$8:$AK$107,24,0))","v":0},{"$f":"IF(A22=0,0,VLOOKUP($A22,'Stap 2 Register'!$A$8:$AK$107,25,0))","v":0},{"$f":"IF(A22=0,0,VLOOKUP($A22,'Stap 2 Register'!$A$8:$AK$107,26,0))","v":0},{"$f":"IF(A22=0,0,VLOOKUP($A22,'Stap 2 Register'!$A$8:$AK$107,27,0))","v":0},{"$f":"IF(A22=0,0,VLOOKUP($A22,'Stap 2 Register'!$A$8:$AK$107,28,0))","v":0},"","","","","",""]
[{"$f":"IF('1e berekening'!G18=0,'1e berekening'!B18,0)","v":85},{"$f":"IF(A23=0,\"\",VLOOKUP($A23,'Stap 2 Register'!$A$8:$AK$107,2,0))","v":85},{"$f":"IF(A23=0,0,VLOOKUP($A23,'Stap 2 Register'!$A$8:$AK$107,3,0))","v":0},{"$f":"IF(A23=0,\"\",VLOOKUP($A23,'Stap 2 Register'!$A$8:$AK$107,14,0))","v":""},{"$f":"IF(A23=0,0,VLOOKUP($A23,'Stap 2 Register'!$A$8:$AK$107,23,0))","v":0},{"$f":"IF(A23=0,0,VLOOKUP($A23,'Stap 2 Register'!$A$8:$AK$107,24,0))","v":0},{"$f":"IF(A23=0,0,VLOOKUP($A23,'Stap 2 Register'!$A$8:$AK$107,25,0))","v":0},{"$f":"IF(A23=0,0,VLOOKUP($A23,'Stap 2 Register'!$A$8:$AK$107,26,0))","v":0},{"$f":"IF(A23=0,0,VLOOKUP($A23,'Stap 2 Register'!$A$8:$AK$107,27,0))","v":0},{"$f":"IF(A23=0,0,VLOOKUP($A23,'Stap 2 Register'!$A$8:$AK$107,28,0))","v":0},"","","","","",""]
[{"$f":"IF('1e berekening'!G19=0,'1e berekening'!B19,0)","v":84},{"$f":"IF(A24=0,\"\",VLOOKUP($A24,'Stap 2 Register'!$A$8:$AK$107,2,0))","v":84},{"$f":"IF(A24=0,0,VLOOKUP($A24,'Stap 2 Register'!$A$8:$AK$107,3,0))","v":0},{"$f":"IF(A24=0,\"\",VLOOKUP($A24,'Stap 2 Register'!$A$8:$AK$107,14,0))","v":""},{"$f":"IF(A24=0,0,VLOOKUP($A24,'Stap 2 Register'!$A$8:$AK$107,23,0))","v":0},{"$f":"IF(A24=0,0,VLOOKUP($A24,'Stap 2 Register'!$A$8:$AK$107,24,0))","v":0},{"$f":"IF(A24=0,0,VLOOKUP($A24,'Stap 2 Register'!$A$8:$AK$107,25,0))","v":0},{"$f":"IF(A24=0,0,VLOOKUP($A24,'Stap 2 Register'!$A$8:$AK$107,26,0))","v":0},{"$f":"IF(A24=0,0,VLOOKUP($A24,'Stap 2 Register'!$A$8:$AK$107,27,0))","v":0},{"$f":"IF(A24=0,0,VLOOKUP($A24,'Stap 2 Register'!$A$8:$AK$107,28,0))","v":0},"","","","","",""]
[{"$f":"IF('1e berekening'!G20=0,'1e berekening'!B20,0)","v":83},{"$f":"IF(A25=0,\"\",VLOOKUP($A25,'Stap 2 Register'!$A$8:$AK$107,2,0))","v":83},{"$f":"IF(A25=0,0,VLOOKUP($A25,'Stap 2 Register'!$A$8:$AK$107,3,0))","v":0},{"$f":"IF(A25=0,\"\",VLOOKUP($A25,'Stap 2 Register'!$A$8:$AK$107,14,0))","v":""},{"$f":"IF(A25=0,0,VLOOKUP($A25,'Stap 2 Register'!$A$8:$AK$107,23,0))","v":0},{"$f":"IF(A25=0,0,VLOOKUP($A25,'Stap 2 Register'!$A$8:$AK$107,24,0))","v":0},{"$f":"IF(A25=0,0,VLOOKUP($A25,'Stap 2 Register'!$A$8:$AK$107,25,0))","v":0},{"$f":"IF(A25=0,0,VLOOKUP($A25,'Stap 2 Register'!$A$8:$AK$107,26,0))","v":0},{"$f":"IF(A25=0,0,VLOOKUP($A25,'Stap 2 Register'!$A$8:$AK$107,27,0))","v":0},{"$f":"IF(A25=0,0,VLOOKUP($A25,'Stap 2 Register'!$A$8:$AK$107,28,0))","v":0},"","","","","",""]
[{"$f":"IF('1e berekening'!G21=0,'1e berekening'!B21,0)","v":82},{"$f":"IF(A26=0,\"\",VLOOKUP($A26,'Stap 2 Register'!$A$8:$AK$107,2,0))","v":82},{"$f":"IF(A26=0,0,VLOOKUP($A26,'Stap 2 Register'!$A$8:$AK$107,3,0))","v":0},{"$f":"IF(A26=0,\"\",VLOOKUP($A26,'Stap 2 Register'!$A$8:$AK$107,14,0))","v":""},{"$f":"IF(A26=0,0,VLOOKUP($A26,'Stap 2 Register'!$A$8:$AK$107,23,0))","v":0},{"$f":"IF(A26=0,0,VLOOKUP($A26,'Stap 2 Register'!$A$8:$AK$107,24,0))","v":0},{"$f":"IF(A26=0,0,VLOOKUP($A26,'Stap 2 Register'!$A$8:$AK$107,25,0))","v":0},{"$f":"IF(A26=0,0,VLOOKUP($A26,'Stap 2 Register'!$A$8:$AK$107,26,0))","v":0},{"$f":"IF(A26=0,0,VLOOKUP($A26,'Stap 2 Register'!$A$8:$AK$107,27,0))","v":0},{"$f":"IF(A26=0,0,VLOOKUP($A26,'Stap 2 Register'!$A$8:$AK$107,28,0))","v":0},"","","","","",""]
[{"$f":"IF('1e berekening'!G22=0,'1e berekening'!B22,0)","v":81},{"$f":"IF(A27=0,\"\",VLOOKUP($A27,'Stap 2 Register'!$A$8:$AK$107,2,0))","v":81},{"$f":"IF(A27=0,0,VLOOKUP($A27,'Stap 2 Register'!$A$8:$AK$107,3,0))","v":0},{"$f":"IF(A27=0,\"\",VLOOKUP($A27,'Stap 2 Register'!$A$8:$AK$107,14,0))","v":""},{"$f":"IF(A27=0,0,VLOOKUP($A27,'Stap 2 Register'!$A$8:$AK$107,23,0))","v":0},{"$f":"IF(A27=0,0,VLOOKUP($A27,'Stap 2 Register'!$A$8:$AK$107,24,0))","v":0},{"$f":"IF(A27=0,0,VLOOKUP($A27,'Stap 2 Register'!$A$8:$AK$107,25,0))","v":0},{"$f":"IF(A27=0,0,VLOOKUP($A27,'Stap 2 Register'!$A$8:$AK$107,26,0))","v":0},{"$f":"IF(A27=0,0,VLOOKUP($A27,'Stap 2 Register'!$A$8:$AK$107,27,0))","v":0},{"$f":"IF(A27=0,0,VLOOKUP($A27,'Stap 2 Register'!$A$8:$AK$107,28,0))","v":0},"","","","","",""]
[{"$f":"IF('1e berekening'!G23=0,'1e berekening'!B23,0)","v":80},{"$f":"IF(A28=0,\"\",VLOOKUP($A28,'Stap 2 Register'!$A$8:$AK$107,2,0))","v":80},{"$f":"IF(A28=0,0,VLOOKUP($A28,'Stap 2 Register'!$A$8:$AK$107,3,0))","v":0},{"$f":"IF(A28=0,\"\",VLOOKUP($A28,'Stap 2 Register'!$A$8:$AK$107,14,0))","v":""},{"$f":"IF(A28=0,0,VLOOKUP($A28,'Stap 2 Register'!$A$8:$AK$107,23,0))","v":0},{"$f":"IF(A28=0,0,VLOOKUP($A28,'Stap 2 Register'!$A$8:$AK$107,24,0))","v":0},{"$f":"IF(A28=0,0,VLOOKUP($A28,'Stap 2 Register'!$A$8:$AK$107,25,0))","v":0},{"$f":"IF(A28=0,0,VLOOKUP($A28,'Stap 2 Register'!$A$8:$AK$107,26,0))","v":0},{"$f":"IF(A28=0,0,VLOOKUP($A28,'Stap 2 Register'!$A$8:$AK$107,27,0))","v":0},{"$f":"IF(A28=0,0,VLOOKUP($A28,'Stap 2 Register'!$A$8:$AK$107,28,0))","v":0},"","","","","",""]
[{"$f":"IF('1e berekening'!G24=0,'1e berekening'!B24,0)","v":79},{"$f":"IF(A29=0,\"\",VLOOKUP($A29,'Stap 2 Register'!$A$8:$AK$107,2,0))","v":79},{"$f":"IF(A29=0,0,VLOOKUP($A29,'Stap 2 Register'!$A$8:$AK$107,3,0))","v":0},{"$f":"IF(A29=0,\"\",VLOOKUP($A29,'Stap 2 Register'!$A$8:$AK$107,14,0))","v":""},{"$f":"IF(A29=0,0,VLOOKUP($A29,'Stap 2 Register'!$A$8:$AK$107,23,0))","v":0},{"$f":"IF(A29=0,0,VLOOKUP($A29,'Stap 2 Register'!$A$8:$AK$107,24,0))","v":0},{"$f":"IF(A29=0,0,VLOOKUP($A29,'Stap 2 Register'!$A$8:$AK$107,25,0))","v":0},{"$f":"IF(A29=0,0,VLOOKUP($A29,'Stap 2 Register'!$A$8:$AK$107,26,0))","v":0},{"$f":"IF(A29=0,0,VLOOKUP($A29,'Stap 2 Register'!$A$8:$AK$107,27,0))","v":0},{"$f":"IF(A29=0,0,VLOOKUP($A29,'Stap 2 Register'!$A$8:$AK$107,28,0))","v":0},"","","","","",""]
[{"$f":"IF('1e berekening'!G25=0,'1e berekening'!B25,0)","v":78},{"$f":"IF(A30=0,\"\",VLOOKUP($A30,'Stap 2 Register'!$A$8:$AK$107,2,0))","v":78},{"$f":"IF(A30=0,0,VLOOKUP($A30,'Stap 2 Register'!$A$8:$AK$107,3,0))","v":0},{"$f":"IF(A30=0,\"\",VLOOKUP($A30,'Stap 2 Register'!$A$8:$AK$107,14,0))","v":""},{"$f":"IF(A30=0,0,VLOOKUP($A30,'Stap 2 Register'!$A$8:$AK$107,23,0))","v":0},{"$f":"IF(A30=0,0,VLOOKUP($A30,'Stap 2 Register'!$A$8:$AK$107,24,0))","v":0},{"$f":"IF(A30=0,0,VLOOKUP($A30,'Stap 2 Register'!$A$8:$AK$107,25,0))","v":0},{"$f":"IF(A30=0,0,VLOOKUP($A30,'Stap 2 Register'!$A$8:$AK$107,26,0))","v":0},{"$f":"IF(A30=0,0,VLOOKUP($A30,'Stap 2 Register'!$A$8:$AK$107,27,0))","v":0},{"$f":"IF(A30=0,0,VLOOKUP($A30,'Stap 2 Register'!$A$8:$AK$107,28,0))","v":0},"","","","","",""]
[{"$f":"IF('1e berekening'!G26=0,'1e berekening'!B26,0)","v":77},{"$f":"IF(A31=0,\"\",VLOOKUP($A31,'Stap 2 Register'!$A$8:$AK$107,2,0))","v":77},{"$f":"IF(A31=0,0,VLOOKUP($A31,'Stap 2 Register'!$A$8:$AK$107,3,0))","v":0},{"$f":"IF(A31=0,\"\",VLOOKUP($A31,'Stap 2 Register'!$A$8:$AK$107,14,0))","v":""},{"$f":"IF(A31=0,0,VLOOKUP($A31,'Stap 2 Register'!$A$8:$AK$107,23,0))","v":0},{"$f":"IF(A31=0,0,VLOOKUP($A31,'Stap 2 Register'!$A$8:$AK$107,24,0))","v":0},{"$f":"IF(A31=0,0,VLOOKUP($A31,'Stap 2 Register'!$A$8:$AK$107,25,0))","v":0},{"$f":"IF(A31=0,0,VLOOKUP($A31,'Stap 2 Register'!$A$8:$AK$107,26,0))","v":0},{"$f":"IF(A31=0,0,VLOOKUP($A31,'Stap 2 Register'!$A$8:$AK$107,27,0))","v":0},{"$f":"IF(A31=0,0,VLOOKUP($A31,'Stap 2 Register'!$A$8:$AK$107,28,0))","v":0},"","","","","",""]
[{"$f":"IF('1e berekening'!G27=0,'1e berekening'!B27,0)","v":76},{"$f":"IF(A32=0,\"\",VLOOKUP($A32,'Stap 2 Register'!$A$8:$AK$107,2,0))","v":76},{"$f":"IF(A32=0,0,VLOOKUP($A32,'Stap 2 Register'!$A$8:$AK$107,3,0))","v":0},{"$f":"IF(A32=0,\"\",VLOOKUP($A32,'Stap 2 Register'!$A$8:$AK$107,14,0))","v":""},{"$f":"IF(A32=0,0,VLOOKUP($A32,'Stap 2 Register'!$A$8:$AK$107,23,0))","v":0},{"$f":"IF(A32=0,0,VLOOKUP($A32,'Stap 2 Register'!$A$8:$AK$107,24,0))","v":0},{"$f":"IF(A32=0,0,VLOOKUP($A32,'Stap 2 Register'!$A$8:$AK$107,25,0))","v":0},{"$f":"IF(A32=0,0,VLOOKUP($A32,'Stap 2 Register'!$A$8:$AK$107,26,0))","v":0},{"$f":"IF(A32=0,0,VLOOKUP($A32,'Stap 2 Register'!$A$8:$AK$107,27,0))","v":0},{"$f":"IF(A32=0,0,VLOOKUP($A32,'Stap 2 Register'!$A$8:$AK$107,28,0))","v":0},"","","","","",""]
[{"$f":"IF('1e berekening'!G28=0,'1e berekening'!B28,0)","v":75},{"$f":"IF(A33=0,\"\",VLOOKUP($A33,'Stap 2 Register'!$A$8:$AK$107,2,0))","v":75},{"$f":"IF(A33=0,0,VLOOKUP($A33,'Stap 2 Register'!$A$8:$AK$107,3,0))","v":0},{"$f":"IF(A33=0,\"\",VLOOKUP($A33,'Stap 2 Register'!$A$8:$AK$107,14,0))","v":""},{"$f":"IF(A33=0,0,VLOOKUP($A33,'Stap 2 Register'!$A$8:$AK$107,23,0))","v":0},{"$f":"IF(A33=0,0,VLOOKUP($A33,'Stap 2 Register'!$A$8:$AK$107,24,0))","v":0},{"$f":"IF(A33=0,0,VLOOKUP($A33,'Stap 2 Register'!$A$8:$AK$107,25,0))","v":0},{"$f":"IF(A33=0,0,VLOOKUP($A33,'Stap 2 Register'!$A$8:$AK$107,26,0))","v":0},{"$f":"IF(A33=0,0,VLOOKUP($A33,'Stap 2 Register'!$A$8:$AK$107,27,0))","v":0},{"$f":"IF(A33=0,0,VLOOKUP($A33,'Stap 2 Register'!$A$8:$AK$107,28,0))","v":0},"","","","","",""]
[{"$f":"IF('1e berekening'!G29=0,'1e berekening'!B29,0)","v":74},{"$f":"IF(A34=0,\"\",VLOOKUP($A34,'Stap 2 Register'!$A$8:$AK$107,2,0))","v":74},{"$f":"IF(A34=0,0,VLOOKUP($A34,'Stap 2 Register'!$A$8:$AK$107,3,0))","v":0},{"$f":"IF(A34=0,\"\",VLOOKUP($A34,'Stap 2 Register'!$A$8:$AK$107,14,0))","v":""},{"$f":"IF(A34=0,0,VLOOKUP($A34,'Stap 2 Register'!$A$8:$AK$107,23,0))","v":0},{"$f":"IF(A34=0,0,VLOOKUP($A34,'Stap 2 Register'!$A$8:$AK$107,24,0))","v":0},{"$f":"IF(A34=0,0,VLOOKUP($A34,'Stap 2 Register'!$A$8:$AK$107,25,0))","v":0},{"$f":"IF(A34=0,0,VLOOKUP($A34,'Stap 2 Register'!$A$8:$AK$107,26,0))","v":0},{"$f":"IF(A34=0,0,VLOOKUP($A34,'Stap 2 Register'!$A$8:$AK$107,27,0))","v":0},{"$f":"IF(A34=0,0,VLOOKUP($A34,'Stap 2 Register'!$A$8:$AK$107,28,0))","v":0},"","","","","",""]
[{"$f":"IF('1e berekening'!G30=0,'1e berekening'!B30,0)","v":73},{"$f":"IF(A35=0,\"\",VLOOKUP($A35,'Stap 2 Register'!$A$8:$AK$107,2,0))","v":73},{"$f":"IF(A35=0,0,VLOOKUP($A35,'Stap 2 Register'!$A$8:$AK$107,3,0))","v":0},{"$f":"IF(A35=0,\"\",VLOOKUP($A35,'Stap 2 Register'!$A$8:$AK$107,14,0))","v":""},{"$f":"IF(A35=0,0,VLOOKUP($A35,'Stap 2 Register'!$A$8:$AK$107,23,0))","v":0},{"$f":"IF(A35=0,0,VLOOKUP($A35,'Stap 2 Register'!$A$8:$AK$107,24,0))","v":0},{"$f":"IF(A35=0,0,VLOOKUP($A35,'Stap 2 Register'!$A$8:$AK$107,25,0))","v":0},{"$f":"IF(A35=0,0,VLOOKUP($A35,'Stap 2 Register'!$A$8:$AK$107,26,0))","v":0},{"$f":"IF(A35=0,0,VLOOKUP($A35,'Stap 2 Register'!$A$8:$AK$107,27,0))","v":0},{"$f":"IF(A35=0,0,VLOOKUP($A35,'Stap 2 Register'!$A$8:$AK$107,28,0))","v":0},"","","","","",""]
[{"$f":"IF('1e berekening'!G31=0,'1e berekening'!B31,0)","v":72},{"$f":"IF(A36=0,\"\",VLOOKUP($A36,'Stap 2 Register'!$A$8:$AK$107,2,0))","v":72},{"$f":"IF(A36=0,0,VLOOKUP($A36,'Stap 2 Register'!$A$8:$AK$107,3,0))","v":0},{"$f":"IF(A36=0,\"\",VLOOKUP($A36,'Stap 2 Register'!$A$8:$AK$107,14,0))","v":""},{"$f":"IF(A36=0,0,VLOOKUP($A36,'Stap 2 Register'!$A$8:$AK$107,23,0))","v":0},{"$f":"IF(A36=0,0,VLOOKUP($A36,'Stap 2 Register'!$A$8:$AK$107,24,0))","v":0},{"$f":"IF(A36=0,0,VLOOKUP($A36,'Stap 2 Register'!$A$8:$AK$107,25,0))","v":0},{"$f":"IF(A36=0,0,VLOOKUP($A36,'Stap 2 Register'!$A$8:$AK$107,26,0))","v":0},{"$f":"IF(A36=0,0,VLOOKUP($A36,'Stap 2 Register'!$A$8:$AK$107,27,0))","v":0},{"$f":"IF(A36=0,0,VLOOKUP($A36,'Stap 2 Register'!$A$8:$AK$107,28,0))","v":0},"","","","","",""]
[{"$f":"IF('1e berekening'!G32=0,'1e berekening'!B32,0)","v":71},{"$f":"IF(A37=0,\"\",VLOOKUP($A37,'Stap 2 Register'!$A$8:$AK$107,2,0))","v":71},{"$f":"IF(A37=0,0,VLOOKUP($A37,'Stap 2 Register'!$A$8:$AK$107,3,0))","v":0},{"$f":"IF(A37=0,\"\",VLOOKUP($A37,'Stap 2 Register'!$A$8:$AK$107,14,0))","v":""},{"$f":"IF(A37=0,0,VLOOKUP($A37,'Stap 2 Register'!$A$8:$AK$107,23,0))","v":0},{"$f":"IF(A37=0,0,VLOOKUP($A37,'Stap 2 Register'!$A$8:$AK$107,24,0))","v":0},{"$f":"IF(A37=0,0,VLOOKUP($A37,'Stap 2 Register'!$A$8:$AK$107,25,0))","v":0},{"$f":"IF(A37=0,0,VLOOKUP($A37,'Stap 2 Register'!$A$8:$AK$107,26,0))","v":0},{"$f":"IF(A37=0,0,VLOOKUP($A37,'Stap 2 Register'!$A$8:$AK$107,27,0))","v":0},{"$f":"IF(A37=0,0,VLOOKUP($A37,'Stap 2 Register'!$A$8:$AK$107,28,0))","v":0},"","","","","",""]
[{"$f":"IF('1e berekening'!G33=0,'1e berekening'!B33,0)","v":70},{"$f":"IF(A38=0,\"\",VLOOKUP($A38,'Stap 2 Register'!$A$8:$AK$107,2,0))","v":70},{"$f":"IF(A38=0,0,VLOOKUP($A38,'Stap 2 Register'!$A$8:$AK$107,3,0))","v":0},{"$f":"IF(A38=0,\"\",VLOOKUP($A38,'Stap 2 Register'!$A$8:$AK$107,14,0))","v":""},{"$f":"IF(A38=0,0,VLOOKUP($A38,'Stap 2 Register'!$A$8:$AK$107,23,0))","v":0},{"$f":"IF(A38=0,0,VLOOKUP($A38,'Stap 2 Register'!$A$8:$AK$107,24,0))","v":0},{"$f":"IF(A38=0,0,VLOOKUP($A38,'Stap 2 Register'!$A$8:$AK$107,25,0))","v":0},{"$f":"IF(A38=0,0,VLOOKUP($A38,'Stap 2 Register'!$A$8:$AK$107,26,0))","v":0},{"$f":"IF(A38=0,0,VLOOKUP($A38,'Stap 2 Register'!$A$8:$AK$107,27,0))","v":0},{"$f":"IF(A38=0,0,VLOOKUP($A38,'Stap 2 Register'!$A$8:$AK$107,28,0))","v":0},"","","","","",""]
[{"$f":"IF('1e berekening'!G34=0,'1e berekening'!B34,0)","v":69},{"$f":"IF(A39=0,\"\",VLOOKUP($A39,'Stap 2 Register'!$A$8:$AK$107,2,0))","v":69},{"$f":"IF(A39=0,0,VLOOKUP($A39,'Stap 2 Register'!$A$8:$AK$107,3,0))","v":0},{"$f":"IF(A39=0,\"\",VLOOKUP($A39,'Stap 2 Register'!$A$8:$AK$107,14,0))","v":""},{"$f":"IF(A39=0,0,VLOOKUP($A39,'Stap 2 Register'!$A$8:$AK$107,23,0))","v":0},{"$f":"IF(A39=0,0,VLOOKUP($A39,'Stap 2 Register'!$A$8:$AK$107,24,0))","v":0},{"$f":"IF(A39=0,0,VLOOKUP($A39,'Stap 2 Register'!$A$8:$AK$107,25,0))","v":0},{"$f":"IF(A39=0,0,VLOOKUP($A39,'Stap 2 Register'!$A$8:$AK$107,26,0))","v":0},{"$f":"IF(A39=0,0,VLOOKUP($A39,'Stap 2 Register'!$A$8:$AK$107,27,0))","v":0},{"$f":"IF(A39=0,0,VLOOKUP($A39,'Stap 2 Register'!$A$8:$AK$107,28,0))","v":0},"","","","","",""]
[{"$f":"IF('1e berekening'!G35=0,'1e berekening'!B35,0)","v":68},{"$f":"IF(A40=0,\"\",VLOOKUP($A40,'Stap 2 Register'!$A$8:$AK$107,2,0))","v":68},{"$f":"IF(A40=0,0,VLOOKUP($A40,'Stap 2 Register'!$A$8:$AK$107,3,0))","v":0},{"$f":"IF(A40=0,\"\",VLOOKUP($A40,'Stap 2 Register'!$A$8:$AK$107,14,0))","v":""},{"$f":"IF(A40=0,0,VLOOKUP($A40,'Stap 2 Register'!$A$8:$AK$107,23,0))","v":0},{"$f":"IF(A40=0,0,VLOOKUP($A40,'Stap 2 Register'!$A$8:$AK$107,24,0))","v":0},{"$f":"IF(A40=0,0,VLOOKUP($A40,'Stap 2 Register'!$A$8:$AK$107,25,0))","v":0},{"$f":"IF(A40=0,0,VLOOKUP($A40,'Stap 2 Register'!$A$8:$AK$107,26,0))","v":0},{"$f":"IF(A40=0,0,VLOOKUP($A40,'Stap 2 Register'!$A$8:$AK$107,27,0))","v":0},{"$f":"IF(A40=0,0,VLOOKUP($A40,'Stap 2 Register'!$A$8:$AK$107,28,0))","v":0},"","","","","",""]
[{"$f":"IF('1e berekening'!G36=0,'1e berekening'!B36,0)","v":67},{"$f":"IF(A41=0,\"\",VLOOKUP($A41,'Stap 2 Register'!$A$8:$AK$107,2,0))","v":67},{"$f":"IF(A41=0,0,VLOOKUP($A41,'Stap 2 Register'!$A$8:$AK$107,3,0))","v":0},{"$f":"IF(A41=0,\"\",VLOOKUP($A41,'Stap 2 Register'!$A$8:$AK$107,14,0))","v":""},{"$f":"IF(A41=0,0,VLOOKUP($A41,'Stap 2 Register'!$A$8:$AK$107,23,0))","v":0},{"$f":"IF(A41=0,0,VLOOKUP($A41,'Stap 2 Register'!$A$8:$AK$107,24,0))","v":0},{"$f":"IF(A41=0,0,VLOOKUP($A41,'Stap 2 Register'!$A$8:$AK$107,25,0))","v":0},{"$f":"IF(A41=0,0,VLOOKUP($A41,'Stap 2 Register'!$A$8:$AK$107,26,0))","v":0},{"$f":"IF(A41=0,0,VLOOKUP($A41,'Stap 2 Register'!$A$8:$AK$107,27,0))","v":0},{"$f":"IF(A41=0,0,VLOOKUP($A41,'Stap 2 Register'!$A$8:$AK$107,28,0))","v":0},"","","","","",""]
[{"$f":"IF('1e berekening'!G37=0,'1e berekening'!B37,0)","v":66},{"$f":"IF(A42=0,\"\",VLOOKUP($A42,'Stap 2 Register'!$A$8:$AK$107,2,0))","v":66},{"$f":"IF(A42=0,0,VLOOKUP($A42,'Stap 2 Register'!$A$8:$AK$107,3,0))","v":0},{"$f":"IF(A42=0,\"\",VLOOKUP($A42,'Stap 2 Register'!$A$8:$AK$107,14,0))","v":""},{"$f":"IF(A42=0,0,VLOOKUP($A42,'Stap 2 Register'!$A$8:$AK$107,23,0))","v":0},{"$f":"IF(A42=0,0,VLOOKUP($A42,'Stap 2 Register'!$A$8:$AK$107,24,0))","v":0},{"$f":"IF(A42=0,0,VLOOKUP($A42,'Stap 2 Register'!$A$8:$AK$107,25,0))","v":0},{"$f":"IF(A42=0,0,VLOOKUP($A42,'Stap 2 Register'!$A$8:$AK$107,26,0))","v":0},{"$f":"IF(A42=0,0,VLOOKUP($A42,'Stap 2 Register'!$A$8:$AK$107,27,0))","v":0},{"$f":"IF(A42=0,0,VLOOKUP($A42,'Stap 2 Register'!$A$8:$AK$107,28,0))","v":0},"","","","","",""]
[{"$f":"IF('1e berekening'!G38=0,'1e berekening'!B38,0)","v":65},{"$f":"IF(A43=0,\"\",VLOOKUP($A43,'Stap 2 Register'!$A$8:$AK$107,2,0))","v":65},{"$f":"IF(A43=0,0,VLOOKUP($A43,'Stap 2 Register'!$A$8:$AK$107,3,0))","v":0},{"$f":"IF(A43=0,\"\",VLOOKUP($A43,'Stap 2 Register'!$A$8:$AK$107,14,0))","v":""},{"$f":"IF(A43=0,0,VLOOKUP($A43,'Stap 2 Register'!$A$8:$AK$107,23,0))","v":0},{"$f":"IF(A43=0,0,VLOOKUP($A43,'Stap 2 Register'!$A$8:$AK$107,24,0))","v":0},{"$f":"IF(A43=0,0,VLOOKUP($A43,'Stap 2 Register'!$A$8:$AK$107,25,0))","v":0},{"$f":"IF(A43=0,0,VLOOKUP($A43,'Stap 2 Register'!$A$8:$AK$107,26,0))","v":0},{"$f":"IF(A43=0,0,VLOOKUP($A43,'Stap 2 Register'!$A$8:$AK$107,27,0))","v":0},{"$f":"IF(A43=0,0,VLOOKUP($A43,'Stap 2 Register'!$A$8:$AK$107,28,0))","v":0},"","","","","",""]
[{"$f":"IF('1e berekening'!G39=0,'1e berekening'!B39,0)","v":64},{"$f":"IF(A44=0,\"\",VLOOKUP($A44,'Stap 2 Register'!$A$8:$AK$107,2,0))","v":64},{"$f":"IF(A44=0,0,VLOOKUP($A44,'Stap 2 Register'!$A$8:$AK$107,3,0))","v":0},{"$f":"IF(A44=0,\"\",VLOOKUP($A44,'Stap 2 Register'!$A$8:$AK$107,14,0))","v":""},{"$f":"IF(A44=0,0,VLOOKUP($A44,'Stap 2 Register'!$A$8:$AK$107,23,0))","v":0},{"$f":"IF(A44=0,0,VLOOKUP($A44,'Stap 2 Register'!$A$8:$AK$107,24,0))","v":0},{"$f":"IF(A44=0,0,VLOOKUP($A44,'Stap 2 Register'!$A$8:$AK$107,25,0))","v":0},{"$f":"IF(A44=0,0,VLOOKUP($A44,'Stap 2 Register'!$A$8:$AK$107,26,0))","v":0},{"$f":"IF(A44=0,0,VLOOKUP($A44,'Stap 2 Register'!$A$8:$AK$107,27,0))","v":0},{"$f":"IF(A44=0,0,VLOOKUP($A44,'Stap 2 Register'!$A$8:$AK$107,28,0))","v":0},"","","","","",""]
[{"$f":"IF('1e berekening'!G40=0,'1e berekening'!B40,0)","v":63},{"$f":"IF(A45=0,\"\",VLOOKUP($A45,'Stap 2 Register'!$A$8:$AK$107,2,0))","v":63},{"$f":"IF(A45=0,0,VLOOKUP($A45,'Stap 2 Register'!$A$8:$AK$107,3,0))","v":0},{"$f":"IF(A45=0,\"\",VLOOKUP($A45,'Stap 2 Register'!$A$8:$AK$107,14,0))","v":""},{"$f":"IF(A45=0,0,VLOOKUP($A45,'Stap 2 Register'!$A$8:$AK$107,23,0))","v":0},{"$f":"IF(A45=0,0,VLOOKUP($A45,'Stap 2 Register'!$A$8:$AK$107,24,0))","v":0},{"$f":"IF(A45=0,0,VLOOKUP($A45,'Stap 2 Register'!$A$8:$AK$107,25,0))","v":0},{"$f":"IF(A45=0,0,VLOOKUP($A45,'Stap 2 Register'!$A$8:$AK$107,26,0))","v":0},{"$f":"IF(A45=0,0,VLOOKUP($A45,'Stap 2 Register'!$A$8:$AK$107,27,0))","v":0},{"$f":"IF(A45=0,0,VLOOKUP($A45,'Stap 2 Register'!$A$8:$AK$107,28,0))","v":0},"","","","","",""]
[{"$f":"IF('1e berekening'!G41=0,'1e berekening'!B41,0)","v":62},{"$f":"IF(A46=0,\"\",VLOOKUP($A46,'Stap 2 Register'!$A$8:$AK$107,2,0))","v":62},{"$f":"IF(A46=0,0,VLOOKUP($A46,'Stap 2 Register'!$A$8:$AK$107,3,0))","v":0},{"$f":"IF(A46=0,\"\",VLOOKUP($A46,'Stap 2 Register'!$A$8:$AK$107,14,0))","v":""},{"$f":"IF(A46=0,0,VLOOKUP($A46,'Stap 2 Register'!$A$8:$AK$107,23,0))","v":0},{"$f":"IF(A46=0,0,VLOOKUP($A46,'Stap 2 Register'!$A$8:$AK$107,24,0))","v":0},{"$f":"IF(A46=0,0,VLOOKUP($A46,'Stap 2 Register'!$A$8:$AK$107,25,0))","v":0},{"$f":"IF(A46=0,0,VLOOKUP($A46,'Stap 2 Register'!$A$8:$AK$107,26,0))","v":0},{"$f":"IF(A46=0,0,VLOOKUP($A46,'Stap 2 Register'!$A$8:$AK$107,27,0))","v":0},{"$f":"IF(A46=0,0,VLOOKUP($A46,'Stap 2 Register'!$A$8:$AK$107,28,0))","v":0},"","","","","",""]
[{"$f":"IF('1e berekening'!G42=0,'1e berekening'!B42,0)","v":61},{"$f":"IF(A47=0,\"\",VLOOKUP($A47,'Stap 2 Register'!$A$8:$AK$107,2,0))","v":61},{"$f":"IF(A47=0,0,VLOOKUP($A47,'Stap 2 Register'!$A$8:$AK$107,3,0))","v":0},{"$f":"IF(A47=0,\"\",VLOOKUP($A47,'Stap 2 Register'!$A$8:$AK$107,14,0))","v":""},{"$f":"IF(A47=0,0,VLOOKUP($A47,'Stap 2 Register'!$A$8:$AK$107,23,0))","v":0},{"$f":"IF(A47=0,0,VLOOKUP($A47,'Stap 2 Register'!$A$8:$AK$107,24,0))","v":0},{"$f":"IF(A47=0,0,VLOOKUP($A47,'Stap 2 Register'!$A$8:$AK$107,25,0))","v":0},{"$f":"IF(A47=0,0,VLOOKUP($A47,'Stap 2 Register'!$A$8:$AK$107,26,0))","v":0},{"$f":"IF(A47=0,0,VLOOKUP($A47,'Stap 2 Register'!$A$8:$AK$107,27,0))","v":0},{"$f":"IF(A47=0,0,VLOOKUP($A47,'Stap 2 Register'!$A$8:$AK$107,28,0))","v":0},"","","","","",""]
[{"$f":"IF('1e berekening'!G43=0,'1e berekening'!B43,0)","v":60},{"$f":"IF(A48=0,\"\",VLOOKUP($A48,'Stap 2 Register'!$A$8:$AK$107,2,0))","v":60},{"$f":"IF(A48=0,0,VLOOKUP($A48,'Stap 2 Register'!$A$8:$AK$107,3,0))","v":0},{"$f":"IF(A48=0,\"\",VLOOKUP($A48,'Stap 2 Register'!$A$8:$AK$107,14,0))","v":""},{"$f":"IF(A48=0,0,VLOOKUP($A48,'Stap 2 Register'!$A$8:$AK$107,23,0))","v":0},{"$f":"IF(A48=0,0,VLOOKUP($A48,'Stap 2 Register'!$A$8:$AK$107,24,0))","v":0},{"$f":"IF(A48=0,0,VLOOKUP($A48,'Stap 2 Register'!$A$8:$AK$107,25,0))","v":0},{"$f":"IF(A48=0,0,VLOOKUP($A48,'Stap 2 Register'!$A$8:$AK$107,26,0))","v":0},{"$f":"IF(A48=0,0,VLOOKUP($A48,'Stap 2 Register'!$A$8:$AK$107,27,0))","v":0},{"$f":"IF(A48=0,0,VLOOKUP($A48,'Stap 2 Register'!$A$8:$AK$107,28,0))","v":0},"","","","","",""]
[{"$f":"IF('1e berekening'!G44=0,'1e berekening'!B44,0)","v":59},{"$f":"IF(A49=0,\"\",VLOOKUP($A49,'Stap 2 Register'!$A$8:$AK$107,2,0))","v":59},{"$f":"IF(A49=0,0,VLOOKUP($A49,'Stap 2 Register'!$A$8:$AK$107,3,0))","v":0},{"$f":"IF(A49=0,\"\",VLOOKUP($A49,'Stap 2 Register'!$A$8:$AK$107,14,0))","v":""},{"$f":"IF(A49=0,0,VLOOKUP($A49,'Stap 2 Register'!$A$8:$AK$107,23,0))","v":0},{"$f":"IF(A49=0,0,VLOOKUP($A49,'Stap 2 Register'!$A$8:$AK$107,24,0))","v":0},{"$f":"IF(A49=0,0,VLOOKUP($A49,'Stap 2 Register'!$A$8:$AK$107,25,0))","v":0},{"$f":"IF(A49=0,0,VLOOKUP($A49,'Stap 2 Register'!$A$8:$AK$107,26,0))","v":0},{"$f":"IF(A49=0,0,VLOOKUP($A49,'Stap 2 Register'!$A$8:$AK$107,27,0))","v":0},{"$f":"IF(A49=0,0,VLOOKUP($A49,'Stap 2 Register'!$A$8:$AK$107,28,0))","v":0},"","","","","",""]
[{"$f":"IF('1e berekening'!G45=0,'1e berekening'!B45,0)","v":58},{"$f":"IF(A50=0,\"\",VLOOKUP($A50,'Stap 2 Register'!$A$8:$AK$107,2,0))","v":58},{"$f":"IF(A50=0,0,VLOOKUP($A50,'Stap 2 Register'!$A$8:$AK$107,3,0))","v":0},{"$f":"IF(A50=0,\"\",VLOOKUP($A50,'Stap 2 Register'!$A$8:$AK$107,14,0))","v":""},{"$f":"IF(A50=0,0,VLOOKUP($A50,'Stap 2 Register'!$A$8:$AK$107,23,0))","v":0},{"$f":"IF(A50=0,0,VLOOKUP($A50,'Stap 2 Register'!$A$8:$AK$107,24,0))","v":0},{"$f":"IF(A50=0,0,VLOOKUP($A50,'Stap 2 Register'!$A$8:$AK$107,25,0))","v":0},{"$f":"IF(A50=0,0,VLOOKUP($A50,'Stap 2 Register'!$A$8:$AK$107,26,0))","v":0},{"$f":"IF(A50=0,0,VLOOKUP($A50,'Stap 2 Register'!$A$8:$AK$107,27,0))","v":0},{"$f":"IF(A50=0,0,VLOOKUP($A50,'Stap 2 Register'!$A$8:$AK$107,28,0))","v":0},"","","","","",""]
[{"$f":"IF('1e berekening'!G46=0,'1e berekening'!B46,0)","v":57},{"$f":"IF(A51=0,\"\",VLOOKUP($A51,'Stap 2 Register'!$A$8:$AK$107,2,0))","v":57},{"$f":"IF(A51=0,0,VLOOKUP($A51,'Stap 2 Register'!$A$8:$AK$107,3,0))","v":0},{"$f":"IF(A51=0,\"\",VLOOKUP($A51,'Stap 2 Register'!$A$8:$AK$107,14,0))","v":""},{"$f":"IF(A51=0,0,VLOOKUP($A51,'Stap 2 Register'!$A$8:$AK$107,23,0))","v":0},{"$f":"IF(A51=0,0,VLOOKUP($A51,'Stap 2 Register'!$A$8:$AK$107,24,0))","v":0},{"$f":"IF(A51=0,0,VLOOKUP($A51,'Stap 2 Register'!$A$8:$AK$107,25,0))","v":0},{"$f":"IF(A51=0,0,VLOOKUP($A51,'Stap 2 Register'!$A$8:$AK$107,26,0))","v":0},{"$f":"IF(A51=0,0,VLOOKUP($A51,'Stap 2 Register'!$A$8:$AK$107,27,0))","v":0},{"$f":"IF(A51=0,0,VLOOKUP($A51,'Stap 2 Register'!$A$8:$AK$107,28,0))","v":0},"","","","","",""]
[{"$f":"IF('1e berekening'!G47=0,'1e berekening'!B47,0)","v":56},{"$f":"IF(A52=0,\"\",VLOOKUP($A52,'Stap 2 Register'!$A$8:$AK$107,2,0))","v":56},{"$f":"IF(A52=0,0,VLOOKUP($A52,'Stap 2 Register'!$A$8:$AK$107,3,0))","v":0},{"$f":"IF(A52=0,\"\",VLOOKUP($A52,'Stap 2 Register'!$A$8:$AK$107,14,0))","v":""},{"$f":"IF(A52=0,0,VLOOKUP($A52,'Stap 2 Register'!$A$8:$AK$107,23,0))","v":0},{"$f":"IF(A52=0,0,VLOOKUP($A52,'Stap 2 Register'!$A$8:$AK$107,24,0))","v":0},{"$f":"IF(A52=0,0,VLOOKUP($A52,'Stap 2 Register'!$A$8:$AK$107,25,0))","v":0},{"$f":"IF(A52=0,0,VLOOKUP($A52,'Stap 2 Register'!$A$8:$AK$107,26,0))","v":0},{"$f":"IF(A52=0,0,VLOOKUP($A52,'Stap 2 Register'!$A$8:$AK$107,27,0))","v":0},{"$f":"IF(A52=0,0,VLOOKUP($A52,'Stap 2 Register'!$A$8:$AK$107,28,0))","v":0},"","","","","",""]
[{"$f":"IF('1e berekening'!G48=0,'1e berekening'!B48,0)","v":55},{"$f":"IF(A53=0,\"\",VLOOKUP($A53,'Stap 2 Register'!$A$8:$AK$107,2,0))","v":55},{"$f":"IF(A53=0,0,VLOOKUP($A53,'Stap 2 Register'!$A$8:$AK$107,3,0))","v":0},{"$f":"IF(A53=0,\"\",VLOOKUP($A53,'Stap 2 Register'!$A$8:$AK$107,14,0))","v":""},{"$f":"IF(A53=0,0,VLOOKUP($A53,'Stap 2 Register'!$A$8:$AK$107,23,0))","v":0},{"$f":"IF(A53=0,0,VLOOKUP($A53,'Stap 2 Register'!$A$8:$AK$107,24,0))","v":0},{"$f":"IF(A53=0,0,VLOOKUP($A53,'Stap 2 Register'!$A$8:$AK$107,25,0))","v":0},{"$f":"IF(A53=0,0,VLOOKUP($A53,'Stap 2 Register'!$A$8:$AK$107,26,0))","v":0},{"$f":"IF(A53=0,0,VLOOKUP($A53,'Stap 2 Register'!$A$8:$AK$107,27,0))","v":0},{"$f":"IF(A53=0,0,VLOOKUP($A53,'Stap 2 Register'!$A$8:$AK$107,28,0))","v":0},"","","","","",""]
[{"$f":"IF('1e berekening'!G49=0,'1e berekening'!B49,0)","v":54},{"$f":"IF(A54=0,\"\",VLOOKUP($A54,'Stap 2 Register'!$A$8:$AK$107,2,0))","v":54},{"$f":"IF(A54=0,0,VLOOKUP($A54,'Stap 2 Register'!$A$8:$AK$107,3,0))","v":0},{"$f":"IF(A54=0,\"\",VLOOKUP($A54,'Stap 2 Register'!$A$8:$AK$107,14,0))","v":""},{"$f":"IF(A54=0,0,VLOOKUP($A54,'Stap 2 Register'!$A$8:$AK$107,23,0))","v":0},{"$f":"IF(A54=0,0,VLOOKUP($A54,'Stap 2 Register'!$A$8:$AK$107,24,0))","v":0},{"$f":"IF(A54=0,0,VLOOKUP($A54,'Stap 2 Register'!$A$8:$AK$107,25,0))","v":0},{"$f":"IF(A54=0,0,VLOOKUP($A54,'Stap 2 Register'!$A$8:$AK$107,26,0))","v":0},{"$f":"IF(A54=0,0,VLOOKUP($A54,'Stap 2 Register'!$A$8:$AK$107,27,0))","v":0},{"$f":"IF(A54=0,0,VLOOKUP($A54,'Stap 2 Register'!$A$8:$AK$107,28,0))","v":0},"","","","","",""]
[{"$f":"IF('1e berekening'!G50=0,'1e berekening'!B50,0)","v":53},{"$f":"IF(A55=0,\"\",VLOOKUP($A55,'Stap 2 Register'!$A$8:$AK$107,2,0))","v":53},{"$f":"IF(A55=0,0,VLOOKUP($A55,'Stap 2 Register'!$A$8:$AK$107,3,0))","v":0},{"$f":"IF(A55=0,\"\",VLOOKUP($A55,'Stap 2 Register'!$A$8:$AK$107,14,0))","v":""},{"$f":"IF(A55=0,0,VLOOKUP($A55,'Stap 2 Register'!$A$8:$AK$107,23,0))","v":0},{"$f":"IF(A55=0,0,VLOOKUP($A55,'Stap 2 Register'!$A$8:$AK$107,24,0))","v":0},{"$f":"IF(A55=0,0,VLOOKUP($A55,'Stap 2 Register'!$A$8:$AK$107,25,0))","v":0},{"$f":"IF(A55=0,0,VLOOKUP($A55,'Stap 2 Register'!$A$8:$AK$107,26,0))","v":0},{"$f":"IF(A55=0,0,VLOOKUP($A55,'Stap 2 Register'!$A$8:$AK$107,27,0))","v":0},{"$f":"IF(A55=0,0,VLOOKUP($A55,'Stap 2 Register'!$A$8:$AK$107,28,0))","v":0},"","","","","",""]
[{"$f":"IF('1e berekening'!G51=0,'1e berekening'!B51,0)","v":52},{"$f":"IF(A56=0,\"\",VLOOKUP($A56,'Stap 2 Register'!$A$8:$AK$107,2,0))","v":52},{"$f":"IF(A56=0,0,VLOOKUP($A56,'Stap 2 Register'!$A$8:$AK$107,3,0))","v":0},{"$f":"IF(A56=0,\"\",VLOOKUP($A56,'Stap 2 Register'!$A$8:$AK$107,14,0))","v":""},{"$f":"IF(A56=0,0,VLOOKUP($A56,'Stap 2 Register'!$A$8:$AK$107,23,0))","v":0},{"$f":"IF(A56=0,0,VLOOKUP($A56,'Stap 2 Register'!$A$8:$AK$107,24,0))","v":0},{"$f":"IF(A56=0,0,VLOOKUP($A56,'Stap 2 Register'!$A$8:$AK$107,25,0))","v":0},{"$f":"IF(A56=0,0,VLOOKUP($A56,'Stap 2 Register'!$A$8:$AK$107,26,0))","v":0},{"$f":"IF(A56=0,0,VLOOKUP($A56,'Stap 2 Register'!$A$8:$AK$107,27,0))","v":0},{"$f":"IF(A56=0,0,VLOOKUP($A56,'Stap 2 Register'!$A$8:$AK$107,28,0))","v":0},"","","","","",""]
[{"$f":"IF('1e berekening'!G52=0,'1e berekening'!B52,0)","v":51},{"$f":"IF(A57=0,\"\",VLOOKUP($A57,'Stap 2 Register'!$A$8:$AK$107,2,0))","v":51},{"$f":"IF(A57=0,0,VLOOKUP($A57,'Stap 2 Register'!$A$8:$AK$107,3,0))","v":0},{"$f":"IF(A57=0,\"\",VLOOKUP($A57,'Stap 2 Register'!$A$8:$AK$107,14,0))","v":""},{"$f":"IF(A57=0,0,VLOOKUP($A57,'Stap 2 Register'!$A$8:$AK$107,23,0))","v":0},{"$f":"IF(A57=0,0,VLOOKUP($A57,'Stap 2 Register'!$A$8:$AK$107,24,0))","v":0},{"$f":"IF(A57=0,0,VLOOKUP($A57,'Stap 2 Register'!$A$8:$AK$107,25,0))","v":0},{"$f":"IF(A57=0,0,VLOOKUP($A57,'Stap 2 Register'!$A$8:$AK$107,26,0))","v":0},{"$f":"IF(A57=0,0,VLOOKUP($A57,'Stap 2 Register'!$A$8:$AK$107,27,0))","v":0},{"$f":"IF(A57=0,0,VLOOKUP($A57,'Stap 2 Register'!$A$8:$AK$107,28,0))","v":0},"","","","","",""]
[{"$f":"IF('1e berekening'!G53=0,'1e berekening'!B53,0)","v":50},{"$f":"IF(A58=0,\"\",VLOOKUP($A58,'Stap 2 Register'!$A$8:$AK$107,2,0))","v":50},{"$f":"IF(A58=0,0,VLOOKUP($A58,'Stap 2 Register'!$A$8:$AK$107,3,0))","v":0},{"$f":"IF(A58=0,\"\",VLOOKUP($A58,'Stap 2 Register'!$A$8:$AK$107,14,0))","v":""},{"$f":"IF(A58=0,0,VLOOKUP($A58,'Stap 2 Register'!$A$8:$AK$107,23,0))","v":0},{"$f":"IF(A58=0,0,VLOOKUP($A58,'Stap 2 Register'!$A$8:$AK$107,24,0))","v":0},{"$f":"IF(A58=0,0,VLOOKUP($A58,'Stap 2 Register'!$A$8:$AK$107,25,0))","v":0},{"$f":"IF(A58=0,0,VLOOKUP($A58,'Stap 2 Register'!$A$8:$AK$107,26,0))","v":0},{"$f":"IF(A58=0,0,VLOOKUP($A58,'Stap 2 Register'!$A$8:$AK$107,27,0))","v":0},{"$f":"IF(A58=0,0,VLOOKUP($A58,'Stap 2 Register'!$A$8:$AK$107,28,0))","v":0},"","","","","",""]
[{"$f":"IF('1e berekening'!G54=0,'1e berekening'!B54,0)","v":49},{"$f":"IF(A59=0,\"\",VLOOKUP($A59,'Stap 2 Register'!$A$8:$AK$107,2,0))","v":49},{"$f":"IF(A59=0,0,VLOOKUP($A59,'Stap 2 Register'!$A$8:$AK$107,3,0))","v":0},{"$f":"IF(A59=0,\"\",VLOOKUP($A59,'Stap 2 Register'!$A$8:$AK$107,14,0))","v":""},{"$f":"IF(A59=0,0,VLOOKUP($A59,'Stap 2 Register'!$A$8:$AK$107,23,0))","v":0},{"$f":"IF(A59=0,0,VLOOKUP($A59,'Stap 2 Register'!$A$8:$AK$107,24,0))","v":0},{"$f":"IF(A59=0,0,VLOOKUP($A59,'Stap 2 Register'!$A$8:$AK$107,25,0))","v":0},{"$f":"IF(A59=0,0,VLOOKUP($A59,'Stap 2 Register'!$A$8:$AK$107,26,0))","v":0},{"$f":"IF(A59=0,0,VLOOKUP($A59,'Stap 2 Register'!$A$8:$AK$107,27,0))","v":0},{"$f":"IF(A59=0,0,VLOOKUP($A59,'Stap 2 Register'!$A$8:$AK$107,28,0))","v":0},"","","","","",""]
[{"$f":"IF('1e berekening'!G55=0,'1e berekening'!B55,0)","v":48},{"$f":"IF(A60=0,\"\",VLOOKUP($A60,'Stap 2 Register'!$A$8:$AK$107,2,0))","v":48},{"$f":"IF(A60=0,0,VLOOKUP($A60,'Stap 2 Register'!$A$8:$AK$107,3,0))","v":0},{"$f":"IF(A60=0,\"\",VLOOKUP($A60,'Stap 2 Register'!$A$8:$AK$107,14,0))","v":""},{"$f":"IF(A60=0,0,VLOOKUP($A60,'Stap 2 Register'!$A$8:$AK$107,23,0))","v":0},{"$f":"IF(A60=0,0,VLOOKUP($A60,'Stap 2 Register'!$A$8:$AK$107,24,0))","v":0},{"$f":"IF(A60=0,0,VLOOKUP($A60,'Stap 2 Register'!$A$8:$AK$107,25,0))","v":0},{"$f":"IF(A60=0,0,VLOOKUP($A60,'Stap 2 Register'!$A$8:$AK$107,26,0))","v":0},{"$f":"IF(A60=0,0,VLOOKUP($A60,'Stap 2 Register'!$A$8:$AK$107,27,0))","v":0},{"$f":"IF(A60=0,0,VLOOKUP($A60,'Stap 2 Register'!$A$8:$AK$107,28,0))","v":0},"","","","","",""]
[{"$f":"IF('1e berekening'!G56=0,'1e berekening'!B56,0)","v":47},{"$f":"IF(A61=0,\"\",VLOOKUP($A61,'Stap 2 Register'!$A$8:$AK$107,2,0))","v":47},{"$f":"IF(A61=0,0,VLOOKUP($A61,'Stap 2 Register'!$A$8:$AK$107,3,0))","v":0},{"$f":"IF(A61=0,\"\",VLOOKUP($A61,'Stap 2 Register'!$A$8:$AK$107,14,0))","v":""},{"$f":"IF(A61=0,0,VLOOKUP($A61,'Stap 2 Register'!$A$8:$AK$107,23,0))","v":0},{"$f":"IF(A61=0,0,VLOOKUP($A61,'Stap 2 Register'!$A$8:$AK$107,24,0))","v":0},{"$f":"IF(A61=0,0,VLOOKUP($A61,'Stap 2 Register'!$A$8:$AK$107,25,0))","v":0},{"$f":"IF(A61=0,0,VLOOKUP($A61,'Stap 2 Register'!$A$8:$AK$107,26,0))","v":0},{"$f":"IF(A61=0,0,VLOOKUP($A61,'Stap 2 Register'!$A$8:$AK$107,27,0))","v":0},{"$f":"IF(A61=0,0,VLOOKUP($A61,'Stap 2 Register'!$A$8:$AK$107,28,0))","v":0},"","","","","",""]
[{"$f":"IF('1e berekening'!G57=0,'1e berekening'!B57,0)","v":46},{"$f":"IF(A62=0,\"\",VLOOKUP($A62,'Stap 2 Register'!$A$8:$AK$107,2,0))","v":46},{"$f":"IF(A62=0,0,VLOOKUP($A62,'Stap 2 Register'!$A$8:$AK$107,3,0))","v":0},{"$f":"IF(A62=0,\"\",VLOOKUP($A62,'Stap 2 Register'!$A$8:$AK$107,14,0))","v":""},{"$f":"IF(A62=0,0,VLOOKUP($A62,'Stap 2 Register'!$A$8:$AK$107,23,0))","v":0},{"$f":"IF(A62=0,0,VLOOKUP($A62,'Stap 2 Register'!$A$8:$AK$107,24,0))","v":0},{"$f":"IF(A62=0,0,VLOOKUP($A62,'Stap 2 Register'!$A$8:$AK$107,25,0))","v":0},{"$f":"IF(A62=0,0,VLOOKUP($A62,'Stap 2 Register'!$A$8:$AK$107,26,0))","v":0},{"$f":"IF(A62=0,0,VLOOKUP($A62,'Stap 2 Register'!$A$8:$AK$107,27,0))","v":0},{"$f":"IF(A62=0,0,VLOOKUP($A62,'Stap 2 Register'!$A$8:$AK$107,28,0))","v":0},"","","","","",""]
[{"$f":"IF('1e berekening'!G58=0,'1e berekening'!B58,0)","v":45},{"$f":"IF(A63=0,\"\",VLOOKUP($A63,'Stap 2 Register'!$A$8:$AK$107,2,0))","v":45},{"$f":"IF(A63=0,0,VLOOKUP($A63,'Stap 2 Register'!$A$8:$AK$107,3,0))","v":0},{"$f":"IF(A63=0,\"\",VLOOKUP($A63,'Stap 2 Register'!$A$8:$AK$107,14,0))","v":""},{"$f":"IF(A63=0,0,VLOOKUP($A63,'Stap 2 Register'!$A$8:$AK$107,23,0))","v":0},{"$f":"IF(A63=0,0,VLOOKUP($A63,'Stap 2 Register'!$A$8:$AK$107,24,0))","v":0},{"$f":"IF(A63=0,0,VLOOKUP($A63,'Stap 2 Register'!$A$8:$AK$107,25,0))","v":0},{"$f":"IF(A63=0,0,VLOOKUP($A63,'Stap 2 Register'!$A$8:$AK$107,26,0))","v":0},{"$f":"IF(A63=0,0,VLOOKUP($A63,'Stap 2 Register'!$A$8:$AK$107,27,0))","v":0},{"$f":"IF(A63=0,0,VLOOKUP($A63,'Stap 2 Register'!$A$8:$AK$107,28,0))","v":0},"","","","","",""]
[{"$f":"IF('1e berekening'!G59=0,'1e berekening'!B59,0)","v":44},{"$f":"IF(A64=0,\"\",VLOOKUP($A64,'Stap 2 Register'!$A$8:$AK$107,2,0))","v":44},{"$f":"IF(A64=0,0,VLOOKUP($A64,'Stap 2 Register'!$A$8:$AK$107,3,0))","v":0},{"$f":"IF(A64=0,\"\",VLOOKUP($A64,'Stap 2 Register'!$A$8:$AK$107,14,0))","v":""},{"$f":"IF(A64=0,0,VLOOKUP($A64,'Stap 2 Register'!$A$8:$AK$107,23,0))","v":0},{"$f":"IF(A64=0,0,VLOOKUP($A64,'Stap 2 Register'!$A$8:$AK$107,24,0))","v":0},{"$f":"IF(A64=0,0,VLOOKUP($A64,'Stap 2 Register'!$A$8:$AK$107,25,0))","v":0},{"$f":"IF(A64=0,0,VLOOKUP($A64,'Stap 2 Register'!$A$8:$AK$107,26,0))","v":0},{"$f":"IF(A64=0,0,VLOOKUP($A64,'Stap 2 Register'!$A$8:$AK$107,27,0))","v":0},{"$f":"IF(A64=0,0,VLOOKUP($A64,'Stap 2 Register'!$A$8:$AK$107,28,0))","v":0},"","","","","",""]
[{"$f":"IF('1e berekening'!G60=0,'1e berekening'!B60,0)","v":43},{"$f":"IF(A65=0,\"\",VLOOKUP($A65,'Stap 2 Register'!$A$8:$AK$107,2,0))","v":43},{"$f":"IF(A65=0,0,VLOOKUP($A65,'Stap 2 Register'!$A$8:$AK$107,3,0))","v":0},{"$f":"IF(A65=0,\"\",VLOOKUP($A65,'Stap 2 Register'!$A$8:$AK$107,14,0))","v":""},{"$f":"IF(A65=0,0,VLOOKUP($A65,'Stap 2 Register'!$A$8:$AK$107,23,0))","v":0},{"$f":"IF(A65=0,0,VLOOKUP($A65,'Stap 2 Register'!$A$8:$AK$107,24,0))","v":0},{"$f":"IF(A65=0,0,VLOOKUP($A65,'Stap 2 Register'!$A$8:$AK$107,25,0))","v":0},{"$f":"IF(A65=0,0,VLOOKUP($A65,'Stap 2 Register'!$A$8:$AK$107,26,0))","v":0},{"$f":"IF(A65=0,0,VLOOKUP($A65,'Stap 2 Register'!$A$8:$AK$107,27,0))","v":0},{"$f":"IF(A65=0,0,VLOOKUP($A65,'Stap 2 Register'!$A$8:$AK$107,28,0))","v":0},"","","","","",""]
[{"$f":"IF('1e berekening'!G61=0,'1e berekening'!B61,0)","v":42},{"$f":"IF(A66=0,\"\",VLOOKUP($A66,'Stap 2 Register'!$A$8:$AK$107,2,0))","v":42},{"$f":"IF(A66=0,0,VLOOKUP($A66,'Stap 2 Register'!$A$8:$AK$107,3,0))","v":0},{"$f":"IF(A66=0,\"\",VLOOKUP($A66,'Stap 2 Register'!$A$8:$AK$107,14,0))","v":""},{"$f":"IF(A66=0,0,VLOOKUP($A66,'Stap 2 Register'!$A$8:$AK$107,23,0))","v":0},{"$f":"IF(A66=0,0,VLOOKUP($A66,'Stap 2 Register'!$A$8:$AK$107,24,0))","v":0},{"$f":"IF(A66=0,0,VLOOKUP($A66,'Stap 2 Register'!$A$8:$AK$107,25,0))","v":0},{"$f":"IF(A66=0,0,VLOOKUP($A66,'Stap 2 Register'!$A$8:$AK$107,26,0))","v":0},{"$f":"IF(A66=0,0,VLOOKUP($A66,'Stap 2 Register'!$A$8:$AK$107,27,0))","v":0},{"$f":"IF(A66=0,0,VLOOKUP($A66,'Stap 2 Register'!$A$8:$AK$107,28,0))","v":0},"","","","","",""]
[{"$f":"IF('1e berekening'!G62=0,'1e berekening'!B62,0)","v":41},{"$f":"IF(A67=0,\"\",VLOOKUP($A67,'Stap 2 Register'!$A$8:$AK$107,2,0))","v":41},{"$f":"IF(A67=0,0,VLOOKUP($A67,'Stap 2 Register'!$A$8:$AK$107,3,0))","v":0},{"$f":"IF(A67=0,\"\",VLOOKUP($A67,'Stap 2 Register'!$A$8:$AK$107,14,0))","v":""},{"$f":"IF(A67=0,0,VLOOKUP($A67,'Stap 2 Register'!$A$8:$AK$107,23,0))","v":0},{"$f":"IF(A67=0,0,VLOOKUP($A67,'Stap 2 Register'!$A$8:$AK$107,24,0))","v":0},{"$f":"IF(A67=0,0,VLOOKUP($A67,'Stap 2 Register'!$A$8:$AK$107,25,0))","v":0},{"$f":"IF(A67=0,0,VLOOKUP($A67,'Stap 2 Register'!$A$8:$AK$107,26,0))","v":0},{"$f":"IF(A67=0,0,VLOOKUP($A67,'Stap 2 Register'!$A$8:$AK$107,27,0))","v":0},{"$f":"IF(A67=0,0,VLOOKUP($A67,'Stap 2 Register'!$A$8:$AK$107,28,0))","v":0},"","","","","",""]
[{"$f":"IF('1e berekening'!G63=0,'1e berekening'!B63,0)","v":40},{"$f":"IF(A68=0,\"\",VLOOKUP($A68,'Stap 2 Register'!$A$8:$AK$107,2,0))","v":40},{"$f":"IF(A68=0,0,VLOOKUP($A68,'Stap 2 Register'!$A$8:$AK$107,3,0))","v":0},{"$f":"IF(A68=0,\"\",VLOOKUP($A68,'Stap 2 Register'!$A$8:$AK$107,14,0))","v":""},{"$f":"IF(A68=0,0,VLOOKUP($A68,'Stap 2 Register'!$A$8:$AK$107,23,0))","v":0},{"$f":"IF(A68=0,0,VLOOKUP($A68,'Stap 2 Register'!$A$8:$AK$107,24,0))","v":0},{"$f":"IF(A68=0,0,VLOOKUP($A68,'Stap 2 Register'!$A$8:$AK$107,25,0))","v":0},{"$f":"IF(A68=0,0,VLOOKUP($A68,'Stap 2 Register'!$A$8:$AK$107,26,0))","v":0},{"$f":"IF(A68=0,0,VLOOKUP($A68,'Stap 2 Register'!$A$8:$AK$107,27,0))","v":0},{"$f":"IF(A68=0,0,VLOOKUP($A68,'Stap 2 Register'!$A$8:$AK$107,28,0))","v":0},"","","","","",""]
[{"$f":"IF('1e berekening'!G64=0,'1e berekening'!B64,0)","v":39},{"$f":"IF(A69=0,\"\",VLOOKUP($A69,'Stap 2 Register'!$A$8:$AK$107,2,0))","v":39},{"$f":"IF(A69=0,0,VLOOKUP($A69,'Stap 2 Register'!$A$8:$AK$107,3,0))","v":0},{"$f":"IF(A69=0,\"\",VLOOKUP($A69,'Stap 2 Register'!$A$8:$AK$107,14,0))","v":""},{"$f":"IF(A69=0,0,VLOOKUP($A69,'Stap 2 Register'!$A$8:$AK$107,23,0))","v":0},{"$f":"IF(A69=0,0,VLOOKUP($A69,'Stap 2 Register'!$A$8:$AK$107,24,0))","v":0},{"$f":"IF(A69=0,0,VLOOKUP($A69,'Stap 2 Register'!$A$8:$AK$107,25,0))","v":0},{"$f":"IF(A69=0,0,VLOOKUP($A69,'Stap 2 Register'!$A$8:$AK$107,26,0))","v":0},{"$f":"IF(A69=0,0,VLOOKUP($A69,'Stap 2 Register'!$A$8:$AK$107,27,0))","v":0},{"$f":"IF(A69=0,0,VLOOKUP($A69,'Stap 2 Register'!$A$8:$AK$107,28,0))","v":0},"","","","","",""]
[{"$f":"IF('1e berekening'!G65=0,'1e berekening'!B65,0)","v":38},{"$f":"IF(A70=0,\"\",VLOOKUP($A70,'Stap 2 Register'!$A$8:$AK$107,2,0))","v":38},{"$f":"IF(A70=0,0,VLOOKUP($A70,'Stap 2 Register'!$A$8:$AK$107,3,0))","v":0},{"$f":"IF(A70=0,\"\",VLOOKUP($A70,'Stap 2 Register'!$A$8:$AK$107,14,0))","v":""},{"$f":"IF(A70=0,0,VLOOKUP($A70,'Stap 2 Register'!$A$8:$AK$107,23,0))","v":0},{"$f":"IF(A70=0,0,VLOOKUP($A70,'Stap 2 Register'!$A$8:$AK$107,24,0))","v":0},{"$f":"IF(A70=0,0,VLOOKUP($A70,'Stap 2 Register'!$A$8:$AK$107,25,0))","v":0},{"$f":"IF(A70=0,0,VLOOKUP($A70,'Stap 2 Register'!$A$8:$AK$107,26,0))","v":0},{"$f":"IF(A70=0,0,VLOOKUP($A70,'Stap 2 Register'!$A$8:$AK$107,27,0))","v":0},{"$f":"IF(A70=0,0,VLOOKUP($A70,'Stap 2 Register'!$A$8:$AK$107,28,0))","v":0},"","","","","",""]
[{"$f":"IF('1e berekening'!G66=0,'1e berekening'!B66,0)","v":37},{"$f":"IF(A71=0,\"\",VLOOKUP($A71,'Stap 2 Register'!$A$8:$AK$107,2,0))","v":37},{"$f":"IF(A71=0,0,VLOOKUP($A71,'Stap 2 Register'!$A$8:$AK$107,3,0))","v":0},{"$f":"IF(A71=0,\"\",VLOOKUP($A71,'Stap 2 Register'!$A$8:$AK$107,14,0))","v":""},{"$f":"IF(A71=0,0,VLOOKUP($A71,'Stap 2 Register'!$A$8:$AK$107,23,0))","v":0},{"$f":"IF(A71=0,0,VLOOKUP($A71,'Stap 2 Register'!$A$8:$AK$107,24,0))","v":0},{"$f":"IF(A71=0,0,VLOOKUP($A71,'Stap 2 Register'!$A$8:$AK$107,25,0))","v":0},{"$f":"IF(A71=0,0,VLOOKUP($A71,'Stap 2 Register'!$A$8:$AK$107,26,0))","v":0},{"$f":"IF(A71=0,0,VLOOKUP($A71,'Stap 2 Register'!$A$8:$AK$107,27,0))","v":0},{"$f":"IF(A71=0,0,VLOOKUP($A71,'Stap 2 Register'!$A$8:$AK$107,28,0))","v":0},"","","","","",""]
[{"$f":"IF('1e berekening'!G67=0,'1e berekening'!B67,0)","v":36},{"$f":"IF(A72=0,\"\",VLOOKUP($A72,'Stap 2 Register'!$A$8:$AK$107,2,0))","v":36},{"$f":"IF(A72=0,0,VLOOKUP($A72,'Stap 2 Register'!$A$8:$AK$107,3,0))","v":0},{"$f":"IF(A72=0,\"\",VLOOKUP($A72,'Stap 2 Register'!$A$8:$AK$107,14,0))","v":""},{"$f":"IF(A72=0,0,VLOOKUP($A72,'Stap 2 Register'!$A$8:$AK$107,23,0))","v":0},{"$f":"IF(A72=0,0,VLOOKUP($A72,'Stap 2 Register'!$A$8:$AK$107,24,0))","v":0},{"$f":"IF(A72=0,0,VLOOKUP($A72,'Stap 2 Register'!$A$8:$AK$107,25,0))","v":0},{"$f":"IF(A72=0,0,VLOOKUP($A72,'Stap 2 Register'!$A$8:$AK$107,26,0))","v":0},{"$f":"IF(A72=0,0,VLOOKUP($A72,'Stap 2 Register'!$A$8:$AK$107,27,0))","v":0},{"$f":"IF(A72=0,0,VLOOKUP($A72,'Stap 2 Register'!$A$8:$AK$107,28,0))","v":0},"","","","","",""]
[{"$f":"IF('1e berekening'!G68=0,'1e berekening'!B68,0)","v":35},{"$f":"IF(A73=0,\"\",VLOOKUP($A73,'Stap 2 Register'!$A$8:$AK$107,2,0))","v":35},{"$f":"IF(A73=0,0,VLOOKUP($A73,'Stap 2 Register'!$A$8:$AK$107,3,0))","v":0},{"$f":"IF(A73=0,\"\",VLOOKUP($A73,'Stap 2 Register'!$A$8:$AK$107,14,0))","v":""},{"$f":"IF(A73=0,0,VLOOKUP($A73,'Stap 2 Register'!$A$8:$AK$107,23,0))","v":0},{"$f":"IF(A73=0,0,VLOOKUP($A73,'Stap 2 Register'!$A$8:$AK$107,24,0))","v":0},{"$f":"IF(A73=0,0,VLOOKUP($A73,'Stap 2 Register'!$A$8:$AK$107,25,0))","v":0},{"$f":"IF(A73=0,0,VLOOKUP($A73,'Stap 2 Register'!$A$8:$AK$107,26,0))","v":0},{"$f":"IF(A73=0,0,VLOOKUP($A73,'Stap 2 Register'!$A$8:$AK$107,27,0))","v":0},{"$f":"IF(A73=0,0,VLOOKUP($A73,'Stap 2 Register'!$A$8:$AK$107,28,0))","v":0},"","","","","",{"$f":"IF($D73=$P$7,_xlfn.TEXTJOIN($J$6,,$B73,$C73),\"\")","v":""}]
[{"$f":"IF('1e berekening'!G69=0,'1e berekening'!B69,0)","v":34},{"$f":"IF(A74=0,\"\",VLOOKUP($A74,'Stap 2 Register'!$A$8:$AK$107,2,0))","v":34},{"$f":"IF(A74=0,0,VLOOKUP($A74,'Stap 2 Register'!$A$8:$AK$107,3,0))","v":0},{"$f":"IF(A74=0,\"\",VLOOKUP($A74,'Stap 2 Register'!$A$8:$AK$107,14,0))","v":""},{"$f":"IF(A74=0,0,VLOOKUP($A74,'Stap 2 Register'!$A$8:$AK$107,23,0))","v":0},{"$f":"IF(A74=0,0,VLOOKUP($A74,'Stap 2 Register'!$A$8:$AK$107,24,0))","v":0},{"$f":"IF(A74=0,0,VLOOKUP($A74,'Stap 2 Register'!$A$8:$AK$107,25,0))","v":0},{"$f":"IF(A74=0,0,VLOOKUP($A74,'Stap 2 Register'!$A$8:$AK$107,26,0))","v":0},{"$f":"IF(A74=0,0,VLOOKUP($A74,'Stap 2 Register'!$A$8:$AK$107,27,0))","v":0},{"$f":"IF(A74=0,0,VLOOKUP($A74,'Stap 2 Register'!$A$8:$AK$107,28,0))","v":0},"","","","","",""]
[{"$f":"IF('1e berekening'!G70=0,'1e berekening'!B70,0)","v":33},{"$f":"IF(A75=0,\"\",VLOOKUP($A75,'Stap 2 Register'!$A$8:$AK$107,2,0))","v":33},{"$f":"IF(A75=0,0,VLOOKUP($A75,'Stap 2 Register'!$A$8:$AK$107,3,0))","v":0},{"$f":"IF(A75=0,\"\",VLOOKUP($A75,'Stap 2 Register'!$A$8:$AK$107,14,0))","v":""},{"$f":"IF(A75=0,0,VLOOKUP($A75,'Stap 2 Register'!$A$8:$AK$107,23,0))","v":0},{"$f":"IF(A75=0,0,VLOOKUP($A75,'Stap 2 Register'!$A$8:$AK$107,24,0))","v":0},{"$f":"IF(A75=0,0,VLOOKUP($A75,'Stap 2 Register'!$A$8:$AK$107,25,0))","v":0},{"$f":"IF(A75=0,0,VLOOKUP($A75,'Stap 2 Register'!$A$8:$AK$107,26,0))","v":0},{"$f":"IF(A75=0,0,VLOOKUP($A75,'Stap 2 Register'!$A$8:$AK$107,27,0))","v":0},{"$f":"IF(A75=0,0,VLOOKUP($A75,'Stap 2 Register'!$A$8:$AK$107,28,0))","v":0},"","","","","",""]
[{"$f":"IF('1e berekening'!G71=0,'1e berekening'!B71,0)","v":32},{"$f":"IF(A76=0,\"\",VLOOKUP($A76,'Stap 2 Register'!$A$8:$AK$107,2,0))","v":32},{"$f":"IF(A76=0,0,VLOOKUP($A76,'Stap 2 Register'!$A$8:$AK$107,3,0))","v":0},{"$f":"IF(A76=0,\"\",VLOOKUP($A76,'Stap 2 Register'!$A$8:$AK$107,14,0))","v":""},{"$f":"IF(A76=0,0,VLOOKUP($A76,'Stap 2 Register'!$A$8:$AK$107,23,0))","v":0},{"$f":"IF(A76=0,0,VLOOKUP($A76,'Stap 2 Register'!$A$8:$AK$107,24,0))","v":0},{"$f":"IF(A76=0,0,VLOOKUP($A76,'Stap 2 Register'!$A$8:$AK$107,25,0))","v":0},{"$f":"IF(A76=0,0,VLOOKUP($A76,'Stap 2 Register'!$A$8:$AK$107,26,0))","v":0},{"$f":"IF(A76=0,0,VLOOKUP($A76,'Stap 2 Register'!$A$8:$AK$107,27,0))","v":0},{"$f":"IF(A76=0,0,VLOOKUP($A76,'Stap 2 Register'!$A$8:$AK$107,28,0))","v":0},"",{"$f":"IF($D76=$L$7,_xlfn.TEXTJOIN($J$6,,$B76,$C76),\"\")","v":""},{"$f":"IF($D76=$M$7,_xlfn.TEXTJOIN($J$6,,$B76,$C76),\"\")","v":""},{"$f":"IF($D76=$N$7,_xlfn.TEXTJOIN($J$6,,$B76,$C76),\"\")","v":""},{"$f":"IF($D76=$O$7,_xlfn.TEXTJOIN($J$6,,$B76,$C76),\"\")","v":""},""]
[{"$f":"IF('1e berekening'!G72=0,'1e berekening'!B72,0)","v":31},{"$f":"IF(A77=0,\"\",VLOOKUP($A77,'Stap 2 Register'!$A$8:$AK$107,2,0))","v":31},{"$f":"IF(A77=0,0,VLOOKUP($A77,'Stap 2 Register'!$A$8:$AK$107,3,0))","v":0},{"$f":"IF(A77=0,\"\",VLOOKUP($A77,'Stap 2 Register'!$A$8:$AK$107,14,0))","v":""},{"$f":"IF(A77=0,0,VLOOKUP($A77,'Stap 2 Register'!$A$8:$AK$107,23,0))","v":0},{"$f":"IF(A77=0,0,VLOOKUP($A77,'Stap 2 Register'!$A$8:$AK$107,24,0))","v":0},{"$f":"IF(A77=0,0,VLOOKUP($A77,'Stap 2 Register'!$A$8:$AK$107,25,0))","v":0},{"$f":"IF(A77=0,0,VLOOKUP($A77,'Stap 2 Register'!$A$8:$AK$107,26,0))","v":0},{"$f":"IF(A77=0,0,VLOOKUP($A77,'Stap 2 Register'!$A$8:$AK$107,27,0))","v":0},{"$f":"IF(A77=0,0,VLOOKUP($A77,'Stap 2 Register'!$A$8:$AK$107,28,0))","v":0},{"$f":"IF($D77=$K$7,_xlfn.TEXTJOIN($J$6,,$B77,$C77),\"\")","v":""},"","","","",""]
[{"$f":"IF('1e berekening'!G73=0,'1e berekening'!B73,0)","v":30},{"$f":"IF(A78=0,\"\",VLOOKUP($A78,'Stap 2 Register'!$A$8:$AK$107,2,0))","v":30},{"$f":"IF(A78=0,0,VLOOKUP($A78,'Stap 2 Register'!$A$8:$AK$107,3,0))","v":0},{"$f":"IF(A78=0,\"\",VLOOKUP($A78,'Stap 2 Register'!$A$8:$AK$107,14,0))","v":""},{"$f":"IF(A78=0,0,VLOOKUP($A78,'Stap 2 Register'!$A$8:$AK$107,23,0))","v":0},{"$f":"IF(A78=0,0,VLOOKUP($A78,'Stap 2 Register'!$A$8:$AK$107,24,0))","v":0},{"$f":"IF(A78=0,0,VLOOKUP($A78,'Stap 2 Register'!$A$8:$AK$107,25,0))","v":0},{"$f":"IF(A78=0,0,VLOOKUP($A78,'Stap 2 Register'!$A$8:$AK$107,26,0))","v":0},{"$f":"IF(A78=0,0,VLOOKUP($A78,'Stap 2 Register'!$A$8:$AK$107,27,0))","v":0},{"$f":"IF(A78=0,0,VLOOKUP($A78,'Stap 2 Register'!$A$8:$AK$107,28,0))","v":0},"","","","","",""]
[{"$f":"IF('1e berekening'!G74=0,'1e berekening'!B74,0)","v":29},{"$f":"IF(A79=0,\"\",VLOOKUP($A79,'Stap 2 Register'!$A$8:$AK$107,2,0))","v":29},{"$f":"IF(A79=0,0,VLOOKUP($A79,'Stap 2 Register'!$A$8:$AK$107,3,0))","v":0},{"$f":"IF(A79=0,\"\",VLOOKUP($A79,'Stap 2 Register'!$A$8:$AK$107,14,0))","v":""},{"$f":"IF(A79=0,0,VLOOKUP($A79,'Stap 2 Register'!$A$8:$AK$107,23,0))","v":0},{"$f":"IF(A79=0,0,VLOOKUP($A79,'Stap 2 Register'!$A$8:$AK$107,24,0))","v":0},{"$f":"IF(A79=0,0,VLOOKUP($A79,'Stap 2 Register'!$A$8:$AK$107,25,0))","v":0},{"$f":"IF(A79=0,0,VLOOKUP($A79,'Stap 2 Register'!$A$8:$AK$107,26,0))","v":0},{"$f":"IF(A79=0,0,VLOOKUP($A79,'Stap 2 Register'!$A$8:$AK$107,27,0))","v":0},{"$f":"IF(A79=0,0,VLOOKUP($A79,'Stap 2 Register'!$A$8:$AK$107,28,0))","v":0},"","","","","",""]
[{"$f":"IF('1e berekening'!G75=0,'1e berekening'!B75,0)","v":28},{"$f":"IF(A80=0,\"\",VLOOKUP($A80,'Stap 2 Register'!$A$8:$AK$107,2,0))","v":28},{"$f":"IF(A80=0,0,VLOOKUP($A80,'Stap 2 Register'!$A$8:$AK$107,3,0))","v":0},{"$f":"IF(A80=0,\"\",VLOOKUP($A80,'Stap 2 Register'!$A$8:$AK$107,14,0))","v":""},{"$f":"IF(A80=0,0,VLOOKUP($A80,'Stap 2 Register'!$A$8:$AK$107,23,0))","v":0},{"$f":"IF(A80=0,0,VLOOKUP($A80,'Stap 2 Register'!$A$8:$AK$107,24,0))","v":0},{"$f":"IF(A80=0,0,VLOOKUP($A80,'Stap 2 Register'!$A$8:$AK$107,25,0))","v":0},{"$f":"IF(A80=0,0,VLOOKUP($A80,'Stap 2 Register'!$A$8:$AK$107,26,0))","v":0},{"$f":"IF(A80=0,0,VLOOKUP($A80,'Stap 2 Register'!$A$8:$AK$107,27,0))","v":0},{"$f":"IF(A80=0,0,VLOOKUP($A80,'Stap 2 Register'!$A$8:$AK$107,28,0))","v":0},"","","","","",""]
[{"$f":"IF('1e berekening'!G76=0,'1e berekening'!B76,0)","v":27},{"$f":"IF(A81=0,\"\",VLOOKUP($A81,'Stap 2 Register'!$A$8:$AK$107,2,0))","v":27},{"$f":"IF(A81=0,0,VLOOKUP($A81,'Stap 2 Register'!$A$8:$AK$107,3,0))","v":0},{"$f":"IF(A81=0,\"\",VLOOKUP($A81,'Stap 2 Register'!$A$8:$AK$107,14,0))","v":""},{"$f":"IF(A81=0,0,VLOOKUP($A81,'Stap 2 Register'!$A$8:$AK$107,23,0))","v":0},{"$f":"IF(A81=0,0,VLOOKUP($A81,'Stap 2 Register'!$A$8:$AK$107,24,0))","v":0},{"$f":"IF(A81=0,0,VLOOKUP($A81,'Stap 2 Register'!$A$8:$AK$107,25,0))","v":0},{"$f":"IF(A81=0,0,VLOOKUP($A81,'Stap 2 Register'!$A$8:$AK$107,26,0))","v":0},{"$f":"IF(A81=0,0,VLOOKUP($A81,'Stap 2 Register'!$A$8:$AK$107,27,0))","v":0},{"$f":"IF(A81=0,0,VLOOKUP($A81,'Stap 2 Register'!$A$8:$AK$107,28,0))","v":0},"","","","","",""]
[{"$f":"IF('1e berekening'!G77=0,'1e berekening'!B77,0)","v":26},{"$f":"IF(A82=0,\"\",VLOOKUP($A82,'Stap 2 Register'!$A$8:$AK$107,2,0))","v":26},{"$f":"IF(A82=0,0,VLOOKUP($A82,'Stap 2 Register'!$A$8:$AK$107,3,0))","v":0},{"$f":"IF(A82=0,\"\",VLOOKUP($A82,'Stap 2 Register'!$A$8:$AK$107,14,0))","v":""},{"$f":"IF(A82=0,0,VLOOKUP($A82,'Stap 2 Register'!$A$8:$AK$107,23,0))","v":0},{"$f":"IF(A82=0,0,VLOOKUP($A82,'Stap 2 Register'!$A$8:$AK$107,24,0))","v":0},{"$f":"IF(A82=0,0,VLOOKUP($A82,'Stap 2 Register'!$A$8:$AK$107,25,0))","v":0},{"$f":"IF(A82=0,0,VLOOKUP($A82,'Stap 2 Register'!$A$8:$AK$107,26,0))","v":0},{"$f":"IF(A82=0,0,VLOOKUP($A82,'Stap 2 Register'!$A$8:$AK$107,27,0))","v":0},{"$f":"IF(A82=0,0,VLOOKUP($A82,'Stap 2 Register'!$A$8:$AK$107,28,0))","v":0},"","","","","",""]
[{"$f":"IF('1e berekening'!G78=0,'1e berekening'!B78,0)","v":25},{"$f":"IF(A83=0,\"\",VLOOKUP($A83,'Stap 2 Register'!$A$8:$AK$107,2,0))","v":25},{"$f":"IF(A83=0,0,VLOOKUP($A83,'Stap 2 Register'!$A$8:$AK$107,3,0))","v":0},{"$f":"IF(A83=0,\"\",VLOOKUP($A83,'Stap 2 Register'!$A$8:$AK$107,14,0))","v":""},{"$f":"IF(A83=0,0,VLOOKUP($A83,'Stap 2 Register'!$A$8:$AK$107,23,0))","v":0},{"$f":"IF(A83=0,0,VLOOKUP($A83,'Stap 2 Register'!$A$8:$AK$107,24,0))","v":0},{"$f":"IF(A83=0,0,VLOOKUP($A83,'Stap 2 Register'!$A$8:$AK$107,25,0))","v":0},{"$f":"IF(A83=0,0,VLOOKUP($A83,'Stap 2 Register'!$A$8:$AK$107,26,0))","v":0},{"$f":"IF(A83=0,0,VLOOKUP($A83,'Stap 2 Register'!$A$8:$AK$107,27,0))","v":0},{"$f":"IF(A83=0,0,VLOOKUP($A83,'Stap 2 Register'!$A$8:$AK$107,28,0))","v":0},"","","","","",""]
[{"$f":"IF('1e berekening'!G79=0,'1e berekening'!B79,0)","v":24},{"$f":"IF(A84=0,\"\",VLOOKUP($A84,'Stap 2 Register'!$A$8:$AK$107,2,0))","v":24},{"$f":"IF(A84=0,0,VLOOKUP($A84,'Stap 2 Register'!$A$8:$AK$107,3,0))","v":0},{"$f":"IF(A84=0,\"\",VLOOKUP($A84,'Stap 2 Register'!$A$8:$AK$107,14,0))","v":""},{"$f":"IF(A84=0,0,VLOOKUP($A84,'Stap 2 Register'!$A$8:$AK$107,23,0))","v":0},{"$f":"IF(A84=0,0,VLOOKUP($A84,'Stap 2 Register'!$A$8:$AK$107,24,0))","v":0},{"$f":"IF(A84=0,0,VLOOKUP($A84,'Stap 2 Register'!$A$8:$AK$107,25,0))","v":0},{"$f":"IF(A84=0,0,VLOOKUP($A84,'Stap 2 Register'!$A$8:$AK$107,26,0))","v":0},{"$f":"IF(A84=0,0,VLOOKUP($A84,'Stap 2 Register'!$A$8:$AK$107,27,0))","v":0},{"$f":"IF(A84=0,0,VLOOKUP($A84,'Stap 2 Register'!$A$8:$AK$107,28,0))","v":0},"","","","","",""]
[{"$f":"IF('1e berekening'!G80=0,'1e berekening'!B80,0)","v":23},{"$f":"IF(A85=0,\"\",VLOOKUP($A85,'Stap 2 Register'!$A$8:$AK$107,2,0))","v":23},{"$f":"IF(A85=0,0,VLOOKUP($A85,'Stap 2 Register'!$A$8:$AK$107,3,0))","v":0},{"$f":"IF(A85=0,\"\",VLOOKUP($A85,'Stap 2 Register'!$A$8:$AK$107,14,0))","v":""},{"$f":"IF(A85=0,0,VLOOKUP($A85,'Stap 2 Register'!$A$8:$AK$107,23,0))","v":0},{"$f":"IF(A85=0,0,VLOOKUP($A85,'Stap 2 Register'!$A$8:$AK$107,24,0))","v":0},{"$f":"IF(A85=0,0,VLOOKUP($A85,'Stap 2 Register'!$A$8:$AK$107,25,0))","v":0},{"$f":"IF(A85=0,0,VLOOKUP($A85,'Stap 2 Register'!$A$8:$AK$107,26,0))","v":0},{"$f":"IF(A85=0,0,VLOOKUP($A85,'Stap 2 Register'!$A$8:$AK$107,27,0))","v":0},{"$f":"IF(A85=0,0,VLOOKUP($A85,'Stap 2 Register'!$A$8:$AK$107,28,0))","v":0},"","","","","",""]
[{"$f":"IF('1e berekening'!G81=0,'1e berekening'!B81,0)","v":22},{"$f":"IF(A86=0,\"\",VLOOKUP($A86,'Stap 2 Register'!$A$8:$AK$107,2,0))","v":22},{"$f":"IF(A86=0,0,VLOOKUP($A86,'Stap 2 Register'!$A$8:$AK$107,3,0))","v":0},{"$f":"IF(A86=0,\"\",VLOOKUP($A86,'Stap 2 Register'!$A$8:$AK$107,14,0))","v":""},{"$f":"IF(A86=0,0,VLOOKUP($A86,'Stap 2 Register'!$A$8:$AK$107,23,0))","v":0},{"$f":"IF(A86=0,0,VLOOKUP($A86,'Stap 2 Register'!$A$8:$AK$107,24,0))","v":0},{"$f":"IF(A86=0,0,VLOOKUP($A86,'Stap 2 Register'!$A$8:$AK$107,25,0))","v":0},{"$f":"IF(A86=0,0,VLOOKUP($A86,'Stap 2 Register'!$A$8:$AK$107,26,0))","v":0},{"$f":"IF(A86=0,0,VLOOKUP($A86,'Stap 2 Register'!$A$8:$AK$107,27,0))","v":0},{"$f":"IF(A86=0,0,VLOOKUP($A86,'Stap 2 Register'!$A$8:$AK$107,28,0))","v":0},"","","","","",""]
[{"$f":"IF('1e berekening'!G82=0,'1e berekening'!B82,0)","v":21},{"$f":"IF(A87=0,\"\",VLOOKUP($A87,'Stap 2 Register'!$A$8:$AK$107,2,0))","v":21},{"$f":"IF(A87=0,0,VLOOKUP($A87,'Stap 2 Register'!$A$8:$AK$107,3,0))","v":0},{"$f":"IF(A87=0,\"\",VLOOKUP($A87,'Stap 2 Register'!$A$8:$AK$107,14,0))","v":""},{"$f":"IF(A87=0,0,VLOOKUP($A87,'Stap 2 Register'!$A$8:$AK$107,23,0))","v":0},{"$f":"IF(A87=0,0,VLOOKUP($A87,'Stap 2 Register'!$A$8:$AK$107,24,0))","v":0},{"$f":"IF(A87=0,0,VLOOKUP($A87,'Stap 2 Register'!$A$8:$AK$107,25,0))","v":0},{"$f":"IF(A87=0,0,VLOOKUP($A87,'Stap 2 Register'!$A$8:$AK$107,26,0))","v":0},{"$f":"IF(A87=0,0,VLOOKUP($A87,'Stap 2 Register'!$A$8:$AK$107,27,0))","v":0},{"$f":"IF(A87=0,0,VLOOKUP($A87,'Stap 2 Register'!$A$8:$AK$107,28,0))","v":0},"","","","","",""]
[{"$f":"IF('1e berekening'!G83=0,'1e berekening'!B83,0)","v":20},{"$f":"IF(A88=0,\"\",VLOOKUP($A88,'Stap 2 Register'!$A$8:$AK$107,2,0))","v":20},{"$f":"IF(A88=0,0,VLOOKUP($A88,'Stap 2 Register'!$A$8:$AK$107,3,0))","v":0},{"$f":"IF(A88=0,\"\",VLOOKUP($A88,'Stap 2 Register'!$A$8:$AK$107,14,0))","v":""},{"$f":"IF(A88=0,0,VLOOKUP($A88,'Stap 2 Register'!$A$8:$AK$107,23,0))","v":0},{"$f":"IF(A88=0,0,VLOOKUP($A88,'Stap 2 Register'!$A$8:$AK$107,24,0))","v":0},{"$f":"IF(A88=0,0,VLOOKUP($A88,'Stap 2 Register'!$A$8:$AK$107,25,0))","v":0},{"$f":"IF(A88=0,0,VLOOKUP($A88,'Stap 2 Register'!$A$8:$AK$107,26,0))","v":0},{"$f":"IF(A88=0,0,VLOOKUP($A88,'Stap 2 Register'!$A$8:$AK$107,27,0))","v":0},{"$f":"IF(A88=0,0,VLOOKUP($A88,'Stap 2 Register'!$A$8:$AK$107,28,0))","v":0},"","","","","",""]
[{"$f":"IF('1e berekening'!G84=0,'1e berekening'!B84,0)","v":19},{"$f":"IF(A89=0,\"\",VLOOKUP($A89,'Stap 2 Register'!$A$8:$AK$107,2,0))","v":19},{"$f":"IF(A89=0,0,VLOOKUP($A89,'Stap 2 Register'!$A$8:$AK$107,3,0))","v":0},{"$f":"IF(A89=0,\"\",VLOOKUP($A89,'Stap 2 Register'!$A$8:$AK$107,14,0))","v":""},{"$f":"IF(A89=0,0,VLOOKUP($A89,'Stap 2 Register'!$A$8:$AK$107,23,0))","v":0},{"$f":"IF(A89=0,0,VLOOKUP($A89,'Stap 2 Register'!$A$8:$AK$107,24,0))","v":0},{"$f":"IF(A89=0,0,VLOOKUP($A89,'Stap 2 Register'!$A$8:$AK$107,25,0))","v":0},{"$f":"IF(A89=0,0,VLOOKUP($A89,'Stap 2 Register'!$A$8:$AK$107,26,0))","v":0},{"$f":"IF(A89=0,0,VLOOKUP($A89,'Stap 2 Register'!$A$8:$AK$107,27,0))","v":0},{"$f":"IF(A89=0,0,VLOOKUP($A89,'Stap 2 Register'!$A$8:$AK$107,28,0))","v":0},"","","","","",""]
[{"$f":"IF('1e berekening'!G85=0,'1e berekening'!B85,0)","v":18},{"$f":"IF(A90=0,\"\",VLOOKUP($A90,'Stap 2 Register'!$A$8:$AK$107,2,0))","v":18},{"$f":"IF(A90=0,0,VLOOKUP($A90,'Stap 2 Register'!$A$8:$AK$107,3,0))","v":0},{"$f":"IF(A90=0,\"\",VLOOKUP($A90,'Stap 2 Register'!$A$8:$AK$107,14,0))","v":""},{"$f":"IF(A90=0,0,VLOOKUP($A90,'Stap 2 Register'!$A$8:$AK$107,23,0))","v":0},{"$f":"IF(A90=0,0,VLOOKUP($A90,'Stap 2 Register'!$A$8:$AK$107,24,0))","v":0},{"$f":"IF(A90=0,0,VLOOKUP($A90,'Stap 2 Register'!$A$8:$AK$107,25,0))","v":0},{"$f":"IF(A90=0,0,VLOOKUP($A90,'Stap 2 Register'!$A$8:$AK$107,26,0))","v":0},{"$f":"IF(A90=0,0,VLOOKUP($A90,'Stap 2 Register'!$A$8:$AK$107,27,0))","v":0},{"$f":"IF(A90=0,0,VLOOKUP($A90,'Stap 2 Register'!$A$8:$AK$107,28,0))","v":0},"","","","","",""]
[{"$f":"IF('1e berekening'!G86=0,'1e berekening'!B86,0)","v":17},{"$f":"IF(A91=0,\"\",VLOOKUP($A91,'Stap 2 Register'!$A$8:$AK$107,2,0))","v":17},{"$f":"IF(A91=0,0,VLOOKUP($A91,'Stap 2 Register'!$A$8:$AK$107,3,0))","v":0},{"$f":"IF(A91=0,\"\",VLOOKUP($A91,'Stap 2 Register'!$A$8:$AK$107,14,0))","v":""},{"$f":"IF(A91=0,0,VLOOKUP($A91,'Stap 2 Register'!$A$8:$AK$107,23,0))","v":0},{"$f":"IF(A91=0,0,VLOOKUP($A91,'Stap 2 Register'!$A$8:$AK$107,24,0))","v":0},{"$f":"IF(A91=0,0,VLOOKUP($A91,'Stap 2 Register'!$A$8:$AK$107,25,0))","v":0},{"$f":"IF(A91=0,0,VLOOKUP($A91,'Stap 2 Register'!$A$8:$AK$107,26,0))","v":0},{"$f":"IF(A91=0,0,VLOOKUP($A91,'Stap 2 Register'!$A$8:$AK$107,27,0))","v":0},{"$f":"IF(A91=0,0,VLOOKUP($A91,'Stap 2 Register'!$A$8:$AK$107,28,0))","v":0},"","","","","",""]
[{"$f":"IF('1e berekening'!G87=0,'1e berekening'!B87,0)","v":16},{"$f":"IF(A92=0,\"\",VLOOKUP($A92,'Stap 2 Register'!$A$8:$AK$107,2,0))","v":16},{"$f":"IF(A92=0,0,VLOOKUP($A92,'Stap 2 Register'!$A$8:$AK$107,3,0))","v":0},{"$f":"IF(A92=0,\"\",VLOOKUP($A92,'Stap 2 Register'!$A$8:$AK$107,14,0))","v":""},{"$f":"IF(A92=0,0,VLOOKUP($A92,'Stap 2 Register'!$A$8:$AK$107,23,0))","v":0},{"$f":"IF(A92=0,0,VLOOKUP($A92,'Stap 2 Register'!$A$8:$AK$107,24,0))","v":0},{"$f":"IF(A92=0,0,VLOOKUP($A92,'Stap 2 Register'!$A$8:$AK$107,25,0))","v":0},{"$f":"IF(A92=0,0,VLOOKUP($A92,'Stap 2 Register'!$A$8:$AK$107,26,0))","v":0},{"$f":"IF(A92=0,0,VLOOKUP($A92,'Stap 2 Register'!$A$8:$AK$107,27,0))","v":0},{"$f":"IF(A92=0,0,VLOOKUP($A92,'Stap 2 Register'!$A$8:$AK$107,28,0))","v":0},"","","","","",""]
[{"$f":"IF('1e berekening'!G88=0,'1e berekening'!B88,0)","v":15},{"$f":"IF(A93=0,\"\",VLOOKUP($A93,'Stap 2 Register'!$A$8:$AK$107,2,0))","v":15},{"$f":"IF(A93=0,0,VLOOKUP($A93,'Stap 2 Register'!$A$8:$AK$107,3,0))","v":0},{"$f":"IF(A93=0,\"\",VLOOKUP($A93,'Stap 2 Register'!$A$8:$AK$107,14,0))","v":""},{"$f":"IF(A93=0,0,VLOOKUP($A93,'Stap 2 Register'!$A$8:$AK$107,23,0))","v":0},{"$f":"IF(A93=0,0,VLOOKUP($A93,'Stap 2 Register'!$A$8:$AK$107,24,0))","v":0},{"$f":"IF(A93=0,0,VLOOKUP($A93,'Stap 2 Register'!$A$8:$AK$107,25,0))","v":0},{"$f":"IF(A93=0,0,VLOOKUP($A93,'Stap 2 Register'!$A$8:$AK$107,26,0))","v":0},{"$f":"IF(A93=0,0,VLOOKUP($A93,'Stap 2 Register'!$A$8:$AK$107,27,0))","v":0},{"$f":"IF(A93=0,0,VLOOKUP($A93,'Stap 2 Register'!$A$8:$AK$107,28,0))","v":0},"","","","","",""]
[{"$f":"IF('1e berekening'!G89=0,'1e berekening'!B89,0)","v":14},{"$f":"IF(A94=0,\"\",VLOOKUP($A94,'Stap 2 Register'!$A$8:$AK$107,2,0))","v":14},{"$f":"IF(A94=0,0,VLOOKUP($A94,'Stap 2 Register'!$A$8:$AK$107,3,0))","v":0},{"$f":"IF(A94=0,\"\",VLOOKUP($A94,'Stap 2 Register'!$A$8:$AK$107,14,0))","v":""},{"$f":"IF(A94=0,0,VLOOKUP($A94,'Stap 2 Register'!$A$8:$AK$107,23,0))","v":0},{"$f":"IF(A94=0,0,VLOOKUP($A94,'Stap 2 Register'!$A$8:$AK$107,24,0))","v":0},{"$f":"IF(A94=0,0,VLOOKUP($A94,'Stap 2 Register'!$A$8:$AK$107,25,0))","v":0},{"$f":"IF(A94=0,0,VLOOKUP($A94,'Stap 2 Register'!$A$8:$AK$107,26,0))","v":0},{"$f":"IF(A94=0,0,VLOOKUP($A94,'Stap 2 Register'!$A$8:$AK$107,27,0))","v":0},{"$f":"IF(A94=0,0,VLOOKUP($A94,'Stap 2 Register'!$A$8:$AK$107,28,0))","v":0},"","","","","",""]
[{"$f":"IF('1e berekening'!G90=0,'1e berekening'!B90,0)","v":13},{"$f":"IF(A95=0,\"\",VLOOKUP($A95,'Stap 2 Register'!$A$8:$AK$107,2,0))","v":13},{"$f":"IF(A95=0,0,VLOOKUP($A95,'Stap 2 Register'!$A$8:$AK$107,3,0))","v":0},{"$f":"IF(A95=0,\"\",VLOOKUP($A95,'Stap 2 Register'!$A$8:$AK$107,14,0))","v":""},{"$f":"IF(A95=0,0,VLOOKUP($A95,'Stap 2 Register'!$A$8:$AK$107,23,0))","v":0},{"$f":"IF(A95=0,0,VLOOKUP($A95,'Stap 2 Register'!$A$8:$AK$107,24,0))","v":0},{"$f":"IF(A95=0,0,VLOOKUP($A95,'Stap 2 Register'!$A$8:$AK$107,25,0))","v":0},{"$f":"IF(A95=0,0,VLOOKUP($A95,'Stap 2 Register'!$A$8:$AK$107,26,0))","v":0},{"$f":"IF(A95=0,0,VLOOKUP($A95,'Stap 2 Register'!$A$8:$AK$107,27,0))","v":0},{"$f":"IF(A95=0,0,VLOOKUP($A95,'Stap 2 Register'!$A$8:$AK$107,28,0))","v":0},"","","","","",""]
[{"$f":"IF('1e berekening'!G91=0,'1e berekening'!B91,0)","v":12},{"$f":"IF(A96=0,\"\",VLOOKUP($A96,'Stap 2 Register'!$A$8:$AK$107,2,0))","v":12},{"$f":"IF(A96=0,0,VLOOKUP($A96,'Stap 2 Register'!$A$8:$AK$107,3,0))","v":0},{"$f":"IF(A96=0,\"\",VLOOKUP($A96,'Stap 2 Register'!$A$8:$AK$107,14,0))","v":""},{"$f":"IF(A96=0,0,VLOOKUP($A96,'Stap 2 Register'!$A$8:$AK$107,23,0))","v":0},{"$f":"IF(A96=0,0,VLOOKUP($A96,'Stap 2 Register'!$A$8:$AK$107,24,0))","v":0},{"$f":"IF(A96=0,0,VLOOKUP($A96,'Stap 2 Register'!$A$8:$AK$107,25,0))","v":0},{"$f":"IF(A96=0,0,VLOOKUP($A96,'Stap 2 Register'!$A$8:$AK$107,26,0))","v":0},{"$f":"IF(A96=0,0,VLOOKUP($A96,'Stap 2 Register'!$A$8:$AK$107,27,0))","v":0},{"$f":"IF(A96=0,0,VLOOKUP($A96,'Stap 2 Register'!$A$8:$AK$107,28,0))","v":0},"","","","","",""]
[{"$f":"IF('1e berekening'!G92=0,'1e berekening'!B92,0)","v":11},{"$f":"IF(A97=0,\"\",VLOOKUP($A97,'Stap 2 Register'!$A$8:$AK$107,2,0))","v":11},{"$f":"IF(A97=0,0,VLOOKUP($A97,'Stap 2 Register'!$A$8:$AK$107,3,0))","v":0},{"$f":"IF(A97=0,\"\",VLOOKUP($A97,'Stap 2 Register'!$A$8:$AK$107,14,0))","v":""},{"$f":"IF(A97=0,0,VLOOKUP($A97,'Stap 2 Register'!$A$8:$AK$107,23,0))","v":0},{"$f":"IF(A97=0,0,VLOOKUP($A97,'Stap 2 Register'!$A$8:$AK$107,24,0))","v":0},{"$f":"IF(A97=0,0,VLOOKUP($A97,'Stap 2 Register'!$A$8:$AK$107,25,0))","v":0},{"$f":"IF(A97=0,0,VLOOKUP($A97,'Stap 2 Register'!$A$8:$AK$107,26,0))","v":0},{"$f":"IF(A97=0,0,VLOOKUP($A97,'Stap 2 Register'!$A$8:$AK$107,27,0))","v":0},{"$f":"IF(A97=0,0,VLOOKUP($A97,'Stap 2 Register'!$A$8:$AK$107,28,0))","v":0},"","","","","",""]
[{"$f":"IF('1e berekening'!G93=0,'1e berekening'!B93,0)","v":10},{"$f":"IF(A98=0,\"\",VLOOKUP($A98,'Stap 2 Register'!$A$8:$AK$107,2,0))","v":10},{"$f":"IF(A98=0,0,VLOOKUP($A98,'Stap 2 Register'!$A$8:$AK$107,3,0))","v":0},{"$f":"IF(A98=0,\"\",VLOOKUP($A98,'Stap 2 Register'!$A$8:$AK$107,14,0))","v":""},{"$f":"IF(A98=0,0,VLOOKUP($A98,'Stap 2 Register'!$A$8:$AK$107,23,0))","v":0},{"$f":"IF(A98=0,0,VLOOKUP($A98,'Stap 2 Register'!$A$8:$AK$107,24,0))","v":0},{"$f":"IF(A98=0,0,VLOOKUP($A98,'Stap 2 Register'!$A$8:$AK$107,25,0))","v":0},{"$f":"IF(A98=0,0,VLOOKUP($A98,'Stap 2 Register'!$A$8:$AK$107,26,0))","v":0},{"$f":"IF(A98=0,0,VLOOKUP($A98,'Stap 2 Register'!$A$8:$AK$107,27,0))","v":0},{"$f":"IF(A98=0,0,VLOOKUP($A98,'Stap 2 Register'!$A$8:$AK$107,28,0))","v":0},"","","","","",""]
[{"$f":"IF('1e berekening'!G94=0,'1e berekening'!B94,0)","v":9},{"$f":"IF(A99=0,\"\",VLOOKUP($A99,'Stap 2 Register'!$A$8:$AK$107,2,0))","v":9},{"$f":"IF(A99=0,0,VLOOKUP($A99,'Stap 2 Register'!$A$8:$AK$107,3,0))","v":0},{"$f":"IF(A99=0,\"\",VLOOKUP($A99,'Stap 2 Register'!$A$8:$AK$107,14,0))","v":""},{"$f":"IF(A99=0,0,VLOOKUP($A99,'Stap 2 Register'!$A$8:$AK$107,23,0))","v":0},{"$f":"IF(A99=0,0,VLOOKUP($A99,'Stap 2 Register'!$A$8:$AK$107,24,0))","v":0},{"$f":"IF(A99=0,0,VLOOKUP($A99,'Stap 2 Register'!$A$8:$AK$107,25,0))","v":0},{"$f":"IF(A99=0,0,VLOOKUP($A99,'Stap 2 Register'!$A$8:$AK$107,26,0))","v":0},{"$f":"IF(A99=0,0,VLOOKUP($A99,'Stap 2 Register'!$A$8:$AK$107,27,0))","v":0},{"$f":"IF(A99=0,0,VLOOKUP($A99,'Stap 2 Register'!$A$8:$AK$107,28,0))","v":0},"","","","","",""]
[{"$f":"IF('1e berekening'!G95=0,'1e berekening'!B95,0)","v":8},{"$f":"IF(A100=0,\"\",VLOOKUP($A100,'Stap 2 Register'!$A$8:$AK$107,2,0))","v":8},{"$f":"IF(A100=0,0,VLOOKUP($A100,'Stap 2 Register'!$A$8:$AK$107,3,0))","v":0},{"$f":"IF(A100=0,\"\",VLOOKUP($A100,'Stap 2 Register'!$A$8:$AK$107,14,0))","v":""},{"$f":"IF(A100=0,0,VLOOKUP($A100,'Stap 2 Register'!$A$8:$AK$107,23,0))","v":0},{"$f":"IF(A100=0,0,VLOOKUP($A100,'Stap 2 Register'!$A$8:$AK$107,24,0))","v":0},{"$f":"IF(A100=0,0,VLOOKUP($A100,'Stap 2 Register'!$A$8:$AK$107,25,0))","v":0},{"$f":"IF(A100=0,0,VLOOKUP($A100,'Stap 2 Register'!$A$8:$AK$107,26,0))","v":0},{"$f":"IF(A100=0,0,VLOOKUP($A100,'Stap 2 Register'!$A$8:$AK$107,27,0))","v":0},{"$f":"IF(A100=0,0,VLOOKUP($A100,'Stap 2 Register'!$A$8:$AK$107,28,0))","v":0},"","","","","",""]
[{"$f":"IF('1e berekening'!G96=0,'1e berekening'!B96,0)","v":7},{"$f":"IF(A101=0,\"\",VLOOKUP($A101,'Stap 2 Register'!$A$8:$AK$107,2,0))","v":7},{"$f":"IF(A101=0,0,VLOOKUP($A101,'Stap 2 Register'!$A$8:$AK$107,3,0))","v":0},{"$f":"IF(A101=0,\"\",VLOOKUP($A101,'Stap 2 Register'!$A$8:$AK$107,14,0))","v":""},{"$f":"IF(A101=0,0,VLOOKUP($A101,'Stap 2 Register'!$A$8:$AK$107,23,0))","v":0},{"$f":"IF(A101=0,0,VLOOKUP($A101,'Stap 2 Register'!$A$8:$AK$107,24,0))","v":0},{"$f":"IF(A101=0,0,VLOOKUP($A101,'Stap 2 Register'!$A$8:$AK$107,25,0))","v":0},{"$f":"IF(A101=0,0,VLOOKUP($A101,'Stap 2 Register'!$A$8:$AK$107,26,0))","v":0},{"$f":"IF(A101=0,0,VLOOKUP($A101,'Stap 2 Register'!$A$8:$AK$107,27,0))","v":0},{"$f":"IF(A101=0,0,VLOOKUP($A101,'Stap 2 Register'!$A$8:$AK$107,28,0))","v":0},"","","","","",""]
[{"$f":"IF('1e berekening'!G97=0,'1e berekening'!B97,0)","v":6},{"$f":"IF(A102=0,\"\",VLOOKUP($A102,'Stap 2 Register'!$A$8:$AK$107,2,0))","v":6},{"$f":"IF(A102=0,0,VLOOKUP($A102,'Stap 2 Register'!$A$8:$AK$107,3,0))","v":0},{"$f":"IF(A102=0,\"\",VLOOKUP($A102,'Stap 2 Register'!$A$8:$AK$107,14,0))","v":""},{"$f":"IF(A102=0,0,VLOOKUP($A102,'Stap 2 Register'!$A$8:$AK$107,23,0))","v":0},{"$f":"IF(A102=0,0,VLOOKUP($A102,'Stap 2 Register'!$A$8:$AK$107,24,0))","v":0},{"$f":"IF(A102=0,0,VLOOKUP($A102,'Stap 2 Register'!$A$8:$AK$107,25,0))","v":0},{"$f":"IF(A102=0,0,VLOOKUP($A102,'Stap 2 Register'!$A$8:$AK$107,26,0))","v":0},{"$f":"IF(A102=0,0,VLOOKUP($A102,'Stap 2 Register'!$A$8:$AK$107,27,0))","v":0},{"$f":"IF(A102=0,0,VLOOKUP($A102,'Stap 2 Register'!$A$8:$AK$107,28,0))","v":0},"","","","","",""]
[{"$f":"IF('1e berekening'!G98=0,'1e berekening'!B98,0)","v":5},{"$f":"IF(A103=0,\"\",VLOOKUP($A103,'Stap 2 Register'!$A$8:$AK$107,2,0))","v":5},{"$f":"IF(A103=0,0,VLOOKUP($A103,'Stap 2 Register'!$A$8:$AK$107,3,0))","v":0},{"$f":"IF(A103=0,\"\",VLOOKUP($A103,'Stap 2 Register'!$A$8:$AK$107,14,0))","v":""},{"$f":"IF(A103=0,0,VLOOKUP($A103,'Stap 2 Register'!$A$8:$AK$107,23,0))","v":0},{"$f":"IF(A103=0,0,VLOOKUP($A103,'Stap 2 Register'!$A$8:$AK$107,24,0))","v":0},{"$f":"IF(A103=0,0,VLOOKUP($A103,'Stap 2 Register'!$A$8:$AK$107,25,0))","v":0},{"$f":"IF(A103=0,0,VLOOKUP($A103,'Stap 2 Register'!$A$8:$AK$107,26,0))","v":0},{"$f":"IF(A103=0,0,VLOOKUP($A103,'Stap 2 Register'!$A$8:$AK$107,27,0))","v":0},{"$f":"IF(A103=0,0,VLOOKUP($A103,'Stap 2 Register'!$A$8:$AK$107,28,0))","v":0},"","","","","",""]
[{"$f":"IF('1e berekening'!G99=0,'1e berekening'!B99,0)","v":4},{"$f":"IF(A104=0,\"\",VLOOKUP($A104,'Stap 2 Register'!$A$8:$AK$107,2,0))","v":4},{"$f":"IF(A104=0,0,VLOOKUP($A104,'Stap 2 Register'!$A$8:$AK$107,3,0))","v":0},{"$f":"IF(A104=0,\"\",VLOOKUP($A104,'Stap 2 Register'!$A$8:$AK$107,14,0))","v":""},{"$f":"IF(A104=0,0,VLOOKUP($A104,'Stap 2 Register'!$A$8:$AK$107,23,0))","v":0},{"$f":"IF(A104=0,0,VLOOKUP($A104,'Stap 2 Register'!$A$8:$AK$107,24,0))","v":0},{"$f":"IF(A104=0,0,VLOOKUP($A104,'Stap 2 Register'!$A$8:$AK$107,25,0))","v":0},{"$f":"IF(A104=0,0,VLOOKUP($A104,'Stap 2 Register'!$A$8:$AK$107,26,0))","v":0},{"$f":"IF(A104=0,0,VLOOKUP($A104,'Stap 2 Register'!$A$8:$AK$107,27,0))","v":0},{"$f":"IF(A104=0,0,VLOOKUP($A104,'Stap 2 Register'!$A$8:$AK$107,28,0))","v":0},"","","","","",""]
[{"$f":"IF('1e berekening'!G100=0,'1e berekening'!B100,0)","v":3},{"$f":"IF(A105=0,\"\",VLOOKUP($A105,'Stap 2 Register'!$A$8:$AK$107,2,0))","v":3},{"$f":"IF(A105=0,0,VLOOKUP($A105,'Stap 2 Register'!$A$8:$AK$107,3,0))","v":0},{"$f":"IF(A105=0,\"\",VLOOKUP($A105,'Stap 2 Register'!$A$8:$AK$107,14,0))","v":""},{"$f":"IF(A105=0,0,VLOOKUP($A105,'Stap 2 Register'!$A$8:$AK$107,23,0))","v":0},{"$f":"IF(A105=0,0,VLOOKUP($A105,'Stap 2 Register'!$A$8:$AK$107,24,0))","v":0},{"$f":"IF(A105=0,0,VLOOKUP($A105,'Stap 2 Register'!$A$8:$AK$107,25,0))","v":0},{"$f":"IF(A105=0,0,VLOOKUP($A105,'Stap 2 Register'!$A$8:$AK$107,26,0))","v":0},{"$f":"IF(A105=0,0,VLOOKUP($A105,'Stap 2 Register'!$A$8:$AK$107,27,0))","v":0},{"$f":"IF(A105=0,0,VLOOKUP($A105,'Stap 2 Register'!$A$8:$AK$107,28,0))","v":0},"","","","","",""]
[{"$f":"IF('1e berekening'!G101=0,'1e berekening'!B101,0)","v":2},{"$f":"IF(A106=0,\"\",VLOOKUP($A106,'Stap 2 Register'!$A$8:$AK$107,2,0))","v":2},{"$f":"IF(A106=0,0,VLOOKUP($A106,'Stap 2 Register'!$A$8:$AK$107,3,0))","v":0},{"$f":"IF(A106=0,\"\",VLOOKUP($A106,'Stap 2 Register'!$A$8:$AK$107,14,0))","v":""},{"$f":"IF(A106=0,0,VLOOKUP($A106,'Stap 2 Register'!$A$8:$AK$107,23,0))","v":0},{"$f":"IF(A106=0,0,VLOOKUP($A106,'Stap 2 Register'!$A$8:$AK$107,24,0))","v":0},{"$f":"IF(A106=0,0,VLOOKUP($A106,'Stap 2 Register'!$A$8:$AK$107,25,0))","v":0},{"$f":"IF(A106=0,0,VLOOKUP($A106,'Stap 2 Register'!$A$8:$AK$107,26,0))","v":0},{"$f":"IF(A106=0,0,VLOOKUP($A106,'Stap 2 Register'!$A$8:$AK$107,27,0))","v":0},{"$f":"IF(A106=0,0,VLOOKUP($A106,'Stap 2 Register'!$A$8:$AK$107,28,0))","v":0},"","","","","",""]
[{"$f":"IF('1e berekening'!G102=0,'1e berekening'!B102,0)","v":1},{"$f":"IF(A107=0,\"\",VLOOKUP($A107,'Stap 2 Register'!$A$8:$AK$107,2,0))","v":1},{"$f":"IF(A107=0,0,VLOOKUP($A107,'Stap 2 Register'!$A$8:$AK$107,3,0))","v":0},{"$f":"IF(A107=0,\"\",VLOOKUP($A107,'Stap 2 Register'!$A$8:$AK$107,14,0))","v":""},{"$f":"IF(A107=0,0,VLOOKUP($A107,'Stap 2 Register'!$A$8:$AK$107,23,0))","v":0},{"$f":"IF(A107=0,0,VLOOKUP($A107,'Stap 2 Register'!$A$8:$AK$107,24,0))","v":0},{"$f":"IF(A107=0,0,VLOOKUP($A107,'Stap 2 Register'!$A$8:$AK$107,25,0))","v":0},{"$f":"IF(A107=0,0,VLOOKUP($A107,'Stap 2 Register'!$A$8:$AK$107,26,0))","v":0},{"$f":"IF(A107=0,0,VLOOKUP($A107,'Stap 2 Register'!$A$8:$AK$107,27,0))","v":0},{"$f":"IF(A107=0,0,VLOOKUP($A107,'Stap 2 Register'!$A$8:$AK$107,28,0))","v":0},"","","","","",""]
[]
[null,null,null,null,{"$f":"SUM(E8:E107)","v":0},0,0,0,0,0,{"$f":"100-COUNTBLANK(K8:K107)","v":0},0,0,0,0,0]

{"sheet":"1e berekening","index":5,"n_rows":106,"n_cols":15,"rows_kept":106,"cut":false,"hidden":true,"merged":[]}
[null,null,null,null,null,null,null,null,null,"risico",". "]
["Mon eq","monetair op volgorde","risiconummer","risico beschrijving","Effect","risico","selectie",null,null,"O","ZH","H","M","L","V"]
[{"$f":"IF(G3=1,B3,0)","v":0},{"$f":"LARGE('Stap 2 Register'!$A$8:$A$107,'Stap 2 Register'!B8)","v":100},{"$f":"VLOOKUP($B3,'Stap 2 Register'!$A$8:$AK$107,2,0)","v":100},{"$f":"VLOOKUP($B3,'Stap 2 Register'!$A$8:$AK$107,3,0)","v":0},{"$f":"VLOOKUP($B3,'Stap 2 Register'!$A$8:$AK$107,5,0)","v":0},{"$f":"VLOOKUP($B3,'Stap 2 Register'!$A$8:$AK$107,14,0)","v":""},{"$f":"VLOOKUP($B3,'Stap 2 Register'!$A$8:$AK$107,35,0)","v":0},null,null,{"$f":"IF($F3=$J$2,_xlfn.TEXTJOIN($K$1,,$C3:$D3),\"\")","v":""},{"$f":"IF($F3=$K$2,_xlfn.TEXTJOIN($K$1,,$C3:$D3),\"\")","v":""},{"$f":"IF($F3=$L$2,_xlfn.TEXTJOIN($K$1,,$C3:$D3),\"\")","v":""},{"$f":"IF($F3=$M$2,_xlfn.TEXTJOIN($K$1,,$C3:$D3),\"\")","v":""},{"$f":"IF($F3=$N$2,_xlfn.TEXTJOIN($K$1,,$C3:$D3),\"\")","v":""},{"$f":"IF($F3=$O$2,_xlfn.TEXTJOIN($K$1,,$C3:$D3),\"\")","v":""}]
[{"$f":"IF(G4=1,B4,0)","v":0},{"$f":"LARGE('Stap 2 Register'!$A$8:$A$107,'Stap 2 Register'!B9)","v":99},{"$f":"VLOOKUP($B4,'Stap 2 Register'!$A$8:$AK$107,2,0)","v":99},{"$f":"VLOOKUP($B4,'Stap 2 Register'!$A$8:$AK$107,3,0)","v":0},{"$f":"VLOOKUP($B4,'Stap 2 Register'!$A$8:$AK$107,5,0)","v":0},{"$f":"VLOOKUP($B4,'Stap 2 Register'!$A$8:$AK$107,14,0)","v":""},{"$f":"VLOOKUP($B4,'Stap 2 Register'!$A$8:$AK$107,35,0)","v":0},null,null,"","","","","",""]
[0,{"$f":"LARGE('Stap 2 Register'!$A$8:$A$107,'Stap 2 Register'!B10)","v":98},{"$f":"VLOOKUP($B5,'Stap 2 Register'!$A$8:$AK$107,2,0)","v":98},{"$f":"VLOOKUP($B5,'Stap 2 Register'!$A$8:$AK$107,3,0)","v":0},{"$f":"VLOOKUP($B5,'Stap 2 Register'!$A$8:$AK$107,5,0)","v":0},{"$f":"VLOOKUP($B5,'Stap 2 Register'!$A$8:$AK$107,14,0)","v":""},{"$f":"VLOOKUP($B5,'Stap 2 Register'!$A$8:$AK$107,35,0)","v":0},null,null,"","","","","",""]
[0,{"$f":"LARGE('Stap 2 Register'!$A$8:$A$107,'Stap 2 Register'!B11)","v":97},{"$f":"VLOOKUP($B6,'Stap 2 Register'!$A$8:$AK$107,2,0)","v":97},{"$f":"VLOOKUP($B6,'Stap 2 Register'!$A$8:$AK$107,3,0)","v":0},{"$f":"VLOOKUP($B6,'Stap 2 Register'!$A$8:$AK$107,5,0)","v":0},{"$f":"VLOOKUP($B6,'Stap 2 Register'!$A$8:$AK$107,14,0)","v":""},{"$f":"VLOOKUP($B6,'Stap 2 Register'!$A$8:$AK$107,35,0)","v":0},null,null,"","","","","",""]
[0,{"$f":"LARGE('Stap 2 Register'!$A$8:$A$107,'Stap 2 Register'!B12)","v":96},{"$f":"VLOOKUP($B7,'Stap 2 Register'!$A$8:$AK$107,2,0)","v":96},{"$f":"VLOOKUP($B7,'Stap 2 Register'!$A$8:$AK$107,3,0)","v":0},{"$f":"VLOOKUP($B7,'Stap 2 Register'!$A$8:$AK$107,5,0)","v":0},{"$f":"VLOOKUP($B7,'Stap 2 Register'!$A$8:$AK$107,14,0)","v":""},{"$f":"VLOOKUP($B7,'Stap 2 Register'!$A$8:$AK$107,35,0)","v":0},null,null,"","","","","",""]
[0,{"$f":"LARGE('Stap 2 Register'!$A$8:$A$107,'Stap 2 Register'!B13)","v":95},{"$f":"VLOOKUP($B8,'Stap 2 Register'!$A$8:$AK$107,2,0)","v":95},{"$f":"VLOOKUP($B8,'Stap 2 Register'!$A$8:$AK$107,3,0)","v":0},{"$f":"VLOOKUP($B8,'Stap 2 Register'!$A$8:$AK$107,5,0)","v":0},{"$f":"VLOOKUP($B8,'Stap 2 Register'!$A$8:$AK$107,14,0)","v":""},{"$f":"VLOOKUP($B8,'Stap 2 Register'!$A$8:$AK$107,35,0)","v":0},null,null,"","","","","",""]
[0,{"$f":"LARGE('Stap 2 Register'!$A$8:$A$107,'Stap 2 Register'!B14)","v":94},{"$f":"VLOOKUP($B9,'Stap 2 Register'!$A$8:$AK$107,2,0)","v":94},{"$f":"VLOOKUP($B9,'Stap 2 Register'!$A$8:$AK$107,3,0)","v":0},{"$f":"VLOOKUP($B9,'Stap 2 Register'!$A$8:$AK$107,5,0)","v":0},{"$f":"VLOOKUP($B9,'Stap 2 Register'!$A$8:$AK$107,14,0)","v":""},{"$f":"VLOOKUP($B9,'Stap 2 Register'!$A$8:$AK$107,35,0)","v":0},null,null,"","","","","",""]
[0,{"$f":"LARGE('Stap 2 Register'!$A$8:$A$107,'Stap 2 Register'!B15)","v":93},{"$f":"VLOOKUP($B10,'Stap 2 Register'!$A$8:$AK$107,2,0)","v":93},{"$f":"VLOOKUP($B10,'Stap 2 Register'!$A$8:$AK$107,3,0)","v":0},{"$f":"VLOOKUP($B10,'Stap 2 Register'!$A$8:$AK$107,5,0)","v":0},{"$f":"VLOOKUP($B10,'Stap 2 Register'!$A$8:$AK$107,14,0)","v":""},{"$f":"VLOOKUP($B10,'Stap 2 Register'!$A$8:$AK$107,35,0)","v":0},null,null,"","","","","",""]
[0,{"$f":"LARGE('Stap 2 Register'!$A$8:$A$107,'Stap 2 Register'!B16)","v":92},{"$f":"VLOOKUP($B11,'Stap 2 Register'!$A$8:$AK$107,2,0)","v":92},{"$f":"VLOOKUP($B11,'Stap 2 Register'!$A$8:$AK$107,3,0)","v":0},{"$f":"VLOOKUP($B11,'Stap 2 Register'!$A$8:$AK$107,5,0)","v":0},{"$f":"VLOOKUP($B11,'Stap 2 Register'!$A$8:$AK$107,14,0)","v":""},{"$f":"VLOOKUP($B11,'Stap 2 Register'!$A$8:$AK$107,35,0)","v":0},null,null,"","","","","",""]
[0,{"$f":"LARGE('Stap 2 Register'!$A$8:$A$107,'Stap 2 Register'!B17)","v":91},{"$f":"VLOOKUP($B12,'Stap 2 Register'!$A$8:$AK$107,2,0)","v":91},{"$f":"VLOOKUP($B12,'Stap 2 Register'!$A$8:$AK$107,3,0)","v":0},{"$f":"VLOOKUP($B12,'Stap 2 Register'!$A$8:$AK$107,5,0)","v":0},{"$f":"VLOOKUP($B12,'Stap 2 Register'!$A$8:$AK$107,14,0)","v":""},{"$f":"VLOOKUP($B12,'Stap 2 Register'!$A$8:$AK$107,35,0)","v":0},null,null,"","","","","",""]
[0,{"$f":"LARGE('Stap 2 Register'!$A$8:$A$107,'Stap 2 Register'!B18)","v":90},{"$f":"VLOOKUP($B13,'Stap 2 Register'!$A$8:$AK$107,2,0)","v":90},{"$f":"VLOOKUP($B13,'Stap 2 Register'!$A$8:$AK$107,3,0)","v":0},{"$f":"VLOOKUP($B13,'Stap 2 Register'!$A$8:$AK$107,5,0)","v":0},{"$f":"VLOOKUP($B13,'Stap 2 Register'!$A$8:$AK$107,14,0)","v":""},{"$f":"VLOOKUP($B13,'Stap 2 Register'!$A$8:$AK$107,35,0)","v":0},null,null,"","","","","",""]
[0,{"$f":"LARGE('Stap 2 Register'!$A$8:$A$107,'Stap 2 Register'!B19)","v":89},{"$f":"VLOOKUP($B14,'Stap 2 Register'!$A$8:$AK$107,2,0)","v":89},{"$f":"VLOOKUP($B14,'Stap 2 Register'!$A$8:$AK$107,3,0)","v":0},{"$f":"VLOOKUP($B14,'Stap 2 Register'!$A$8:$AK$107,5,0)","v":0},{"$f":"VLOOKUP($B14,'Stap 2 Register'!$A$8:$AK$107,14,0)","v":""},{"$f":"VLOOKUP($B14,'Stap 2 Register'!$A$8:$AK$107,35,0)","v":0},null,null,"","","","","",""]
[0,{"$f":"LARGE('Stap 2 Register'!$A$8:$A$107,'Stap 2 Register'!B20)","v":88},{"$f":"VLOOKUP($B15,'Stap 2 Register'!$A$8:$AK$107,2,0)","v":88},{"$f":"VLOOKUP($B15,'Stap 2 Register'!$A$8:$AK$107,3,0)","v":0},{"$f":"VLOOKUP($B15,'Stap 2 Register'!$A$8:$AK$107,5,0)","v":0},{"$f":"VLOOKUP($B15,'Stap 2 Register'!$A$8:$AK$107,14,0)","v":""},{"$f":"VLOOKUP($B15,'Stap 2 Register'!$A$8:$AK$107,35,0)","v":0},null,null,"","","","","",""]
[0,{"$f":"LARGE('Stap 2 Register'!$A$8:$A$107,'Stap 2 Register'!B21)","v":87},{"$f":"VLOOKUP($B16,'Stap 2 Register'!$A$8:$AK$107,2,0)","v":87},{"$f":"VLOOKUP($B16,'Stap 2 Register'!$A$8:$AK$107,3,0)","v":0},{"$f":"VLOOKUP($B16,'Stap 2 Register'!$A$8:$AK$107,5,0)","v":0},{"$f":"VLOOKUP($B16,'Stap 2 Register'!$A$8:$AK$107,14,0)","v":""},{"$f":"VLOOKUP($B16,'Stap 2 Register'!$A$8:$AK$107,35,0)","v":0},null,null,"","","","","",""]
[0,{"$f":"LARGE('Stap 2 Register'!$A$8:$A$107,'Stap 2 Register'!B22)","v":86},{"$f":"VLOOKUP($B17,'Stap 2 Register'!$A$8:$AK$107,2,0)","v":86},{"$f":"VLOOKUP($B17,'Stap 2 Register'!$A$8:$AK$107,3,0)","v":0},{"$f":"VLOOKUP($B17,'Stap 2 Register'!$A$8:$AK$107,5,0)","v":0},{"$f":"VLOOKUP($B17,'Stap 2 Register'!$A$8:$AK$107,14,0)","v":""},{"$f":"VLOOKUP($B17,'Stap 2 Register'!$A$8:$AK$107,35,0)","v":0},null,null,"","","","","",""]
[0,{"$f":"LARGE('Stap 2 Register'!$A$8:$A$107,'Stap 2 Register'!B23)","v":85},{"$f":"VLOOKUP($B18,'Stap 2 Register'!$A$8:$AK$107,2,0)","v":85},{"$f":"VLOOKUP($B18,'Stap 2 Register'!$A$8:$AK$107,3,0)","v":0},{"$f":"VLOOKUP($B18,'Stap 2 Register'!$A$8:$AK$107,5,0)","v":0},{"$f":"VLOOKUP($B18,'Stap 2 Register'!$A$8:$AK$107,14,0)","v":""},{"$f":"VLOOKUP($B18,'Stap 2 Register'!$A$8:$AK$107,35,0)","v":0},null,null,"","","","","",""]
[0,{"$f":"LARGE('Stap 2 Register'!$A$8:$A$107,'Stap 2 Register'!B24)","v":84},{"$f":"VLOOKUP($B19,'Stap 2 Register'!$A$8:$AK$107,2,0)","v":84},{"$f":"VLOOKUP($B19,'Stap 2 Register'!$A$8:$AK$107,3,0)","v":0},{"$f":"VLOOKUP($B19,'Stap 2 Register'!$A$8:$AK$107,5,0)","v":0},{"$f":"VLOOKUP($B19,'Stap 2 Register'!$A$8:$AK$107,14,0)","v":""},{"$f":"VLOOKUP($B19,'Stap 2 Register'!$A$8:$AK$107,35,0)","v":0},null,null,"","","","","",""]
[0,{"$f":"LARGE('Stap 2 Register'!$A$8:$A$107,'Stap 2 Register'!B25)","v":83},{"$f":"VLOOKUP($B20,'Stap 2 Register'!$A$8:$AK$107,2,0)","v":83},{"$f":"VLOOKUP($B20,'Stap 2 Register'!$A$8:$AK$107,3,0)","v":0},{"$f":"VLOOKUP($B20,'Stap 2 Register'!$A$8:$AK$107,5,0)","v":0},{"$f":"VLOOKUP($B20,'Stap 2 Register'!$A$8:$AK$107,14,0)","v":""},{"$f":"VLOOKUP($B20,'Stap 2 Register'!$A$8:$AK$107,35,0)","v":0},null,null,"","","","","",""]
[0,{"$f":"LARGE('Stap 2 Register'!$A$8:$A$107,'Stap 2 Register'!B26)","v":82},{"$f":"VLOOKUP($B21,'Stap 2 Register'!$A$8:$AK$107,2,0)","v":82},{"$f":"VLOOKUP($B21,'Stap 2 Register'!$A$8:$AK$107,3,0)","v":0},{"$f":"VLOOKUP($B21,'Stap 2 Register'!$A$8:$AK$107,5,0)","v":0},{"$f":"VLOOKUP($B21,'Stap 2 Register'!$A$8:$AK$107,14,0)","v":""},{"$f":"VLOOKUP($B21,'Stap 2 Register'!$A$8:$AK$107,35,0)","v":0},null,null,"","","","","",""]
[0,{"$f":"LARGE('Stap 2 Register'!$A$8:$A$107,'Stap 2 Register'!B27)","v":81},{"$f":"VLOOKUP($B22,'Stap 2 Register'!$A$8:$AK$107,2,0)","v":81},{"$f":"VLOOKUP($B22,'Stap 2 Register'!$A$8:$AK$107,3,0)","v":0},{"$f":"VLOOKUP($B22,'Stap 2 Register'!$A$8:$AK$107,5,0)","v":0},{"$f":"VLOOKUP($B22,'Stap 2 Register'!$A$8:$AK$107,14,0)","v":""},{"$f":"VLOOKUP($B22,'Stap 2 Register'!$A$8:$AK$107,35,0)","v":0},null,null,"","","","","",""]
[0,{"$f":"LARGE('Stap 2 Register'!$A$8:$A$107,'Stap 2 Register'!B28)","v":80},{"$f":"VLOOKUP($B23,'Stap 2 Register'!$A$8:$AK$107,2,0)","v":80},{"$f":"VLOOKUP($B23,'Stap 2 Register'!$A$8:$AK$107,3,0)","v":0},{"$f":"VLOOKUP($B23,'Stap 2 Register'!$A$8:$AK$107,5,0)","v":0},{"$f":"VLOOKUP($B23,'Stap 2 Register'!$A$8:$AK$107,14,0)","v":""},{"$f":"VLOOKUP($B23,'Stap 2 Register'!$A$8:$AK$107,35,0)","v":0},null,null,"","","","","",""]
[0,{"$f":"LARGE('Stap 2 Register'!$A$8:$A$107,'Stap 2 Register'!B29)","v":79},{"$f":"VLOOKUP($B24,'Stap 2 Register'!$A$8:$AK$107,2,0)","v":79},{"$f":"VLOOKUP($B24,'Stap 2 Register'!$A$8:$AK$107,3,0)","v":0},{"$f":"VLOOKUP($B24,'Stap 2 Register'!$A$8:$AK$107,5,0)","v":0},{"$f":"VLOOKUP($B24,'Stap 2 Register'!$A$8:$AK$107,14,0)","v":""},{"$f":"VLOOKUP($B24,'Stap 2 Register'!$A$8:$AK$107,35,0)","v":0},null,null,"","","","","",""]
[0,{"$f":"LARGE('Stap 2 Register'!$A$8:$A$107,'Stap 2 Register'!B30)","v":78},{"$f":"VLOOKUP($B25,'Stap 2 Register'!$A$8:$AK$107,2,0)","v":78},{"$f":"VLOOKUP($B25,'Stap 2 Register'!$A$8:$AK$107,3,0)","v":0},{"$f":"VLOOKUP($B25,'Stap 2 Register'!$A$8:$AK$107,5,0)","v":0},{"$f":"VLOOKUP($B25,'Stap 2 Register'!$A$8:$AK$107,14,0)","v":""},{"$f":"VLOOKUP($B25,'Stap 2 Register'!$A$8:$AK$107,35,0)","v":0},null,null,"","","","","",""]
[0,{"$f":"LARGE('Stap 2 Register'!$A$8:$A$107,'Stap 2 Register'!B31)","v":77},{"$f":"VLOOKUP($B26,'Stap 2 Register'!$A$8:$AK$107,2,0)","v":77},{"$f":"VLOOKUP($B26,'Stap 2 Register'!$A$8:$AK$107,3,0)","v":0},{"$f":"VLOOKUP($B26,'Stap 2 Register'!$A$8:$AK$107,5,0)","v":0},{"$f":"VLOOKUP($B26,'Stap 2 Register'!$A$8:$AK$107,14,0)","v":""},{"$f":"VLOOKUP($B26,'Stap 2 Register'!$A$8:$AK$107,35,0)","v":0},null,null,"","","","","",""]
[0,{"$f":"LARGE('Stap 2 Register'!$A$8:$A$107,'Stap 2 Register'!B32)","v":76},{"$f":"VLOOKUP($B27,'Stap 2 Register'!$A$8:$AK$107,2,0)","v":76},{"$f":"VLOOKUP($B27,'Stap 2 Register'!$A$8:$AK$107,3,0)","v":0},{"$f":"VLOOKUP($B27,'Stap 2 Register'!$A$8:$AK$107,5,0)","v":0},{"$f":"VLOOKUP($B27,'Stap 2 Register'!$A$8:$AK$107,14,0)","v":""},{"$f":"VLOOKUP($B27,'Stap 2 Register'!$A$8:$AK$107,35,0)","v":0},null,null,"","","","","",""]
[0,{"$f":"LARGE('Stap 2 Register'!$A$8:$A$107,'Stap 2 Register'!B33)","v":75},{"$f":"VLOOKUP($B28,'Stap 2 Register'!$A$8:$AK$107,2,0)","v":75},{"$f":"VLOOKUP($B28,'Stap 2 Register'!$A$8:$AK$107,3,0)","v":0},{"$f":"VLOOKUP($B28,'Stap 2 Register'!$A$8:$AK$107,5,0)","v":0},{"$f":"VLOOKUP($B28,'Stap 2 Register'!$A$8:$AK$107,14,0)","v":""},{"$f":"VLOOKUP($B28,'Stap 2 Register'!$A$8:$AK$107,35,0)","v":0},null,null,"","","","","",""]
[0,{"$f":"LARGE('Stap 2 Register'!$A$8:$A$107,'Stap 2 Register'!B34)","v":74},{"$f":"VLOOKUP($B29,'Stap 2 Register'!$A$8:$AK$107,2,0)","v":74},{"$f":"VLOOKUP($B29,'Stap 2 Register'!$A$8:$AK$107,3,0)","v":0},{"$f":"VLOOKUP($B29,'Stap 2 Register'!$A$8:$AK$107,5,0)","v":0},{"$f":"VLOOKUP($B29,'Stap 2 Register'!$A$8:$AK$107,14,0)","v":""},{"$f":"VLOOKUP($B29,'Stap 2 Register'!$A$8:$AK$107,35,0)","v":0},null,null,"","","","","",""]
[0,{"$f":"LARGE('Stap 2 Register'!$A$8:$A$107,'Stap 2 Register'!B35)","v":73},{"$f":"VLOOKUP($B30,'Stap 2 Register'!$A$8:$AK$107,2,0)","v":73},{"$f":"VLOOKUP($B30,'Stap 2 Register'!$A$8:$AK$107,3,0)","v":0},{"$f":"VLOOKUP($B30,'Stap 2 Register'!$A$8:$AK$107,5,0)","v":0},{"$f":"VLOOKUP($B30,'Stap 2 Register'!$A$8:$AK$107,14,0)","v":""},{"$f":"VLOOKUP($B30,'Stap 2 Register'!$A$8:$AK$107,35,0)","v":0},null,null,"","","","","",""]
[0,{"$f":"LARGE('Stap 2 Register'!$A$8:$A$107,'Stap 2 Register'!B36)","v":72},{"$f":"VLOOKUP($B31,'Stap 2 Register'!$A$8:$AK$107,2,0)","v":72},{"$f":"VLOOKUP($B31,'Stap 2 Register'!$A$8:$AK$107,3,0)","v":0},{"$f":"VLOOKUP($B31,'Stap 2 Register'!$A$8:$AK$107,5,0)","v":0},{"$f":"VLOOKUP($B31,'Stap 2 Register'!$A$8:$AK$107,14,0)","v":""},{"$f":"VLOOKUP($B31,'Stap 2 Register'!$A$8:$AK$107,35,0)","v":0},null,null,"","","","","",""]
[0,{"$f":"LARGE('Stap 2 Register'!$A$8:$A$107,'Stap 2 Register'!B37)","v":71},{"$f":"VLOOKUP($B32,'Stap 2 Register'!$A$8:$AK$107,2,0)","v":71},{"$f":"VLOOKUP($B32,'Stap 2 Register'!$A$8:$AK$107,3,0)","v":0},{"$f":"VLOOKUP($B32,'Stap 2 Register'!$A$8:$AK$107,5,0)","v":0},{"$f":"VLOOKUP($B32,'Stap 2 Register'!$A$8:$AK$107,14,0)","v":""},{"$f":"VLOOKUP($B32,'Stap 2 Register'!$A$8:$AK$107,35,0)","v":0},null,null,"","","","","",""]
[0,{"$f":"LARGE('Stap 2 Register'!$A$8:$A$107,'Stap 2 Register'!B38)","v":70},{"$f":"VLOOKUP($B33,'Stap 2 Register'!$A$8:$AK$107,2,0)","v":70},{"$f":"VLOOKUP($B33,'Stap 2 Register'!$A$8:$AK$107,3,0)","v":0},{"$f":"VLOOKUP($B33,'Stap 2 Register'!$A$8:$AK$107,5,0)","v":0},{"$f":"VLOOKUP($B33,'Stap 2 Register'!$A$8:$AK$107,14,0)","v":""},{"$f":"VLOOKUP($B33,'Stap 2 Register'!$A$8:$AK$107,35,0)","v":0},null,null,"","","","","",""]
[0,{"$f":"LARGE('Stap 2 Register'!$A$8:$A$107,'Stap 2 Register'!B39)","v":69},{"$f":"VLOOKUP($B34,'Stap 2 Register'!$A$8:$AK$107,2,0)","v":69},{"$f":"VLOOKUP($B34,'Stap 2 Register'!$A$8:$AK$107,3,0)","v":0},{"$f":"VLOOKUP($B34,'Stap 2 Register'!$A$8:$AK$107,5,0)","v":0},{"$f":"VLOOKUP($B34,'Stap 2 Register'!$A$8:$AK$107,14,0)","v":""},{"$f":"VLOOKUP($B34,'Stap 2 Register'!$A$8:$AK$107,35,0)","v":0},null,null,"","","","","",""]
[0,{"$f":"LARGE('Stap 2 Register'!$A$8:$A$107,'Stap 2 Register'!B40)","v":68},{"$f":"VLOOKUP($B35,'Stap 2 Register'!$A$8:$AK$107,2,0)","v":68},{"$f":"VLOOKUP($B35,'Stap 2 Register'!$A$8:$AK$107,3,0)","v":0},{"$f":"VLOOKUP($B35,'Stap 2 Register'!$A$8:$AK$107,5,0)","v":0},{"$f":"VLOOKUP($B35,'Stap 2 Register'!$A$8:$AK$107,14,0)","v":""},{"$f":"VLOOKUP($B35,'Stap 2 Register'!$A$8:$AK$107,35,0)","v":0},null,null,{"$f":"IF($F35=$J$2,_xlfn.TEXTJOIN($K$1,,$C35:$D35),\"\")","v":""},{"$f":"IF($F35=$K$2,_xlfn.TEXTJOIN($K$1,,$C35:$D35),\"\")","v":""},{"$f":"IF($F35=$L$2,_xlfn.TEXTJOIN($K$1,,$C35:$D35),\"\")","v":""},{"$f":"IF($F35=$M$2,_xlfn.TEXTJOIN($K$1,,$C35:$D35),\"\")","v":""},{"$f":"IF($F35=$N$2,_xlfn.TEXTJOIN($K$1,,$C35:$D35),\"\")","v":""},{"$f":"IF($F35=$O$2,_xlfn.TEXTJOIN($K$1,,$C35:$D35),\"\")","v":""}]
[0,{"$f":"LARGE('Stap 2 Register'!$A$8:$A$107,'Stap 2 Register'!B41)","v":67},{"$f":"VLOOKUP($B36,'Stap 2 Register'!$A$8:$AK$107,2,0)","v":67},{"$f":"VLOOKUP($B36,'Stap 2 Register'!$A$8:$AK$107,3,0)","v":0},{"$f":"VLOOKUP($B36,'Stap 2 Register'!$A$8:$AK$107,5,0)","v":0},{"$f":"VLOOKUP($B36,'Stap 2 Register'!$A$8:$AK$107,14,0)","v":""},{"$f":"VLOOKUP($B36,'Stap 2 Register'!$A$8:$AK$107,35,0)","v":0},null,null,"","","","","",""]
[0,{"$f":"LARGE('Stap 2 Register'!$A$8:$A$107,'Stap 2 Register'!B42)","v":66},{"$f":"VLOOKUP($B37,'Stap 2 Register'!$A$8:$AK$107,2,0)","v":66},{"$f":"VLOOKUP($B37,'Stap 2 Register'!$A$8:$AK$107,3,0)","v":0},{"$f":"VLOOKUP($B37,'Stap 2 Register'!$A$8:$AK$107,5,0)","v":0},{"$f":"VLOOKUP($B37,'Stap 2 Register'!$A$8:$AK$107,14,0)","v":""},{"$f":"VLOOKUP($B37,'Stap 2 Register'!$A$8:$AK$107,35,0)","v":0},null,null,"","","","","",""]
[0,{"$f":"LARGE('Stap 2 Register'!$A$8:$A$107,'Stap 2 Register'!B43)","v":65},{"$f":"VLOOKUP($B38,'Stap 2 Register'!$A$8:$AK$107,2,0)","v":65},{"$f":"VLOOKUP($B38,'Stap 2 Register'!$A$8:$AK$107,3,0)","v":0},{"$f":"VLOOKUP($B38,'Stap 2 Register'!$A$8:$AK$107,5,0)","v":0},{"$f":"VLOOKUP($B38,'Stap 2 Register'!$A$8:$AK$107,14,0)","v":""},{"$f":"VLOOKUP($B38,'Stap 2 Register'!$A$8:$AK$107,35,0)","v":0},null,null,"","","","","",""]
[0,{"$f":"LARGE('Stap 2 Register'!$A$8:$A$107,'Stap 2 Register'!B44)","v":64},{"$f":"VLOOKUP($B39,'Stap 2 Register'!$A$8:$AK$107,2,0)","v":64},{"$f":"VLOOKUP($B39,'Stap 2 Register'!$A$8:$AK$107,3,0)","v":0},{"$f":"VLOOKUP($B39,'Stap 2 Register'!$A$8:$AK$107,5,0)","v":0},{"$f":"VLOOKUP($B39,'Stap 2 Register'!$A$8:$AK$107,14,0)","v":""},{"$f":"VLOOKUP($B39,'Stap 2 Register'!$A$8:$AK$107,35,0)","v":0},null,null,"","","","","",""]
[0,{"$f":"LARGE('Stap 2 Register'!$A$8:$A$107,'Stap 2 Register'!B45)","v":63},{"$f":"VLOOKUP($B40,'Stap 2 Register'!$A$8:$AK$107,2,0)","v":63},{"$f":"VLOOKUP($B40,'Stap 2 Register'!$A$8:$AK$107,3,0)","v":0},{"$f":"VLOOKUP($B40,'Stap 2 Register'!$A$8:$AK$107,5,0)","v":0},{"$f":"VLOOKUP($B40,'Stap 2 Register'!$A$8:$AK$107,14,0)","v":""},{"$f":"VLOOKUP($B40,'Stap 2 Register'!$A$8:$AK$107,35,0)","v":0},null,null,"","","","","",""]
[0,{"$f":"LARGE('Stap 2 Register'!$A$8:$A$107,'Stap 2 Register'!B46)","v":62},{"$f":"VLOOKUP($B41,'Stap 2 Register'!$A$8:$AK$107,2,0)","v":62},{"$f":"VLOOKUP($B41,'Stap 2 Register'!$A$8:$AK$107,3,0)","v":0},{"$f":"VLOOKUP($B41,'Stap 2 Register'!$A$8:$AK$107,5,0)","v":0},{"$f":"VLOOKUP($B41,'Stap 2 Register'!$A$8:$AK$107,14,0)","v":""},{"$f":"VLOOKUP($B41,'Stap 2 Register'!$A$8:$AK$107,35,0)","v":0},null,null,"","","","","",""]
[0,{"$f":"LARGE('Stap 2 Register'!$A$8:$A$107,'Stap 2 Register'!B47)","v":61},{"$f":"VLOOKUP($B42,'Stap 2 Register'!$A$8:$AK$107,2,0)","v":61},{"$f":"VLOOKUP($B42,'Stap 2 Register'!$A$8:$AK$107,3,0)","v":0},{"$f":"VLOOKUP($B42,'Stap 2 Register'!$A$8:$AK$107,5,0)","v":0},{"$f":"VLOOKUP($B42,'Stap 2 Register'!$A$8:$AK$107,14,0)","v":""},{"$f":"VLOOKUP($B42,'Stap 2 Register'!$A$8:$AK$107,35,0)","v":0},null,null,"","","","","",""]
[0,{"$f":"LARGE('Stap 2 Register'!$A$8:$A$107,'Stap 2 Register'!B48)","v":60},{"$f":"VLOOKUP($B43,'Stap 2 Register'!$A$8:$AK$107,2,0)","v":60},{"$f":"VLOOKUP($B43,'Stap 2 Register'!$A$8:$AK$107,3,0)","v":0},{"$f":"VLOOKUP($B43,'Stap 2 Register'!$A$8:$AK$107,5,0)","v":0},{"$f":"VLOOKUP($B43,'Stap 2 Register'!$A$8:$AK$107,14,0)","v":""},{"$f":"VLOOKUP($B43,'Stap 2 Register'!$A$8:$AK$107,35,0)","v":0},null,null,"","","","","",""]
[0,{"$f":"LARGE('Stap 2 Register'!$A$8:$A$107,'Stap 2 Register'!B49)","v":59},{"$f":"VLOOKUP($B44,'Stap 2 Register'!$A$8:$AK$107,2,0)","v":59},{"$f":"VLOOKUP($B44,'Stap 2 Register'!$A$8:$AK$107,3,0)","v":0},{"$f":"VLOOKUP($B44,'Stap 2 Register'!$A$8:$AK$107,5,0)","v":0},{"$f":"VLOOKUP($B44,'Stap 2 Register'!$A$8:$AK$107,14,0)","v":""},{"$f":"VLOOKUP($B44,'Stap 2 Register'!$A$8:$AK$107,35,0)","v":0},null,null,"","","","","",""]
[0,{"$f":"LARGE('Stap 2 Register'!$A$8:$A$107,'Stap 2 Register'!B50)","v":58},{"$f":"VLOOKUP($B45,'Stap 2 Register'!$A$8:$AK$107,2,0)","v":58},{"$f":"VLOOKUP($B45,'Stap 2 Register'!$A$8:$AK$107,3,0)","v":0},{"$f":"VLOOKUP($B45,'Stap 2 Register'!$A$8:$AK$107,5,0)","v":0},{"$f":"VLOOKUP($B45,'Stap 2 Register'!$A$8:$AK$107,14,0)","v":""},{"$f":"VLOOKUP($B45,'Stap 2 Register'!$A$8:$AK$107,35,0)","v":0},null,null,"","","","","",""]
[0,{"$f":"LARGE('Stap 2 Register'!$A$8:$A$107,'Stap 2 Register'!B51)","v":57},{"$f":"VLOOKUP($B46,'Stap 2 Register'!$A$8:$AK$107,2,0)","v":57},{"$f":"VLOOKUP($B46,'Stap 2 Register'!$A$8:$AK$107,3,0)","v":0},{"$f":"VLOOKUP($B46,'Stap 2 Register'!$A$8:$AK$107,5,0)","v":0},{"$f":"VLOOKUP($B46,'Stap 2 Register'!$A$8:$AK$107,14,0)","v":""},{"$f":"VLOOKUP($B46,'Stap 2 Register'!$A$8:$AK$107,35,0)","v":0},null,null,"","","","","",""]
[0,{"$f":"LARGE('Stap 2 Register'!$A$8:$A$107,'Stap 2 Register'!B52)","v":56},{"$f":"VLOOKUP($B47,'Stap 2 Register'!$A$8:$AK$107,2,0)","v":56},{"$f":"VLOOKUP($B47,'Stap 2 Register'!$A$8:$AK$107,3,0)","v":0},{"$f":"VLOOKUP($B47,'Stap 2 Register'!$A$8:$AK$107,5,0)","v":0},{"$f":"VLOOKUP($B47,'Stap 2 Register'!$A$8:$AK$107,14,0)","v":""},{"$f":"VLOOKUP($B47,'Stap 2 Register'!$A$8:$AK$107,35,0)","v":0},null,null,"","","","","",""]
[0,{"$f":"LARGE('Stap 2 Register'!$A$8:$A$107,'Stap 2 Register'!B53)","v":55},{"$f":"VLOOKUP($B48,'Stap 2 Register'!$A$8:$AK$107,2,0)","v":55},{"$f":"VLOOKUP($B48,'Stap 2 Register'!$A$8:$AK$107,3,0)","v":0},{"$f":"VLOOKUP($B48,'Stap 2 Register'!$A$8:$AK$107,5,0)","v":0},{"$f":"VLOOKUP($B48,'Stap 2 Register'!$A$8:$AK$107,14,0)","v":""},{"$f":"VLOOKUP($B48,'Stap 2 Register'!$A$8:$AK$107,35,0)","v":0},null,null,"","","","","",""]
[0,{"$f":"LARGE('Stap 2 Register'!$A$8:$A$107,'Stap 2 Register'!B54)","v":54},{"$f":"VLOOKUP($B49,'Stap 2 Register'!$A$8:$AK$107,2,0)","v":54},{"$f":"VLOOKUP($B49,'Stap 2 Register'!$A$8:$AK$107,3,0)","v":0},{"$f":"VLOOKUP($B49,'Stap 2 Register'!$A$8:$AK$107,5,0)","v":0},{"$f":"VLOOKUP($B49,'Stap 2 Register'!$A$8:$AK$107,14,0)","v":""},{"$f":"VLOOKUP($B49,'Stap 2 Register'!$A$8:$AK$107,35,0)","v":0},null,null,"","","","","",""]
[0,{"$f":"LARGE('Stap 2 Register'!$A$8:$A$107,'Stap 2 Register'!B55)","v":53},{"$f":"VLOOKUP($B50,'Stap 2 Register'!$A$8:$AK$107,2,0)","v":53},{"$f":"VLOOKUP($B50,'Stap 2 Register'!$A$8:$AK$107,3,0)","v":0},{"$f":"VLOOKUP($B50,'Stap 2 Register'!$A$8:$AK$107,5,0)","v":0},{"$f":"VLOOKUP($B50,'Stap 2 Register'!$A$8:$AK$107,14,0)","v":""},{"$f":"VLOOKUP($B50,'Stap 2 Register'!$A$8:$AK$107,35,0)","v":0},null,null,"","","","","",""]
[0,{"$f":"LARGE('Stap 2 Register'!$A$8:$A$107,'Stap 2 Register'!B56)","v":52},{"$f":"VLOOKUP($B51,'Stap 2 Register'!$A$8:$AK$107,2,0)","v":52},{"$f":"VLOOKUP($B51,'Stap 2 Register'!$A$8:$AK$107,3,0)","v":0},{"$f":"VLOOKUP($B51,'Stap 2 Register'!$A$8:$AK$107,5,0)","v":0},{"$f":"VLOOKUP($B51,'Stap 2 Register'!$A$8:$AK$107,14,0)","v":""},{"$f":"VLOOKUP($B51,'Stap 2 Register'!$A$8:$AK$107,35,0)","v":0},null,null,"","","","","",""]
[0,{"$f":"LARGE('Stap 2 Register'!$A$8:$A$107,'Stap 2 Register'!B57)","v":51},{"$f":"VLOOKUP($B52,'Stap 2 Register'!$A$8:$AK$107,2,0)","v":51},{"$f":"VLOOKUP($B52,'Stap 2 Register'!$A$8:$AK$107,3,0)","v":0},{"$f":"VLOOKUP($B52,'Stap 2 Register'!$A$8:$AK$107,5,0)","v":0},{"$f":"VLOOKUP($B52,'Stap 2 Register'!$A$8:$AK$107,14,0)","v":""},{"$f":"VLOOKUP($B52,'Stap 2 Register'!$A$8:$AK$107,35,0)","v":0},null,null,"","","","","",""]
[0,{"$f":"LARGE('Stap 2 Register'!$A$8:$A$107,'Stap 2 Register'!B58)","v":50},{"$f":"VLOOKUP($B53,'Stap 2 Register'!$A$8:$AK$107,2,0)","v":50},{"$f":"VLOOKUP($B53,'Stap 2 Register'!$A$8:$AK$107,3,0)","v":0},{"$f":"VLOOKUP($B53,'Stap 2 Register'!$A$8:$AK$107,5,0)","v":0},{"$f":"VLOOKUP($B53,'Stap 2 Register'!$A$8:$AK$107,14,0)","v":""},{"$f":"VLOOKUP($B53,'Stap 2 Register'!$A$8:$AK$107,35,0)","v":0},null,null,"","","","","",""]
[0,{"$f":"LARGE('Stap 2 Register'!$A$8:$A$107,'Stap 2 Register'!B59)","v":49},{"$f":"VLOOKUP($B54,'Stap 2 Register'!$A$8:$AK$107,2,0)","v":49},{"$f":"VLOOKUP($B54,'Stap 2 Register'!$A$8:$AK$107,3,0)","v":0},{"$f":"VLOOKUP($B54,'Stap 2 Register'!$A$8:$AK$107,5,0)","v":0},{"$f":"VLOOKUP($B54,'Stap 2 Register'!$A$8:$AK$107,14,0)","v":""},{"$f":"VLOOKUP($B54,'Stap 2 Register'!$A$8:$AK$107,35,0)","v":0},null,null,"","","","","",""]
[0,{"$f":"LARGE('Stap 2 Register'!$A$8:$A$107,'Stap 2 Register'!B60)","v":48},{"$f":"VLOOKUP($B55,'Stap 2 Register'!$A$8:$AK$107,2,0)","v":48},{"$f":"VLOOKUP($B55,'Stap 2 Register'!$A$8:$AK$107,3,0)","v":0},{"$f":"VLOOKUP($B55,'Stap 2 Register'!$A$8:$AK$107,5,0)","v":0},{"$f":"VLOOKUP($B55,'Stap 2 Register'!$A$8:$AK$107,14,0)","v":""},{"$f":"VLOOKUP($B55,'Stap 2 Register'!$A$8:$AK$107,35,0)","v":0},null,null,"","","","","",""]
[0,{"$f":"LARGE('Stap 2 Register'!$A$8:$A$107,'Stap 2 Register'!B61)","v":47},{"$f":"VLOOKUP($B56,'Stap 2 Register'!$A$8:$AK$107,2,0)","v":47},{"$f":"VLOOKUP($B56,'Stap 2 Register'!$A$8:$AK$107,3,0)","v":0},{"$f":"VLOOKUP($B56,'Stap 2 Register'!$A$8:$AK$107,5,0)","v":0},{"$f":"VLOOKUP($B56,'Stap 2 Register'!$A$8:$AK$107,14,0)","v":""},{"$f":"VLOOKUP($B56,'Stap 2 Register'!$A$8:$AK$107,35,0)","v":0},null,null,"","","","","",""]
[0,{"$f":"LARGE('Stap 2 Register'!$A$8:$A$107,'Stap 2 Register'!B62)","v":46},{"$f":"VLOOKUP($B57,'Stap 2 Register'!$A$8:$AK$107,2,0)","v":46},{"$f":"VLOOKUP($B57,'Stap 2 Register'!$A$8:$AK$107,3,0)","v":0},{"$f":"VLOOKUP($B57,'Stap 2 Register'!$A$8:$AK$107,5,0)","v":0},{"$f":"VLOOKUP($B57,'Stap 2 Register'!$A$8:$AK$107,14,0)","v":""},{"$f":"VLOOKUP($B57,'Stap 2 Register'!$A$8:$AK$107,35,0)","v":0},null,null,"","","","","",""]
[0,{"$f":"LARGE('Stap 2 Register'!$A$8:$A$107,'Stap 2 Register'!B63)","v":45},{"$f":"VLOOKUP($B58,'Stap 2 Register'!$A$8:$AK$107,2,0)","v":45},{"$f":"VLOOKUP($B58,'Stap 2 Register'!$A$8:$AK$107,3,0)","v":0},{"$f":"VLOOKUP($B58,'Stap 2 Register'!$A$8:$AK$107,5,0)","v":0},{"$f":"VLOOKUP($B58,'Stap 2 Register'!$A$8:$AK$107,14,0)","v":""},{"$f":"VLOOKUP($B58,'Stap 2 Register'!$A$8:$AK$107,35,0)","v":0},null,null,"","","","","",""]
[0,{"$f":"LARGE('Stap 2 Register'!$A$8:$A$107,'Stap 2 Register'!B64)","v":44},{"$f":"VLOOKUP($B59,'Stap 2 Register'!$A$8:$AK$107,2,0)","v":44},{"$f":"VLOOKUP($B59,'Stap 2 Register'!$A$8:$AK$107,3,0)","v":0},{"$f":"VLOOKUP($B59,'Stap 2 Register'!$A$8:$AK$107,5,0)","v":0},{"$f":"VLOOKUP($B59,'Stap 2 Register'!$A$8:$AK$107,14,0)","v":""},{"$f":"VLOOKUP($B59,'Stap 2 Register'!$A$8:$AK$107,35,0)","v":0},null,null,"","","","","",""]
[0,{"$f":"LARGE('Stap 2 Register'!$A$8:$A$107,'Stap 2 Register'!B65)","v":43},{"$f":"VLOOKUP($B60,'Stap 2 Register'!$A$8:$AK$107,2,0)","v":43},{"$f":"VLOOKUP($B60,'Stap 2 Register'!$A$8:$AK$107,3,0)","v":0},{"$f":"VLOOKUP($B60,'Stap 2 Register'!$A$8:$AK$107,5,0)","v":0},{"$f":"VLOOKUP($B60,'Stap 2 Register'!$A$8:$AK$107,14,0)","v":""},{"$f":"VLOOKUP($B60,'Stap 2 Register'!$A$8:$AK$107,35,0)","v":0},null,null,"","","","","",""]
[0,{"$f":"LARGE('Stap 2 Register'!$A$8:$A$107,'Stap 2 Register'!B66)","v":42},{"$f":"VLOOKUP($B61,'Stap 2 Register'!$A$8:$AK$107,2,0)","v":42},{"$f":"VLOOKUP($B61,'Stap 2 Register'!$A$8:$AK$107,3,0)","v":0},{"$f":"VLOOKUP($B61,'Stap 2 Register'!$A$8:$AK$107,5,0)","v":0},{"$f":"VLOOKUP($B61,'Stap 2 Register'!$A$8:$AK$107,14,0)","v":""},{"$f":"VLOOKUP($B61,'Stap 2 Register'!$A$8:$AK$107,35,0)","v":0},null,null,"","","","","",""]
[0,{"$f":"LARGE('Stap 2 Register'!$A$8:$A$107,'Stap 2 Register'!B67)","v":41},{"$f":"VLOOKUP($B62,'Stap 2 Register'!$A$8:$AK$107,2,0)","v":41},{"$f":"VLOOKUP($B62,'Stap 2 Register'!$A$8:$AK$107,3,0)","v":0},{"$f":"VLOOKUP($B62,'Stap 2 Register'!$A$8:$AK$107,5,0)","v":0},{"$f":"VLOOKUP($B62,'Stap 2 Register'!$A$8:$AK$107,14,0)","v":""},{"$f":"VLOOKUP($B62,'Stap 2 Register'!$A$8:$AK$107,35,0)","v":0},null,null,"","","","","",""]
[0,{"$f":"LARGE('Stap 2 Register'!$A$8:$A$107,'Stap 2 Register'!B68)","v":40},{"$f":"VLOOKUP($B63,'Stap 2 Register'!$A$8:$AK$107,2,0)","v":40},{"$f":"VLOOKUP($B63,'Stap 2 Register'!$A$8:$AK$107,3,0)","v":0},{"$f":"VLOOKUP($B63,'Stap 2 Register'!$A$8:$AK$107,5,0)","v":0},{"$f":"VLOOKUP($B63,'Stap 2 Register'!$A$8:$AK$107,14,0)","v":""},{"$f":"VLOOKUP($B63,'Stap 2 Register'!$A$8:$AK$107,35,0)","v":0},null,null,"","","","","",""]
[0,{"$f":"LARGE('Stap 2 Register'!$A$8:$A$107,'Stap 2 Register'!B69)","v":39},{"$f":"VLOOKUP($B64,'Stap 2 Register'!$A$8:$AK$107,2,0)","v":39},{"$f":"VLOOKUP($B64,'Stap 2 Register'!$A$8:$AK$107,3,0)","v":0},{"$f":"VLOOKUP($B64,'Stap 2 Register'!$A$8:$AK$107,5,0)","v":0},{"$f":"VLOOKUP($B64,'Stap 2 Register'!$A$8:$AK$107,14,0)","v":""},{"$f":"VLOOKUP($B64,'Stap 2 Register'!$A$8:$AK$107,35,0)","v":0},null,null,"","","","","",""]
[0,{"$f":"LARGE('Stap 2 Register'!$A$8:$A$107,'Stap 2 Register'!B70)","v":38},{"$f":"VLOOKUP($B65,'Stap 2 Register'!$A$8:$AK$107,2,0)","v":38},{"$f":"VLOOKUP($B65,'Stap 2 Register'!$A$8:$AK$107,3,0)","v":0},{"$f":"VLOOKUP($B65,'Stap 2 Register'!$A$8:$AK$107,5,0)","v":0},{"$f":"VLOOKUP($B65,'Stap 2 Register'!$A$8:$AK$107,14,0)","v":""},{"$f":"VLOOKUP($B65,'Stap 2 Register'!$A$8:$AK$107,35,0)","v":0},null,null,"","","","","",""]
[0,{"$f":"LARGE('Stap 2 Register'!$A$8:$A$107,'Stap 2 Register'!B71)","v":37},{"$f":"VLOOKUP($B66,'Stap 2 Register'!$A$8:$AK$107,2,0)","v":37},{"$f":"VLOOKUP($B66,'Stap 2 Register'!$A$8:$AK$107,3,0)","v":0},{"$f":"VLOOKUP($B66,'Stap 2 Register'!$A$8:$AK$107,5,0)","v":0},{"$f":"VLOOKUP($B66,'Stap 2 Register'!$A$8:$AK$107,14,0)","v":""},{"$f":"VLOOKUP($B66,'Stap 2 Register'!$A$8:$AK$107,35,0)","v":0},null,null,"","","","","",""]
[0,{"$f":"LARGE('Stap 2 Register'!$A$8:$A$107,'Stap 2 Register'!B72)","v":36},{"$f":"VLOOKUP($B67,'Stap 2 Register'!$A$8:$AK$107,2,0)","v":36},{"$f":"VLOOKUP($B67,'Stap 2 Register'!$A$8:$AK$107,3,0)","v":0},{"$f":"VLOOKUP($B67,'Stap 2 Register'!$A$8:$AK$107,5,0)","v":0},{"$f":"VLOOKUP($B67,'Stap 2 Register'!$A$8:$AK$107,14,0)","v":""},{"$f":"VLOOKUP($B67,'Stap 2 Register'!$A$8:$AK$107,35,0)","v":0},null,null,{"$f":"IF($F67=$J$2,_xlfn.TEXTJOIN($K$1,,$C67:$D67),\"\")","v":""},{"$f":"IF($F67=$K$2,_xlfn.TEXTJOIN($K$1,,$C67:$D67),\"\")","v":""},{"$f":"IF($F67=$L$2,_xlfn.TEXTJOIN($K$1,,$C67:$D67),\"\")","v":""},{"$f":"IF($F67=$M$2,_xlfn.TEXTJOIN($K$1,,$C67:$D67),\"\")","v":""},{"$f":"IF($F67=$N$2,_xlfn.TEXTJOIN($K$1,,$C67:$D67),\"\")","v":""},{"$f":"IF($F67=$O$2,_xlfn.TEXTJOIN($K$1,,$C67:$D67),\"\")","v":""}]
[{"$f":"IF(G68=1,B68,0)","v":0},{"$f":"LARGE('Stap 2 Register'!$A$8:$A$107,'Stap 2 Register'!B73)","v":35},{"$f":"VLOOKUP($B68,'Stap 2 Register'!$A$8:$AK$107,2,0)","v":35},{"$f":"VLOOKUP($B68,'Stap 2 Register'!$A$8:$AK$107,3,0)","v":0},{"$f":"VLOOKUP($B68,'Stap 2 Register'!$A$8:$AK$107,5,0)","v":0},{"$f":"VLOOKUP($B68,'Stap 2 Register'!$A$8:$AK$107,14,0)","v":""},{"$f":"VLOOKUP($B68,'Stap 2 Register'!$A$8:$AK$107,35,0)","v":0},null,null,"","","","","",""]
[0,{"$f":"LARGE('Stap 2 Register'!$A$8:$A$107,'Stap 2 Register'!B74)","v":34},{"$f":"VLOOKUP($B69,'Stap 2 Register'!$A$8:$AK$107,2,0)","v":34},{"$f":"VLOOKUP($B69,'Stap 2 Register'!$A$8:$AK$107,3,0)","v":0},{"$f":"VLOOKUP($B69,'Stap 2 Register'!$A$8:$AK$107,5,0)","v":0},{"$f":"VLOOKUP($B69,'Stap 2 Register'!$A$8:$AK$107,14,0)","v":""},{"$f":"VLOOKUP($B69,'Stap 2 Register'!$A$8:$AK$107,35,0)","v":0},null,null,"","","","","",""]
[0,{"$f":"LARGE('Stap 2 Register'!$A$8:$A$107,'Stap 2 Register'!B75)","v":33},{"$f":"VLOOKUP($B70,'Stap 2 Register'!$A$8:$AK$107,2,0)","v":33},{"$f":"VLOOKUP($B70,'Stap 2 Register'!$A$8:$AK$107,3,0)","v":0},{"$f":"VLOOKUP($B70,'Stap 2 Register'!$A$8:$AK$107,5,0)","v":0},{"$f":"VLOOKUP($B70,'Stap 2 Register'!$A$8:$AK$107,14,0)","v":""},{"$f":"VLOOKUP($B70,'Stap 2 Register'!$A$8:$AK$107,35,0)","v":0},null,null,"","","","","",""]
[0,{"$f":"LARGE('Stap 2 Register'!$A$8:$A$107,'Stap 2 Register'!B76)","v":32},{"$f":"VLOOKUP($B71,'Stap 2 Register'!$A$8:$AK$107,2,0)","v":32},{"$f":"VLOOKUP($B71,'Stap 2 Register'!$A$8:$AK$107,3,0)","v":0},{"$f":"VLOOKUP($B71,'Stap 2 Register'!$A$8:$AK$107,5,0)","v":0},{"$f":"VLOOKUP($B71,'Stap 2 Register'!$A$8:$AK$107,14,0)","v":""},{"$f":"VLOOKUP($B71,'Stap 2 Register'!$A$8:$AK$107,35,0)","v":0},null,null,"","","","","",""]
[0,{"$f":"LARGE('Stap 2 Register'!$A$8:$A$107,'Stap 2 Register'!B77)","v":31},{"$f":"VLOOKUP($B72,'Stap 2 Register'!$A$8:$AK$107,2,0)","v":31},{"$f":"VLOOKUP($B72,'Stap 2 Register'!$A$8:$AK$107,3,0)","v":0},{"$f":"VLOOKUP($B72,'Stap 2 Register'!$A$8:$AK$107,5,0)","v":0},{"$f":"VLOOKUP($B72,'Stap 2 Register'!$A$8:$AK$107,14,0)","v":""},{"$f":"VLOOKUP($B72,'Stap 2 Register'!$A$8:$AK$107,35,0)","v":0},null,null,"","","","","",""]
[0,{"$f":"LARGE('Stap 2 Register'!$A$8:$A$107,'Stap 2 Register'!B78)","v":30},{"$f":"VLOOKUP($B73,'Stap 2 Register'!$A$8:$AK$107,2,0)","v":30},{"$f":"VLOOKUP($B73,'Stap 2 Register'!$A$8:$AK$107,3,0)","v":0},{"$f":"VLOOKUP($B73,'Stap 2 Register'!$A$8:$AK$107,5,0)","v":0},{"$f":"VLOOKUP($B73,'Stap 2 Register'!$A$8:$AK$107,14,0)","v":""},{"$f":"VLOOKUP($B73,'Stap 2 Register'!$A$8:$AK$107,35,0)","v":0},null,null,"","","","","",""]
[0,{"$f":"LARGE('Stap 2 Register'!$A$8:$A$107,'Stap 2 Register'!B79)","v":29},{"$f":"VLOOKUP($B74,'Stap 2 Register'!$A$8:$AK$107,2,0)","v":29},{"$f":"VLOOKUP($B74,'Stap 2 Register'!$A$8:$AK$107,3,0)","v":0},{"$f":"VLOOKUP($B74,'Stap 2 Register'!$A$8:$AK$107,5,0)","v":0},{"$f":"VLOOKUP($B74,'Stap 2 Register'!$A$8:$AK$107,14,0)","v":""},{"$f":"VLOOKUP($B74,'Stap 2 Register'!$A$8:$AK$107,35,0)","v":0},null,null,"","","","","",""]
[0,{"$f":"LARGE('Stap 2 Register'!$A$8:$A$107,'Stap 2 Register'!B80)","v":28},{"$f":"VLOOKUP($B75,'Stap 2 Register'!$A$8:$AK$107,2,0)","v":28},{"$f":"VLOOKUP($B75,'Stap 2 Register'!$A$8:$AK$107,3,0)","v":0},{"$f":"VLOOKUP($B75,'Stap 2 Register'!$A$8:$AK$107,5,0)","v":0},{"$f":"VLOOKUP($B75,'Stap 2 Register'!$A$8:$AK$107,14,0)","v":""},{"$f":"VLOOKUP($B75,'Stap 2 Register'!$A$8:$AK$107,35,0)","v":0},null,null,"","","","","",""]
[0,{"$f":"LARGE('Stap 2 Register'!$A$8:$A$107,'Stap 2 Register'!B81)","v":27},{"$f":"VLOOKUP($B76,'Stap 2 Register'!$A$8:$AK$107,2,0)","v":27},{"$f":"VLOOKUP($B76,'Stap 2 Register'!$A$8:$AK$107,3,0)","v":0},{"$f":"VLOOKUP($B76,'Stap 2 Register'!$A$8:$AK$107,5,0)","v":0},{"$f":"VLOOKUP($B76,'Stap 2 Register'!$A$8:$AK$107,14,0)","v":""},{"$f":"VLOOKUP($B76,'Stap 2 Register'!$A$8:$AK$107,35,0)","v":0},null,null,"","","","","",""]
[0,{"$f":"LARGE('Stap 2 Register'!$A$8:$A$107,'Stap 2 Register'!B82)","v":26},{"$f":"VLOOKUP($B77,'Stap 2 Register'!$A$8:$AK$107,2,0)","v":26},{"$f":"VLOOKUP($B77,'Stap 2 Register'!$A$8:$AK$107,3,0)","v":0},{"$f":"VLOOKUP($B77,'Stap 2 Register'!$A$8:$AK$107,5,0)","v":0},{"$f":"VLOOKUP($B77,'Stap 2 Register'!$A$8:$AK$107,14,0)","v":""},{"$f":"VLOOKUP($B77,'Stap 2 Register'!$A$8:$AK$107,35,0)","v":0},null,null,"","","","","",""]
[0,{"$f":"LARGE('Stap 2 Register'!$A$8:$A$107,'Stap 2 Register'!B83)","v":25},{"$f":"VLOOKUP($B78,'Stap 2 Register'!$A$8:$AK$107,2,0)","v":25},{"$f":"VLOOKUP($B78,'Stap 2 Register'!$A$8:$AK$107,3,0)","v":0},{"$f":"VLOOKUP($B78,'Stap 2 Register'!$A$8:$AK$107,5,0)","v":0},{"$f":"VLOOKUP($B78,'Stap 2 Register'!$A$8:$AK$107,14,0)","v":""},{"$f":"VLOOKUP($B78,'Stap 2 Register'!$A$8:$AK$107,35,0)","v":0},null,null,"","","","","",""]
[0,{"$f":"LARGE('Stap 2 Register'!$A$8:$A$107,'Stap 2 Register'!B84)","v":24},{"$f":"VLOOKUP($B79,'Stap 2 Register'!$A$8:$AK$107,2,0)","v":24},{"$f":"VLOOKUP($B79,'Stap 2 Register'!$A$8:$AK$107,3,0)","v":0},{"$f":"VLOOKUP($B79,'Stap 2 Register'!$A$8:$AK$107,5,0)","v":0},{"$f":"VLOOKUP($B79,'Stap 2 Register'!$A$8:$AK$107,14,0)","v":""},{"$f":"VLOOKUP($B79,'Stap 2 Register'!$A$8:$AK$107,35,0)","v":0},null,null,"","","","","",""]
[0,{"$f":"LARGE('Stap 2 Register'!$A$8:$A$107,'Stap 2 Register'!B85)","v":23},{"$f":"VLOOKUP($B80,'Stap 2 Register'!$A$8:$AK$107,2,0)","v":23},{"$f":"VLOOKUP($B80,'Stap 2 Register'!$A$8:$AK$107,3,0)","v":0},{"$f":"VLOOKUP($B80,'Stap 2 Register'!$A$8:$AK$107,5,0)","v":0},{"$f":"VLOOKUP($B80,'Stap 2 Register'!$A$8:$AK$107,14,0)","v":""},{"$f":"VLOOKUP($B80,'Stap 2 Register'!$A$8:$AK$107,35,0)","v":0},null,null,"","","","","",""]
[0,{"$f":"LARGE('Stap 2 Register'!$A$8:$A$107,'Stap 2 Register'!B86)","v":22},{"$f":"VLOOKUP($B81,'Stap 2 Register'!$A$8:$AK$107,2,0)","v":22},{"$f":"VLOOKUP($B81,'Stap 2 Register'!$A$8:$AK$107,3,0)","v":0},{"$f":"VLOOKUP($B81,'Stap 2 Register'!$A$8:$AK$107,5,0)","v":0},{"$f":"VLOOKUP($B81,'Stap 2 Register'!$A$8:$AK$107,14,0)","v":""},{"$f":"VLOOKUP($B81,'Stap 2 Register'!$A$8:$AK$107,35,0)","v":0},null,null,"","","","","",""]
[0,{"$f":"LARGE('Stap 2 Register'!$A$8:$A$107,'Stap 2 Register'!B87)","v":21},{"$f":"VLOOKUP($B82,'Stap 2 Register'!$A$8:$AK$107,2,0)","v":21},{"$f":"VLOOKUP($B82,'Stap 2 Register'!$A$8:$AK$107,3,0)","v":0},{"$f":"VLOOKUP($B82,'Stap 2 Register'!$A$8:$AK$107,5,0)","v":0},{"$f":"VLOOKUP($B82,'Stap 2 Register'!$A$8:$AK$107,14,0)","v":""},{"$f":"VLOOKUP($B82,'Stap 2 Register'!$A$8:$AK$107,35,0)","v":0},null,null,"","","","","",""]
[0,{"$f":"LARGE('Stap 2 Register'!$A$8:$A$107,'Stap 2 Register'!B88)","v":20},{"$f":"VLOOKUP($B83,'Stap 2 Register'!$A$8:$AK$107,2,0)","v":20},{"$f":"VLOOKUP($B83,'Stap 2 Register'!$A$8:$AK$107,3,0)","v":0},{"$f":"VLOOKUP($B83,'Stap 2 Register'!$A$8:$AK$107,5,0)","v":0},{"$f":"VLOOKUP($B83,'Stap 2 Register'!$A$8:$AK$107,14,0)","v":""},{"$f":"VLOOKUP($B83,'Stap 2 Register'!$A$8:$AK$107,35,0)","v":0},null,null,"","","","","",""]
[0,{"$f":"LARGE('Stap 2 Register'!$A$8:$A$107,'Stap 2 Register'!B89)","v":19},{"$f":"VLOOKUP($B84,'Stap 2 Register'!$A$8:$AK$107,2,0)","v":19},{"$f":"VLOOKUP($B84,'Stap 2 Register'!$A$8:$AK$107,3,0)","v":0},{"$f":"VLOOKUP($B84,'Stap 2 Register'!$A$8:$AK$107,5,0)","v":0},{"$f":"VLOOKUP($B84,'Stap 2 Register'!$A$8:$AK$107,14,0)","v":""},{"$f":"VLOOKUP($B84,'Stap 2 Register'!$A$8:$AK$107,35,0)","v":0},null,null,"","","","","",""]
[0,{"$f":"LARGE('Stap 2 Register'!$A$8:$A$107,'Stap 2 Register'!B90)","v":18},{"$f":"VLOOKUP($B85,'Stap 2 Register'!$A$8:$AK$107,2,0)","v":18},{"$f":"VLOOKUP($B85,'Stap 2 Register'!$A$8:$AK$107,3,0)","v":0},{"$f":"VLOOKUP($B85,'Stap 2 Register'!$A$8:$AK$107,5,0)","v":0},{"$f":"VLOOKUP($B85,'Stap 2 Register'!$A$8:$AK$107,14,0)","v":""},{"$f":"VLOOKUP($B85,'Stap 2 Register'!$A$8:$AK$107,35,0)","v":0},null,null,"","","","","",""]
[0,{"$f":"LARGE('Stap 2 Register'!$A$8:$A$107,'Stap 2 Register'!B91)","v":17},{"$f":"VLOOKUP($B86,'Stap 2 Register'!$A$8:$AK$107,2,0)","v":17},{"$f":"VLOOKUP($B86,'Stap 2 Register'!$A$8:$AK$107,3,0)","v":0},{"$f":"VLOOKUP($B86,'Stap 2 Register'!$A$8:$AK$107,5,0)","v":0},{"$f":"VLOOKUP($B86,'Stap 2 Register'!$A$8:$AK$107,14,0)","v":""},{"$f":"VLOOKUP($B86,'Stap 2 Register'!$A$8:$AK$107,35,0)","v":0},null,null,"","","","","",""]
[0,{"$f":"LARGE('Stap 2 Register'!$A$8:$A$107,'Stap 2 Register'!B92)","v":16},{"$f":"VLOOKUP($B87,'Stap 2 Register'!$A$8:$AK$107,2,0)","v":16},{"$f":"VLOOKUP($B87,'Stap 2 Register'!$A$8:$AK$107,3,0)","v":0},{"$f":"VLOOKUP($B87,'Stap 2 Register'!$A$8:$AK$107,5,0)","v":0},{"$f":"VLOOKUP($B87,'Stap 2 Register'!$A$8:$AK$107,14,0)","v":""},{"$f":"VLOOKUP($B87,'Stap 2 Register'!$A$8:$AK$107,35,0)","v":0},null,null,"","","","","",""]
[0,{"$f":"LARGE('Stap 2 Register'!$A$8:$A$107,'Stap 2 Register'!B93)","v":15},{"$f":"VLOOKUP($B88,'Stap 2 Register'!$A$8:$AK$107,2,0)","v":15},{"$f":"VLOOKUP($B88,'Stap 2 Register'!$A$8:$AK$107,3,0)","v":0},{"$f":"VLOOKUP($B88,'Stap 2 Register'!$A$8:$AK$107,5,0)","v":0},{"$f":"VLOOKUP($B88,'Stap 2 Register'!$A$8:$AK$107,14,0)","v":""},{"$f":"VLOOKUP($B88,'Stap 2 Register'!$A$8:$AK$107,35,0)","v":0},null,null,"","","","","",""]
[0,{"$f":"LARGE('Stap 2 Register'!$A$8:$A$107,'Stap 2 Register'!B94)","v":14},{"$f":"VLOOKUP($B89,'Stap 2 Register'!$A$8:$AK$107,2,0)","v":14},{"$f":"VLOOKUP($B89,'Stap 2 Register'!$A$8:$AK$107,3,0)","v":0},{"$f":"VLOOKUP($B89,'Stap 2 Register'!$A$8:$AK$107,5,0)","v":0},{"$f":"VLOOKUP($B89,'Stap 2 Register'!$A$8:$AK$107,14,0)","v":""},{"$f":"VLOOKUP($B89,'Stap 2 Register'!$A$8:$AK$107,35,0)","v":0},null,null,"","","","","",""]
[0,{"$f":"LARGE('Stap 2 Register'!$A$8:$A$107,'Stap 2 Register'!B95)","v":13},{"$f":"VLOOKUP($B90,'Stap 2 Register'!$A$8:$AK$107,2,0)","v":13},{"$f":"VLOOKUP($B90,'Stap 2 Register'!$A$8:$AK$107,3,0)","v":0},{"$f":"VLOOKUP($B90,'Stap 2 Register'!$A$8:$AK$107,5,0)","v":0},{"$f":"VLOOKUP($B90,'Stap 2 Register'!$A$8:$AK$107,14,0)","v":""},{"$f":"VLOOKUP($B90,'Stap 2 Register'!$A$8:$AK$107,35,0)","v":0},null,null,"","","","","",""]
[0,{"$f":"LARGE('Stap 2 Register'!$A$8:$A$107,'Stap 2 Register'!B96)","v":12},{"$f":"VLOOKUP($B91,'Stap 2 Register'!$A$8:$AK$107,2,0)","v":12},{"$f":"VLOOKUP($B91,'Stap 2 Register'!$A$8:$AK$107,3,0)","v":0},{"$f":"VLOOKUP($B91,'Stap 2 Register'!$A$8:$AK$107,5,0)","v":0},{"$f":"VLOOKUP($B91,'Stap 2 Register'!$A$8:$AK$107,14,0)","v":""},{"$f":"VLOOKUP($B91,'Stap 2 Register'!$A$8:$AK$107,35,0)","v":0},null,null,"","","","","",""]
[0,{"$f":"LARGE('Stap 2 Register'!$A$8:$A$107,'Stap 2 Register'!B97)","v":11},{"$f":"VLOOKUP($B92,'Stap 2 Register'!$A$8:$AK$107,2,0)","v":11},{"$f":"VLOOKUP($B92,'Stap 2 Register'!$A$8:$AK$107,3,0)","v":0},{"$f":"VLOOKUP($B92,'Stap 2 Register'!$A$8:$AK$107,5,0)","v":0},{"$f":"VLOOKUP($B92,'Stap 2 Register'!$A$8:$AK$107,14,0)","v":""},{"$f":"VLOOKUP($B92,'Stap 2 Register'!$A$8:$AK$107,35,0)","v":0},null,null,"","","","","",""]
[0,{"$f":"LARGE('Stap 2 Register'!$A$8:$A$107,'Stap 2 Register'!B98)","v":10},{"$f":"VLOOKUP($B93,'Stap 2 Register'!$A$8:$AK$107,2,0)","v":10},{"$f":"VLOOKUP($B93,'Stap 2 Register'!$A$8:$AK$107,3,0)","v":0},{"$f":"VLOOKUP($B93,'Stap 2 Register'!$A$8:$AK$107,5,0)","v":0},{"$f":"VLOOKUP($B93,'Stap 2 Register'!$A$8:$AK$107,14,0)","v":""},{"$f":"VLOOKUP($B93,'Stap 2 Register'!$A$8:$AK$107,35,0)","v":0},null,null,"","","","","",""]
[0,{"$f":"LARGE('Stap 2 Register'!$A$8:$A$107,'Stap 2 Register'!B99)","v":9},{"$f":"VLOOKUP($B94,'Stap 2 Register'!$A$8:$AK$107,2,0)","v":9},{"$f":"VLOOKUP($B94,'Stap 2 Register'!$A$8:$AK$107,3,0)","v":0},{"$f":"VLOOKUP($B94,'Stap 2 Register'!$A$8:$AK$107,5,0)","v":0},{"$f":"VLOOKUP($B94,'Stap 2 Register'!$A$8:$AK$107,14,0)","v":""},{"$f":"VLOOKUP($B94,'Stap 2 Register'!$A$8:$AK$107,35,0)","v":0},null,null,"","","","","",""]
[0,{"$f":"LARGE('Stap 2 Register'!$A$8:$A$107,'Stap 2 Register'!B100)","v":8},{"$f":"VLOOKUP($B95,'Stap 2 Register'!$A$8:$AK$107,2,0)","v":8},{"$f":"VLOOKUP($B95,'Stap 2 Register'!$A$8:$AK$107,3,0)","v":0},{"$f":"VLOOKUP($B95,'Stap 2 Register'!$A$8:$AK$107,5,0)","v":0},{"$f":"VLOOKUP($B95,'Stap 2 Register'!$A$8:$AK$107,14,0)","v":""},{"$f":"VLOOKUP($B95,'Stap 2 Register'!$A$8:$AK$107,35,0)","v":0},null,null,"","","","","",""]
[0,{"$f":"LARGE('Stap 2 Register'!$A$8:$A$107,'Stap 2 Register'!B101)","v":7},{"$f":"VLOOKUP($B96,'Stap 2 Register'!$A$8:$AK$107,2,0)","v":7},{"$f":"VLOOKUP($B96,'Stap 2 Register'!$A$8:$AK$107,3,0)","v":0},{"$f":"VLOOKUP($B96,'Stap 2 Register'!$A$8:$AK$107,5,0)","v":0},{"$f":"VLOOKUP($B96,'Stap 2 Register'!$A$8:$AK$107,14,0)","v":""},{"$f":"VLOOKUP($B96,'Stap 2 Register'!$A$8:$AK$107,35,0)","v":0},null,null,"","","","","",""]
[0,{"$f":"LARGE('Stap 2 Register'!$A$8:$A$107,'Stap 2 Register'!B102)","v":6},{"$f":"VLOOKUP($B97,'Stap 2 Register'!$A$8:$AK$107,2,0)","v":6},{"$f":"VLOOKUP($B97,'Stap 2 Register'!$A$8:$AK$107,3,0)","v":0},{"$f":"VLOOKUP($B97,'Stap 2 Register'!$A$8:$AK$107,5,0)","v":0},{"$f":"VLOOKUP($B97,'Stap 2 Register'!$A$8:$AK$107,14,0)","v":""},{"$f":"VLOOKUP($B97,'Stap 2 Register'!$A$8:$AK$107,35,0)","v":0},null,null,"","","","","",""]
[0,{"$f":"LARGE('Stap 2 Register'!$A$8:$A$107,'Stap 2 Register'!B103)","v":5},{"$f":"VLOOKUP($B98,'Stap 2 Register'!$A$8:$AK$107,2,0)","v":5},{"$f":"VLOOKUP($B98,'Stap 2 Register'!$A$8:$AK$107,3,0)","v":0},{"$f":"VLOOKUP($B98,'Stap 2 Register'!$A$8:$AK$107,5,0)","v":0},{"$f":"VLOOKUP($B98,'Stap 2 Register'!$A$8:$AK$107,14,0)","v":""},{"$f":"VLOOKUP($B98,'Stap 2 Register'!$A$8:$AK$107,35,0)","v":0},null,null,"","","","","",""]
[0,{"$f":"LARGE('Stap 2 Register'!$A$8:$A$107,'Stap 2 Register'!B104)","v":4},{"$f":"VLOOKUP($B99,'Stap 2 Register'!$A$8:$AK$107,2,0)","v":4},{"$f":"VLOOKUP($B99,'Stap 2 Register'!$A$8:$AK$107,3,0)","v":0},{"$f":"VLOOKUP($B99,'Stap 2 Register'!$A$8:$AK$107,5,0)","v":0},{"$f":"VLOOKUP($B99,'Stap 2 Register'!$A$8:$AK$107,14,0)","v":""},{"$f":"VLOOKUP($B99,'Stap 2 Register'!$A$8:$AK$107,35,0)","v":0},null,null,{"$f":"IF($F99=$J$2,_xlfn.TEXTJOIN($K$1,,$C99:$D99),\"\")","v":""},{"$f":"IF($F99=$K$2,_xlfn.TEXTJOIN($K$1,,$C99:$D99),\"\")","v":""},{"$f":"IF($F99=$L$2,_xlfn.TEXTJOIN($K$1,,$C99:$D99),\"\")","v":""},{"$f":"IF($F99=$M$2,_xlfn.TEXTJOIN($K$1,,$C99:$D99),\"\")","v":""},{"$f":"IF($F99=$N$2,_xlfn.TEXTJOIN($K$1,,$C99:$D99),\"\")","v":""},{"$f":"IF($F99=$O$2,_xlfn.TEXTJOIN($K$1,,$C99:$D99),\"\")","v":""}]
[0,{"$f":"LARGE('Stap 2 Register'!$A$8:$A$107,'Stap 2 Register'!B105)","v":3},{"$f":"VLOOKUP($B100,'Stap 2 Register'!$A$8:$AK$107,2,0)","v":3},{"$f":"VLOOKUP($B100,'Stap 2 Register'!$A$8:$AK$107,3,0)","v":0},{"$f":"VLOOKUP($B100,'Stap 2 Register'!$A$8:$AK$107,5,0)","v":0},{"$f":"VLOOKUP($B100,'Stap 2 Register'!$A$8:$AK$107,14,0)","v":""},{"$f":"VLOOKUP($B100,'Stap 2 Register'!$A$8:$AK$107,35,0)","v":0},null,null,"","","","","",""]
[0,{"$f":"LARGE('Stap 2 Register'!$A$8:$A$107,'Stap 2 Register'!B106)","v":2},{"$f":"VLOOKUP($B101,'Stap 2 Register'!$A$8:$AK$107,2,0)","v":2},{"$f":"VLOOKUP($B101,'Stap 2 Register'!$A$8:$AK$107,3,0)","v":0},{"$f":"VLOOKUP($B101,'Stap 2 Register'!$A$8:$AK$107,5,0)","v":0},{"$f":"VLOOKUP($B101,'Stap 2 Register'!$A$8:$AK$107,14,0)","v":""},{"$f":"VLOOKUP($B101,'Stap 2 Register'!$A$8:$AK$107,35,0)","v":0},null,null,"","","","","",""]
[0,{"$f":"LARGE('Stap 2 Register'!$A$8:$A$107,'Stap 2 Register'!B107)","v":1},{"$f":"VLOOKUP($B102,'Stap 2 Register'!$A$8:$AK$107,2,0)","v":1},{"$f":"VLOOKUP($B102,'Stap 2 Register'!$A$8:$AK$107,3,0)","v":0},{"$f":"VLOOKUP($B102,'Stap 2 Register'!$A$8:$AK$107,5,0)","v":0},{"$f":"VLOOKUP($B102,'Stap 2 Register'!$A$8:$AK$107,14,0)","v":""},{"$f":"VLOOKUP($B102,'Stap 2 Register'!$A$8:$AK$107,35,0)","v":0},null,null,"","","","","",""]
[null,null,null,null,null,null,null,null,null,"","","","","",""]
[null,null,null,null,null,null,null,null,null,"","","","","",""]
[null,null,null,null,null,null,null,null,null,"","","","","",""]
[null,null,null,null,null,null,null,null,null,"","","","","",""]

{"sheet":"Dashboard","index":7,"n_rows":94,"n_cols":16,"rows_kept":94,"cut":false,"hidden":false,"merged":[[34,1,35,2],[32,10,32,12],[31,10,31,12],[10,1,11,1],[10,2,11,2],[34,4,35,4],[34,6,35,6],[34,8,35,8],[34,10,35,10],[34,12,35,12],[9,12,26,12],[9,4,26,4],[9,6,26,6],[9,8,26,8],[9,10,26,10],[34,14,35,14],[9,14,26,14]]}
[]
[]
[null,null,"Dashboard"]
[]
[]
[null,null,null,null,null,null," \n"]
[null,null,null,null,"Ontoelaatbaar",null,"Zeer Hoog",null,"Hoog",null,"Middelmatig",null,"Laag",null,"Verwaarloosbaar"]
[null,null,null,null,"O",null,"ZH",null,"H",null,"M",null,"L",null,"V"]
[]
[null,null,null,null,{"$f":"IF(C13=0,_xlfn.TEXTJOIN($G$6,,'1e berekening'!J3:J102),_xlfn.TEXTJOIN($G$6,,'Stap 3 Maatregelen'!AO8:AO107,'Overgebleven risico'!K8:K107))","v":""},null,{"$f":"IF(C13=0,_xlfn.TEXTJOIN($G$6,,'1e berekening'!K3:K102),_xlfn.TEXTJOIN($G$6,,'Stap 3 Maatregelen'!AP8:AP107,'Overgebleven risico'!L8:L107))","v":""},null,{"$f":"IF(C13=0,_xlfn.TEXTJOIN($G$6,,'1e berekening'!L3:L102),_xlfn.TEXTJOIN($G$6,,'Stap 3 Maatregelen'!AQ8:AQ107,'Overgebleven risico'!M8:M107))","v":""},null,{"$f":"IF(C13=0,_xlfn.TEXTJOIN($G$6,,'1e berekening'!M3:M102),_xlfn.TEXTJOIN($G$6,,'Stap 3 Maatregelen'!AR8:AR107,'Overgebleven risico'!N8:N107))","v":""},null,{"$f":"IF(C13=0,_xlfn.TEXTJOIN($G$6,,'1e berekening'!N3:N102),_xlfn.TEXTJOIN($G$6,,'Stap 3 Maatregelen'!AS8:AS107,'Overgebleven risico'!O8:O107))","v":""},null,{"$f":"IF(C13=0,_xlfn.TEXTJOIN($G$6,,'1e berekening'!O3:O102),_xlfn.TEXTJOIN($G$6,,'Stap 3 Maatregelen'!AT8:AT107,'Overgebleven risico'!P8:P107))","v":""}]
[null,"Voor maatregelen","Na maatregelen"]
[]
[null,null,0]
[]
[]
[]
[]
[]
[]
[]
[]
[]
[]
[]
[]
[]
[]
[]
[null,null,"Aantal risico's",null,{"$f":"IF(C13=0,'Stap 2 Register'!AM109,'Stap 3 Maatregelen'!AO109+'Overgebleven risico'!K109)","v":0},null,{"$f":"IF(C13=0,'Stap 2 Register'!AN109,'Stap 3 Maatregelen'!AP109+'Overgebleven risico'!L109)","v":0},null,{"$f":"IF(C13=0,'Stap 2 Register'!AO109,'Stap 3 Maatregelen'!AQ109+'Overgebleven risico'!M109)","v":0},null,{"$f":"IF(C13=0,'Stap 2 Register'!AP109,'Stap 3 Maatregelen'!AR109+'Overgebleven risico'!N109)","v":0},null,{"$f":"IF(C13=0,'Stap 2 Register'!AQ109,'Stap 3 Maatregelen'!AS109+'Overgebleven risico'!O109)","v":0},null,{"$f":"IF(C13=0,'Stap 2 Register'!AR109,'Stap 3 Maatregelen'!AT109+'Overgebleven risico'!P109)","v":0}]
[null,null,"Monetair Equivalent",null,{"$f":"IF(C13=0,'Stap 2 Register'!AS8,'Stap 3 Maatregelen'!AU8+'Overgebleven risico'!Q8)","v":0},null,{"$f":"IF(C13=0,'Stap 2 Register'!AT8,'Stap 3 Maatregelen'!AV8+'Overgebleven risico'!R8)","v":0},null,{"$f":"IF(C13=0,'Stap 2 Register'!AU8,'Stap 3 Maatregelen'!AW8+'Overgebleven risico'!S8)","v":0},null,{"$f":"IF(C13=0,'Stap 2 Register'!AV8,'Stap 3 Maatregelen'!AX8+'Overgebleven risico'!T8)","v":0},null,{"$f":"IF(C13=0,'Stap 2 Register'!AW8,'Stap 3 Maatregelen'!AY8+'Overgebleven risico'!U8)","v":0},null,{"$f":"IF(C13=0,'Stap 2 Register'!AX8,'Stap 3 Maatregelen'!AZ8+'Overgebleven risico'!V8)","v":0}]
[]
[null,null,null,null,"Totaal",null,"Met maatregel",null,"Accepteren",null,"Totaal Monetair equivalent ",null,null,null,"Totaal aan kosten"]
[null,null,"Aantal risico's",null,{"$f":"SUM(E29:O29)","v":0},null,{"$f":"'Stap 2 Register'!AI109","v":0},null,{"$f":"E33-G33","v":0},null,{"$f":"SUM(E30:O30)","v":0},null,null,null,{"$f":"IF(C13=1,SUM('Stap 3 Maatregelen'!G8:G107),0)","v":0}]
[]
[null,"Bedrijfswaarden",null,null,{"$f":"'Stap 2 Register'!H7","v":"Financieel"},null,{"$f":"'Stap 2 Register'!I7","v":"Doelmatig"},null,{"$f":"'Stap 2 Register'!J7","v":"Kwantiteit/Veilig"},null,{"$f":"'Stap 2 Register'!K7","v":"Kwal leefomgeving"},null,{"$f":"'Stap 2 Register'!L7","v":"Imago"},null,{"$f":"'Stap 2 Register'!M7","v":"Circulair"}]
[]
[null,null,"Monetair Equivalent",null,{"$f":"IF(C13=0,'Stap 2 Register'!W109,'Stap 3 Maatregelen'!AA109+'Overgebleven risico'!E109)","v":0},null,{"$f":"IF(C13=0,'Stap 2 Register'!X109,'Stap 3 Maatregelen'!AB109+'Overgebleven risico'!F109)","v":0},null,{"$f":"IF(C13=0,'Stap 2 Register'!Y109,'Stap 3 Maatregelen'!AC109+'Overgebleven risico'!G109)","v":0},null,{"$f":"IF(C13=0,'Stap 2 Register'!Z109,'Stap 3 Maatregelen'!AD109+'Overgebleven risico'!H109)","v":0},null,{"$f":"IF(C13=0,'Stap 2 Register'!AA109,'Stap 3 Maatregelen'!AE109+'Overgebleven risico'!I109)","v":0},null,{"$f":"IF(C13=0,'Stap 2 Register'!AB109,'Stap 3 Maatregelen'!AF109+'Overgebleven risico'!J109)","v":0}]
[]
[]
[]
[]
[]
[]
[]
[]
[]
[]
[]
[]
[]
[]
[]
[]
[]
[]
[]
[]
[]
[]
[]
[null,null,"Met welk budget wordt er gerekend?",null,null,null,3500000]
[]
[]
[]
[]
[]
[]
[]
[]
[]
[]
[]
[]
[]
[]
[]
[]
[]
[]
[]
[]
[]
[]
[]
[]
[]
[]
[]
[]
[]
[]
[]
[]
[null,null,null,null,null,null,null,null,null,null,null,null,null,null,null,"LEAM © 2024"]

{"sheet":"Verantwoording","index":8,"n_rows":50,"n_cols":12,"rows_kept":50,"cut":false,"hidden":false,"merged":[[5,1,12,11],[15,1,24,11],[27,1,36,11],[39,1,48,11]]}
[]
[null,"Verantwoording"]
[]
[]
[null,"De risicomatrix"]
[null,"Voor een goede werking van dit model is uitgegaan van een 6x6 risicomatrix. Dit kan niet worden aangepast in deze versie. Indien u dat wenst, neem dan contact op. Enkel de financiële kolom kan worden aangepast door de \"kosten\" in het geel gekleurde veld aan te passen aan uw eigen model. (Vuistregel daarbij: 1% van uw jaarlijkse begroting op de plek waar de kosten ingevuld kunnen worden, bijvoorbeeld bij een totale begroting van 100 miljoen vult u 1.000.000 in). \n\nU heeft voor het gebruik een eigen risicomatrix nodig. Zonder eigen matrix is het niet mogelijk om het risicoregister zinvol in te vullen. Heeft u nog geen eigen matrix, maar wilt u deze wel hebben, dan kan LEAM u ondersteunen. U kunt de overige bedrijfswaarden veranderen in uw eigen bedrijfswaarden.\n\nDe risicomatrix is logaritmisch opgebouwd. Zowel de kans als het effect wordt bij iedere stap 10x zo groot of klein. Ook is uitgegaan dat alle bedrijfswaarden per effectniveau een zelfde \"gewicht\" of \"zwaarte\" hebben. Dit maakt de matrix om meerdere redenen goed bruikbaar en als bijkomend voordeel is het dan mogelijk om het Monetair Equivalent (het risico uitgedrukt in kosten) zichtbaar te maken.\n\nLegenda van de risico's:\nO = Ontoelaatbaar\nZH = Zeer Hoog\nH = Hoog\nM = Middelmatig\nL = Laag\nV = Verwaarloosbaar"]
[]
[]
[]
[]
[]
[]
[]
[]
[null,"Register"]
[null,"Hierin vult u de gegevens van het risico. Te beginnen bij Asset + Faalmode. Denk bijvoorbeeld aan leiding + lekkage. De leiding is de asset en lekkage is de faalmode. Vervolgens kunt u de oorzaak invullen en daarna het effect. \n\nWanneer u dit heeft gedaan vult u de bedrijfswaarden in. Dit door per bedrijfswaarde de coördinaten uit de risicomatrix in te vullen. Bijvoorbeeld C4 of B3 of E3. C5 geeft als resultaat (met de gehanteerde risicomatrix) een Hoog risico. De eerste letter geeft meteen ook de kans aan. C staat voor Beperkt, etc. Risico is kans x effect. Het coördinaat combineert beide. (Let op: indien u meerdere letters gebruikt gebeurd er iets raars. Namelijk dat er meerdere kansen voor hetzelfde risico zijn. Het model negeert dit en gaat uit van de eerste waarde voor de kansbepaling). \n\nWanneer een risico zich op meerdere manieren kan manifesteren (hiervoor ontwikkeld u risico-analyses) en ook andere effecten geeft kan het dus zijn dat u vaker een zelfde Asset + Faalmode invult. De risico's die u invult krijgen een eigen nummer waardoor u ze uit elkaar kunt houden. Voorkom het mengen van verschillende uitkomsten in één risico.\n\nVerder kunt u aangeven of u voor een risico een beheermaatregel wilt definiëren. Vul dan op de betreffende regel een \"1\" in of laat het veld leeg. Bij opmerkingen kunt u verdere informatie kwijt."]
[]
[]
[]
[]
[]
[]
[]
[]
[]
[]
[null,"Maatregelen"]
[null,"Wanneer u bij stap 2 (Register) heeft aangegeven dat u maatregelen wilt nemen voor een risico dan kunt u bij maatregelen dit verder specificeren. U geeft een omschrijving van de maatregel en een indicatie van de kosten van de maatregel. Ook vult u opnieuw de risico-coördinaten per bedrijfswaarde in, maar nu met de verwachtte situatie nadat de maatregelen zijn genomen. \n\nToegevoegde waarde per euro: De waarde die hier wordt weeregegeven is het resultaat van het huidige monetaire equivalent minus het nieuwe. Dit wordt gedeeld door de kosten van de maatregel en er rolt een getal uit. Een negatieve waarde kan zijn omdat er geen risico gereduceerd wordt of omdat de kosten voor het nemen van de maatregel hoger zijn dan de toegevoegde waarde. (vermindering van het risico). Er wordt niet gewerkt met een terugverdientijd. Het zou niets veranderen in de diverse waarden t.o.v. elkaar, tenzij er gewerkt wordt met verschillende terugverdientijden. Voor het gemak is uitgegaan voor de kosten van de maatregel. Indien u van alle maatregelen de kosten over de levenscyclus weet, dan heeft dat de voorkeur.\n\nTot slot kunt u nog aangeven wat de maatregel verandert aan het huidige risico."]
[]
[]
[]
[]
[]
[]
[]
[]
[]
[]
[null,"Dashboard"]
[null,"Het dashboard geeft het resultaat weer van uw inspanningen in één overzicht op hoofdlijnen. Het register en de maatregelen kunt u printen. Maar uw management wilt weten welke risico's er zijn en welke acceptabel zijn en welke niet, wat u er gaat doen en wat dat oplevert. \n\nDaarom vind u hier de huidige sitiuatie en kan u de nieuwe situatie in beeld brengen door de \"schakelaar\" over te halen. Het risicoveld zal verschuiven, net als de risicopositie (monetair equivalent). De totale kosten van alle maatregelen worden ook getoond.\n\nTot slot kan de budgetgrens worden ingegeven en met de knop \"verversen grafiek\" worden de ingegeven risico's en maatregelen tegenover elkaar gezet. Daar waar de budgetgrens de maatregelen snijdt, is alles rechts daarvan overgebleven risico's"]
[]
[]
[]
[]
[]
[]
[]
[]
[]
[null,null,null,null,null,null,null,null,null,null,null,"LEAM© 2024"]

{"sheet":"BW tabel","index":9,"n_rows":38,"n_cols":17,"rows_kept":38,"cut":false,"hidden":true,"merged":[]}
[]
[null,"Risico-coördinaat","Mon. Eq.","Risico","Risicogetal","kans","kans2","Letter","Getal",null,"Monetaire waarde kolom D6","Kans D6"]
[null,"A6",{"$f":"C24","v":31622.776601683796},"M",{"$f":"E24","v":32},{"$f":"F21/1000","v":3.1622776601683794E-3},"Zeer laag","A",6,null,{"$f":"'Stap 1 Risicomatrix'!C9","v":10000000},10]
[null,"A5",{"$f":"C25","v":3162.2776601683795},"L",{"$f":"E25","v":16},3.1622776601683794E-3,"Zeer laag","A",5]
[null,"A4",{"$f":"C26","v":316.22776601683796},"V",{"$f":"E26","v":8},3.1622776601683794E-3,"Zeer laag","A",4]
[null,"A3",{"$f":"C26/10","v":31.622776601683796},"V",{"$f":"E13","v":4},3.1622776601683794E-3,"Zeer laag","A",3]
[null,"A2",{"$f":"C26/100","v":3.1622776601683795},"V",{"$f":"E14","v":2},3.1622776601683794E-3,"Zeer laag","A",2]
[null,"A1",{"$f":"C26/1000","v":0.31622776601683794},"V",1,3.1622776601683794E-3,"Zeer laag","A",1,null,null,"A","B","C","D","E","F"]
[null,"B6",{"$f":"C23","v":316227.76601683797},"H",{"$f":"E23","v":64},{"$f":"F21/100","v":3.1622776601683798E-2},"Laag","B",6,null,"CATASTROFAAL","M","H","ZH","O","O","O"]
[null,"B5",{"$f":"C24","v":31622.776601683796},"M",{"$f":"E24","v":32},{"$f":"F9","v":3.1622776601683798E-2},"Laag","B",5,null,"ERNSTIG","L","M","H","ZH","O","O"]
[null,"B4",{"$f":"C25","v":3162.2776601683795},"L",{"$f":"E25","v":16},{"$f":"F10","v":3.1622776601683798E-2},"Laag","B",4,null,"GROOT","V","L","M","H","ZH","O"]
[null,"B3",{"$f":"C26","v":316.22776601683796},"V",{"$f":"E26","v":8},{"$f":"F11","v":3.1622776601683798E-2},"Laag","B",3,null,"MIDDELMATIG","V","V","L","M","H","ZH"]
[null,"B2",{"$f":"C26/10","v":31.622776601683796},"V",{"$f":"E20","v":4},{"$f":"F12","v":3.1622776601683798E-2},"Laag","B",2,null,"KLEIN","V","V","V","L","M","H"]
[null,"B1",{"$f":"C26/100","v":3.1622776601683795},"V",2,{"$f":"F13","v":3.1622776601683798E-2},"Laag","B",1,null,"VERWAARLOOSBAAR","V","V","V","V","L","M"]
[null,"C6",{"$f":"C22","v":3162277.6601683795},"ZH",{"$f":"E22","v":128},{"$f":"F21/10","v":0.31622776601683794},"Beperkt","C",6]
[null,"C5",{"$f":"C23","v":316227.76601683797},"H",{"$f":"E23","v":64},{"$f":"F15","v":0.31622776601683794},"Beperkt","C",5,null,null,1,2,4,8,16,32]
[null,"C4",{"$f":"C24","v":31622.776601683796},"M",{"$f":"E24","v":32},{"$f":"F16","v":0.31622776601683794},"Beperkt","C",4,null,32,{"$f":"K17*$L$16","v":32},{"$f":"L17*2","v":64},128,256,512,1024]
[null,"C3",{"$f":"C25","v":3162.2776601683795},"L",{"$f":"E25","v":16},{"$f":"F17","v":0.31622776601683794},"Beperkt","C",3,null,16,{"$f":"K18*$L$16","v":16},32,64,128,256,512]
[null,"C2",{"$f":"C26","v":316.22776601683796},"V",{"$f":"E26","v":8},{"$f":"F18","v":0.31622776601683794},"Beperkt","C",2,null,8,8,{"$f":"L19*2","v":16},32,64,128,256]
[null,"C1",{"$f":"C26/10","v":31.622776601683796},"V",{"$f":"E19/2","v":4},{"$f":"F19","v":0.31622776601683794},"Beperkt","C",1,null,4,4,{"$f":"L20*2","v":8},16,32,64,128]
[null,"D6",{"$f":"SQRT(10)*K3","v":31622776.601683795},"O",256,{"$f":"IF(L3=1,3.16228,SQRT(L3))","v":3.1622776601683795},"Geregeld","D",6,null,2,2,{"$f":"L21*2","v":4},8,16,32,64]
[null,"D5",{"$f":"C21/10","v":3162277.6601683795},"ZH",128,{"$f":"F21","v":3.1622776601683795},"Geregeld","D",5,null,1,1,{"$f":"L22*2","v":2},4,8,16,32]
[null,"D4",{"$f":"C22/10","v":316227.76601683797},"H",64,{"$f":"F22","v":3.1622776601683795},"Geregeld","D",4]
[null,"D3",{"$f":"C23/10","v":31622.776601683796},"M",32,{"$f":"F23","v":3.1622776601683795},"Geregeld","D",3,null,1,"V"]
[null,"D2",{"$f":"C24/10","v":3162.2776601683795},"L",16,{"$f":"F24","v":3.1622776601683795},"Geregeld","D",2,null,2,"V"]
[null,"D1",{"$f":"C25/10","v":316.22776601683796},"V",8,{"$f":"F25","v":3.1622776601683795},"Geregeld","D",1,null,4,"V"]
[null,"E6",{"$f":"C21*10","v":316227766.01683795},"O",{"$f":"E21*2","v":512},{"$f":"F21*10","v":31.622776601683796},"Vaak","E",6,null,8,"V"]
[null,"E5",{"$f":"C21","v":31622776.601683795},"O",{"$f":"E21","v":256},31.622776601683796,"Vaak","E",5,null,16,"L"]
[null,"E4",{"$f":"C22","v":3162277.6601683795},"ZH",{"$f":"E22","v":128},31.622776601683796,"Vaak","E",4,null,32,"M"]
[null,"E3",{"$f":"C23","v":316227.76601683797},"H",{"$f":"E23","v":64},31.622776601683796,"Vaak","E",3,null,64,"H"]
[null,"E2",{"$f":"C24","v":31622.776601683796},"M",{"$f":"E24","v":32},31.622776601683796,"Vaak","E",2,null,128,"ZH"]
[null,"E1",{"$f":"C25","v":3162.2776601683795},"L",{"$f":"E25","v":16},31.622776601683796,"Vaak","E",1,null,256,"O"]
[null,"F6",{"$f":"C27*10","v":3162277660.1683798},"O",{"$f":"E27*2","v":1024},{"$f":"F21*100","v":316.22776601683796},"Zeer vaak","F",6,null,512,"O"]
[null,"F5",{"$f":"C27","v":316227766.01683795},"O",{"$f":"E27","v":512},316.22776601683796,"Zeer vaak","F",5,null,1024,"O"]
[null,"F4",{"$f":"C21","v":31622776.601683795},"O",{"$f":"E28","v":256},316.22776601683796,"Zeer vaak","F",4]
[null,"F3",{"$f":"C22","v":3162277.6601683795},"ZH",{"$f":"E29","v":128},316.22776601683796,"Zeer vaak","F",3]
[null,"F2",{"$f":"C23","v":316227.76601683797},"H",{"$f":"E30","v":64},316.22776601683796,"Zeer vaak","F",2]
[null,"F1",{"$f":"C24","v":31622.776601683796},"M",{"$f":"E31","v":32},316.22776601683796,"Zeer vaak","F",1]

{"sheet":"Grafiek","index":10,"n_rows":110,"n_cols":10,"rows_kept":110,"cut":false,"hidden":true,"merged":[]}
[null,{"$f":"'Stap 1 Risicomatrix'!C7","v":"Financieel"},{"$f":"'Stap 1 Risicomatrix'!D7","v":"Doelmatig"},{"$f":"'Stap 1 Risicomatrix'!E7","v":"Kwantiteit/Veilig"},{"$f":"'Stap 1 Risicomatrix'!F7","v":"Kwal leefomgeving"},{"$f":"'Stap 1 Risicomatrix'!G7","v":"Imago"},{"$f":"'Stap 1 Risicomatrix'!H7","v":"Circulair"}]
["Huidig risico",{"$f":"'Stap 2 Register'!W109","v":0},{"$f":"'Stap 2 Register'!X109","v":0},{"$f":"'Stap 2 Register'!Y109","v":0},{"$f":"'Stap 2 Register'!Z109","v":0},{"$f":"'Stap 2 Register'!AA109","v":0},{"$f":"'Stap 2 Register'!AB109","v":0}]
["Verwacht risico",{"$f":"IF(Dashboard!$C$13=1,'Stap 3 Maatregelen'!AA109+'Overgebleven risico'!E109,0)","v":0},{"$f":"IF(Dashboard!$C$13=1,'Stap 3 Maatregelen'!AB109+'Overgebleven risico'!F109,0)","v":0},{"$f":"IF(Dashboard!$C$13=1,'Stap 3 Maatregelen'!AC109+'Overgebleven risico'!G109,0)","v":0},{"$f":"IF(Dashboard!$C$13=1,'Stap 3 Maatregelen'!AD109+'Overgebleven risico'!H109,0)","v":0},{"$f":"IF(Dashboard!$C$13=1,'Stap 3 Maatregelen'!AE109+'Overgebleven risico'!I109,0)","v":0},{"$f":"IF(Dashboard!$C$13=1,'Stap 3 Maatregelen'!AF109+'Overgebleven risico'!J109,0)","v":0}]
[]
[]
[]
[]
[]
[]
["risiconr","risico","mon equ","maatregel","budgetgrens"]
[1,{"$f":"_xlfn.XLOOKUP(A11,'Stap 2 Register'!$B$8:$B$107,'Stap 2 Register'!$C$8:$C$107,0)","v":0},{"$f":"_xlfn.XLOOKUP(A11,'Stap 2 Register'!$B$8:$B$107,'Stap 2 Register'!$O$8:$O$107,0)","v":0},{"$f":"_xlfn.XLOOKUP(A11,'Stap 3 Maatregelen'!$C$8:$C$107,'Stap 3 Maatregelen'!$G$8:$G$107,0)","v":0},{"$f":"Dashboard!G61","v":3500000},null,"Rijlabels","Risicosom","Maatregelen opgeteld","Budgetgrens (opgave)"]
[2,{"$f":"_xlfn.XLOOKUP(A12,'Stap 2 Register'!$B$8:$B$107,'Stap 2 Register'!$C$8:$C$107,0)","v":0},{"$f":"_xlfn.XLOOKUP(A12,'Stap 2 Register'!$B$8:$B$107,'Stap 2 Register'!$O$8:$O$107,0)","v":0},{"$f":"_xlfn.XLOOKUP(A12,'Stap 3 Maatregelen'!$C$8:$C$107,'Stap 3 Maatregelen'!$G$8:$G$107,0)","v":0},{"$f":"$E$11","v":3500000},null,"Eindtotaal"]
[3,{"$f":"_xlfn.XLOOKUP(A13,'Stap 2 Register'!$B$8:$B$107,'Stap 2 Register'!$C$8:$C$107,0)","v":0},{"$f":"_xlfn.XLOOKUP(A13,'Stap 2 Register'!$B$8:$B$107,'Stap 2 Register'!$O$8:$O$107,0)","v":0},{"$f":"_xlfn.XLOOKUP(A13,'Stap 3 Maatregelen'!$C$8:$C$107,'Stap 3 Maatregelen'!$G$8:$G$107,0)","v":0},{"$f":"$E$11","v":3500000}]
[4,{"$f":"_xlfn.XLOOKUP(A14,'Stap 2 Register'!$B$8:$B$107,'Stap 2 Register'!$C$8:$C$107,0)","v":0},{"$f":"_xlfn.XLOOKUP(A14,'Stap 2 Register'!$B$8:$B$107,'Stap 2 Register'!$O$8:$O$107,0)","v":0},{"$f":"_xlfn.XLOOKUP(A14,'Stap 3 Maatregelen'!$C$8:$C$107,'Stap 3 Maatregelen'!$G$8:$G$107,0)","v":0},3500000]
[5,{"$f":"_xlfn.XLOOKUP(A15,'Stap 2 Register'!$B$8:$B$107,'Stap 2 Register'!$C$8:$C$107,0)","v":0},{"$f":"_xlfn.XLOOKUP(A15,'Stap 2 Register'!$B$8:$B$107,'Stap 2 Register'!$O$8:$O$107,0)","v":0},{"$f":"_xlfn.XLOOKUP(A15,'Stap 3 Maatregelen'!$C$8:$C$107,'Stap 3 Maatregelen'!$G$8:$G$107,0)","v":0},3500000]
[6,{"$f":"_xlfn.XLOOKUP(A16,'Stap 2 Register'!$B$8:$B$107,'Stap 2 Register'!$C$8:$C$107,0)","v":0},{"$f":"_xlfn.XLOOKUP(A16,'Stap 2 Register'!$B$8:$B$107,'Stap 2 Register'!$O$8:$O$107,0)","v":0},{"$f":"_xlfn.XLOOKUP(A16,'Stap 3 Maatregelen'!$C$8:$C$107,'Stap 3 Maatregelen'!$G$8:$G$107,0)","v":0},3500000]
[7,{"$f":"_xlfn.XLOOKUP(A17,'Stap 2 Register'!$B$8:$B$107,'Stap 2 Register'!$C$8:$C$107,0)","v":0},{"$f":"_xlfn.XLOOKUP(A17,'Stap 2 Register'!$B$8:$B$107,'Stap 2 Register'!$O$8:$O$107,0)","v":0},{"$f":"_xlfn.XLOOKUP(A17,'Stap 3 Maatregelen'!$C$8:$C$107,'Stap 3 Maatregelen'!$G$8:$G$107,0)","v":0},3500000]
[8,{"$f":"_xlfn.XLOOKUP(A18,'Stap 2 Register'!$B$8:$B$107,'Stap 2 Register'!$C$8:$C$107,0)","v":0},{"$f":"_xlfn.XLOOKUP(A18,'Stap 2 Register'!$B$8:$B$107,'Stap 2 Register'!$O$8:$O$107,0)","v":0},{"$f":"_xlfn.XLOOKUP(A18,'Stap 3 Maatregelen'!$C$8:$C$107,'Stap 3 Maatregelen'!$G$8:$G$107,0)","v":0},3500000]
[9,{"$f":"_xlfn.XLOOKUP(A19,'Stap 2 Register'!$B$8:$B$107,'Stap 2 Register'!$C$8:$C$107,0)","v":0},{"$f":"_xlfn.XLOOKUP(A19,'Stap 2 Register'!$B$8:$B$107,'Stap 2 Register'!$O$8:$O$107,0)","v":0},{"$f":"_xlfn.XLOOKUP(A19,'Stap 3 Maatregelen'!$C$8:$C$107,'Stap 3 Maatregelen'!$G$8:$G$107,0)","v":0},3500000]
[10,{"$f":"_xlfn.XLOOKUP(A20,'Stap 2 Register'!$B$8:$B$107,'Stap 2 Register'!$C$8:$C$107,0)","v":0},{"$f":"_xlfn.XLOOKUP(A20,'Stap 2 Register'!$B$8:$B$107,'Stap 2 Register'!$O$8:$O$107,0)","v":0},{"$f":"_xlfn.XLOOKUP(A20,'Stap 3 Maatregelen'!$C$8:$C$107,'Stap 3 Maatregelen'!$G$8:$G$107,0)","v":0},3500000]
[11,{"$f":"_xlfn.XLOOKUP(A21,'Stap 2 Register'!$B$8:$B$107,'Stap 2 Register'!$C$8:$C$107,0)","v":0},{"$f":"_xlfn.XLOOKUP(A21,'Stap 2 Register'!$B$8:$B$107,'Stap 2 Register'!$O$8:$O$107,0)","v":0},{"$f":"_xlfn.XLOOKUP(A21,'Stap 3 Maatregelen'!$C$8:$C$107,'Stap 3 Maatregelen'!$G$8:$G$107,0)","v":0},3500000]
[12,{"$f":"_xlfn.XLOOKUP(A22,'Stap 2 Register'!$B$8:$B$107,'Stap 2 Register'!$C$8:$C$107,0)","v":0},{"$f":"_xlfn.XLOOKUP(A22,'Stap 2 Register'!$B$8:$B$107,'Stap 2 Register'!$O$8:$O$107,0)","v":0},{"$f":"_xlfn.XLOOKUP(A22,'Stap 3 Maatregelen'!$C$8:$C$107,'Stap 3 Maatregelen'!$G$8:$G$107,0)","v":0},3500000]
[13,{"$f":"_xlfn.XLOOKUP(A23,'Stap 2 Register'!$B$8:$B$107,'Stap 2 Register'!$C$8:$C$107,0)","v":0},{"$f":"_xlfn.XLOOKUP(A23,'Stap 2 Register'!$B$8:$B$107,'Stap 2 Register'!$O$8:$O$107,0)","v":0},{"$f":"_xlfn.XLOOKUP(A23,'Stap 3 Maatregelen'!$C$8:$C$107,'Stap 3 Maatregelen'!$G$8:$G$107,0)","v":0},3500000]
[14,{"$f":"_xlfn.XLOOKUP(A24,'Stap 2 Register'!$B$8:$B$107,'Stap 2 Register'!$C$8:$C$107,0)","v":0},{"$f":"_xlfn.XLOOKUP(A24,'Stap 2 Register'!$B$8:$B$107,'Stap 2 Register'!$O$8:$O$107,0)","v":0},{"$f":"_xlfn.XLOOKUP(A24,'Stap 3 Maatregelen'!$C$8:$C$107,'Stap 3 Maatregelen'!$G$8:$G$107,0)","v":0},3500000]
[15,{"$f":"_xlfn.XLOOKUP(A25,'Stap 2 Register'!$B$8:$B$107,'Stap 2 Register'!$C$8:$C$107,0)","v":0},{"$f":"_xlfn.XLOOKUP(A25,'Stap 2 Register'!$B$8:$B$107,'Stap 2 Register'!$O$8:$O$107,0)","v":0},{"$f":"_xlfn.XLOOKUP(A25,'Stap 3 Maatregelen'!$C$8:$C$107,'Stap 3 Maatregelen'!$G$8:$G$107,0)","v":0},3500000]
[16,{"$f":"_xlfn.XLOOKUP(A26,'Stap 2 Register'!$B$8:$B$107,'Stap 2 Register'!$C$8:$C$107,0)","v":0},{"$f":"_xlfn.XLOOKUP(A26,'Stap 2 Register'!$B$8:$B$107,'Stap 2 Register'!$O$8:$O$107,0)","v":0},{"$f":"_xlfn.XLOOKUP(A26,'Stap 3 Maatregelen'!$C$8:$C$107,'Stap 3 Maatregelen'!$G$8:$G$107,0)","v":0},3500000]
[17,{"$f":"_xlfn.XLOOKUP(A27,'Stap 2 Register'!$B$8:$B$107,'Stap 2 Register'!$C$8:$C$107,0)","v":0},{"$f":"_xlfn.XLOOKUP(A27,'Stap 2 Register'!$B$8:$B$107,'Stap 2 Register'!$O$8:$O$107,0)","v":0},{"$f":"_xlfn.XLOOKUP(A27,'Stap 3 Maatregelen'!$C$8:$C$107,'Stap 3 Maatregelen'!$G$8:$G$107,0)","v":0},3500000]
[18,{"$f":"_xlfn.XLOOKUP(A28,'Stap 2 Register'!$B$8:$B$107,'Stap 2 Register'!$C$8:$C$107,0)","v":0},{"$f":"_xlfn.XLOOKUP(A28,'Stap 2 Register'!$B$8:$B$107,'Stap 2 Register'!$O$8:$O$107,0)","v":0},{"$f":"_xlfn.XLOOKUP(A28,'Stap 3 Maatregelen'!$C$8:$C$107,'Stap 3 Maatregelen'!$G$8:$G$107,0)","v":0},3500000]
[19,{"$f":"_xlfn.XLOOKUP(A29,'Stap 2 Register'!$B$8:$B$107,'Stap 2 Register'!$C$8:$C$107,0)","v":0},{"$f":"_xlfn.XLOOKUP(A29,'Stap 2 Register'!$B$8:$B$107,'Stap 2 Register'!$O$8:$O$107,0)","v":0},{"$f":"_xlfn.XLOOKUP(A29,'Stap 3 Maatregelen'!$C$8:$C$107,'Stap 3 Maatregelen'!$G$8:$G$107,0)","v":0},3500000]
[20,{"$f":"_xlfn.XLOOKUP(A30,'Stap 2 Register'!$B$8:$B$107,'Stap 2 Register'!$C$8:$C$107,0)","v":0},{"$f":"_xlfn.XLOOKUP(A30,'Stap 2 Register'!$B$8:$B$107,'Stap 2 Register'!$O$8:$O$107,0)","v":0},{"$f":"_xlfn.XLOOKUP(A30,'Stap 3 Maatregelen'!$C$8:$C$107,'Stap 3 Maatregelen'!$G$8:$G$107,0)","v":0},3500000]
[21,{"$f":"_xlfn.XLOOKUP(A31,'Stap 2 Register'!$B$8:$B$107,'Stap 2 Register'!$C$8:$C$107,0)","v":0},{"$f":"_xlfn.XLOOKUP(A31,'Stap 2 Register'!$B$8:$B$107,'Stap 2 Register'!$O$8:$O$107,0)","v":0},{"$f":"_xlfn.XLOOKUP(A31,'Stap 3 Maatregelen'!$C$8:$C$107,'Stap 3 Maatregelen'!$G$8:$G$107,0)","v":0},3500000]
[22,{"$f":"_xlfn.XLOOKUP(A32,'Stap 2 Register'!$B$8:$B$107,'Stap 2 Register'!$C$8:$C$107,0)","v":0},{"$f":"_xlfn.XLOOKUP(A32,'Stap 2 Register'!$B$8:$B$107,'Stap 2 Register'!$O$8:$O$107,0)","v":0},{"$f":"_xlfn.XLOOKUP(A32,'Stap 3 Maatregelen'!$C$8:$C$107,'Stap 3 Maatregelen'!$G$8:$G$107,0)","v":0},3500000]
[23,{"$f":"_xlfn.XLOOKUP(A33,'Stap 2 Register'!$B$8:$B$107,'Stap 2 Register'!$C$8:$C$107,0)","v":0},{"$f":"_xlfn.XLOOKUP(A33,'Stap 2 Register'!$B$8:$B$107,'Stap 2 Register'!$O$8:$O$107,0)","v":0},{"$f":"_xlfn.XLOOKUP(A33,'Stap 3 Maatregelen'!$C$8:$C$107,'Stap 3 Maatregelen'!$G$8:$G$107,0)","v":0},3500000]
[24,{"$f":"_xlfn.XLOOKUP(A34,'Stap 2 Register'!$B$8:$B$107,'Stap 2 Register'!$C$8:$C$107,0)","v":0},{"$f":"_xlfn.XLOOKUP(A34,'Stap 2 Register'!$B$8:$B$107,'Stap 2 Register'!$O$8:$O$107,0)","v":0},{"$f":"_xlfn.XLOOKUP(A34,'Stap 3 Maatregelen'!$C$8:$C$107,'Stap 3 Maatregelen'!$G$8:$G$107,0)","v":0},3500000]
[25,{"$f":"_xlfn.XLOOKUP(A35,'Stap 2 Register'!$B$8:$B$107,'Stap 2 Register'!$C$8:$C$107,0)","v":0},{"$f":"_xlfn.XLOOKUP(A35,'Stap 2 Register'!$B$8:$B$107,'Stap 2 Register'!$O$8:$O$107,0)","v":0},{"$f":"_xlfn.XLOOKUP(A35,'Stap 3 Maatregelen'!$C$8:$C$107,'Stap 3 Maatregelen'!$G$8:$G$107,0)","v":0},3500000]
[26,{"$f":"_xlfn.XLOOKUP(A36,'Stap 2 Register'!$B$8:$B$107,'Stap 2 Register'!$C$8:$C$107,0)","v":0},{"$f":"_xlfn.XLOOKUP(A36,'Stap 2 Register'!$B$8:$B$107,'Stap 2 Register'!$O$8:$O$107,0)","v":0},{"$f":"_xlfn.XLOOKUP(A36,'Stap 3 Maatregelen'!$C$8:$C$107,'Stap 3 Maatregelen'!$G$8:$G$107,0)","v":0},3500000]
[27,{"$f":"_xlfn.XLOOKUP(A37,'Stap 2 Register'!$B$8:$B$107,'Stap 2 Register'!$C$8:$C$107,0)","v":0},{"$f":"_xlfn.XLOOKUP(A37,'Stap 2 Register'!$B$8:$B$107,'Stap 2 Register'!$O$8:$O$107,0)","v":0},{"$f":"_xlfn.XLOOKUP(A37,'Stap 3 Maatregelen'!$C$8:$C$107,'Stap 3 Maatregelen'!$G$8:$G$107,0)","v":0},3500000]
[28,{"$f":"_xlfn.XLOOKUP(A38,'Stap 2 Register'!$B$8:$B$107,'Stap 2 Register'!$C$8:$C$107,0)","v":0},{"$f":"_xlfn.XLOOKUP(A38,'Stap 2 Register'!$B$8:$B$107,'Stap 2 Register'!$O$8:$O$107,0)","v":0},{"$f":"_xlfn.XLOOKUP(A38,'Stap 3 Maatregelen'!$C$8:$C$107,'Stap 3 Maatregelen'!$G$8:$G$107,0)","v":0},3500000]
[29,{"$f":"_xlfn.XLOOKUP(A39,'Stap 2 Register'!$B$8:$B$107,'Stap 2 Register'!$C$8:$C$107,0)","v":0},{"$f":"_xlfn.XLOOKUP(A39,'Stap 2 Register'!$B$8:$B$107,'Stap 2 Register'!$O$8:$O$107,0)","v":0},{"$f":"_xlfn.XLOOKUP(A39,'Stap 3 Maatregelen'!$C$8:$C$107,'Stap 3 Maatregelen'!$G$8:$G$107,0)","v":0},3500000]
[30,{"$f":"_xlfn.XLOOKUP(A40,'Stap 2 Register'!$B$8:$B$107,'Stap 2 Register'!$C$8:$C$107,0)","v":0},{"$f":"_xlfn.XLOOKUP(A40,'Stap 2 Register'!$B$8:$B$107,'Stap 2 Register'!$O$8:$O$107,0)","v":0},{"$f":"_xlfn.XLOOKUP(A40,'Stap 3 Maatregelen'!$C$8:$C$107,'Stap 3 Maatregelen'!$G$8:$G$107,0)","v":0},3500000]
[31,{"$f":"_xlfn.XLOOKUP(A41,'Stap 2 Register'!$B$8:$B$107,'Stap 2 Register'!$C$8:$C$107,0)","v":0},{"$f":"_xlfn.XLOOKUP(A41,'Stap 2 Register'!$B$8:$B$107,'Stap 2 Register'!$O$8:$O$107,0)","v":0},{"$f":"_xlfn.XLOOKUP(A41,'Stap 3 Maatregelen'!$C$8:$C$107,'Stap 3 Maatregelen'!$G$8:$G$107,0)","v":0},3500000]
[32,{"$f":"_xlfn.XLOOKUP(A42,'Stap 2 Register'!$B$8:$B$107,'Stap 2 Register'!$C$8:$C$107,0)","v":0},{"$f":"_xlfn.XLOOKUP(A42,'Stap 2 Register'!$B$8:$B$107,'Stap 2 Register'!$O$8:$O$107,0)","v":0},{"$f":"_xlfn.XLOOKUP(A42,'Stap 3 Maatregelen'!$C$8:$C$107,'Stap 3 Maatregelen'!$G$8:$G$107,0)","v":0},3500000]
[33,{"$f":"_xlfn.XLOOKUP(A43,'Stap 2 Register'!$B$8:$B$107,'Stap 2 Register'!$C$8:$C$107,0)","v":0},{"$f":"_xlfn.XLOOKUP(A43,'Stap 2 Register'!$B$8:$B$107,'Stap 2 Register'!$O$8:$O$107,0)","v":0},{"$f":"_xlfn.XLOOKUP(A43,'Stap 3 Maatregelen'!$C$8:$C$107,'Stap 3 Maatregelen'!$G$8:$G$107,0)","v":0},3500000]
[34,{"$f":"_xlfn.XLOOKUP(A44,'Stap 2 Register'!$B$8:$B$107,'Stap 2 Register'!$C$8:$C$107,0)","v":0},{"$f":"_xlfn.XLOOKUP(A44,'Stap 2 Register'!$B$8:$B$107,'Stap 2 Register'!$O$8:$O$107,0)","v":0},{"$f":"_xlfn.XLOOKUP(A44,'Stap 3 Maatregelen'!$C$8:$C$107,'Stap 3 Maatregelen'!$G$8:$G$107,0)","v":0},3500000]
[35,{"$f":"_xlfn.XLOOKUP(A45,'Stap 2 Register'!$B$8:$B$107,'Stap 2 Register'!$C$8:$C$107,0)","v":0},{"$f":"_xlfn.XLOOKUP(A45,'Stap 2 Register'!$B$8:$B$107,'Stap 2 Register'!$O$8:$O$107,0)","v":0},{"$f":"_xlfn.XLOOKUP(A45,'Stap 3 Maatregelen'!$C$8:$C$107,'Stap 3 Maatregelen'!$G$8:$G$107,0)","v":0},3500000]
[36,{"$f":"_xlfn.XLOOKUP(A46,'Stap 2 Register'!$B$8:$B$107,'Stap 2 Register'!$C$8:$C$107,0)","v":0},{"$f":"_xlfn.XLOOKUP(A46,'Stap 2 Register'!$B$8:$B$107,'Stap 2 Register'!$O$8:$O$107,0)","v":0},{"$f":"_xlfn.XLOOKUP(A46,'Stap 3 Maatregelen'!$C$8:$C$107,'Stap 3 Maatregelen'!$G$8:$G$107,0)","v":0},3500000]
[37,{"$f":"_xlfn.XLOOKUP(A47,'Stap 2 Register'!$B$8:$B$107,'Stap 2 Register'!$C$8:$C$107,0)","v":0},{"$f":"_xlfn.XLOOKUP(A47,'Stap 2 Register'!$B$8:$B$107,'Stap 2 Register'!$O$8:$O$107,0)","v":0},{"$f":"_xlfn.XLOOKUP(A47,'Stap 3 Maatregelen'!$C$8:$C$107,'Stap 3 Maatregelen'!$G$8:$G$107,0)","v":0},3500000]
[38,{"$f":"_xlfn.XLOOKUP(A48,'Stap 2 Register'!$B$8:$B$107,'Stap 2 Register'!$C$8:$C$107,0)","v":0},{"$f":"_xlfn.XLOOKUP(A48,'Stap 2 Register'!$B$8:$B$107,'Stap 2 Register'!$O$8:$O$107,0)","v":0},{"$f":"_xlfn.XLOOKUP(A48,'Stap 3 Maatregelen'!$C$8:$C$107,'Stap 3 Maatregelen'!$G$8:$G$107,0)","v":0},3500000]
[39,{"$f":"_xlfn.XLOOKUP(A49,'Stap 2 Register'!$B$8:$B$107,'Stap 2 Register'!$C$8:$C$107,0)","v":0},{"$f":"_xlfn.XLOOKUP(A49,'Stap 2 Register'!$B$8:$B$107,'Stap 2 Register'!$O$8:$O$107,0)","v":0},{"$f":"_xlfn.XLOOKUP(A49,'Stap 3 Maatregelen'!$C$8:$C$107,'Stap 3 Maatregelen'!$G$8:$G$107,0)","v":0},3500000]
[40,{"$f":"_xlfn.XLOOKUP(A50,'Stap 2 Register'!$B$8:$B$107,'Stap 2 Register'!$C$8:$C$107,0)","v":0},{"$f":"_xlfn.XLOOKUP(A50,'Stap 2 Register'!$B$8:$B$107,'Stap 2 Register'!$O$8:$O$107,0)","v":0},{"$f":"_xlfn.XLOOKUP(A50,'Stap 3 Maatregelen'!$C$8:$C$107,'Stap 3 Maatregelen'!$G$8:$G$107,0)","v":0},3500000]
[41,{"$f":"_xlfn.XLOOKUP(A51,'Stap 2 Register'!$B$8:$B$107,'Stap 2 Register'!$C$8:$C$107,0)","v":0},{"$f":"_xlfn.XLOOKUP(A51,'Stap 2 Register'!$B$8:$B$107,'Stap 2 Register'!$O$8:$O$107,0)","v":0},{"$f":"_xlfn.XLOOKUP(A51,'Stap 3 Maatregelen'!$C$8:$C$107,'Stap 3 Maatregelen'!$G$8:$G$107,0)","v":0},3500000]
[42,{"$f":"_xlfn.XLOOKUP(A52,'Stap 2 Register'!$B$8:$B$107,'Stap 2 Register'!$C$8:$C$107,0)","v":0},{"$f":"_xlfn.XLOOKUP(A52,'Stap 2 Register'!$B$8:$B$107,'Stap 2 Register'!$O$8:$O$107,0)","v":0},{"$f":"_xlfn.XLOOKUP(A52,'Stap 3 Maatregelen'!$C$8:$C$107,'Stap 3 Maatregelen'!$G$8:$G$107,0)","v":0},3500000]
[43,{"$f":"_xlfn.XLOOKUP(A53,'Stap 2 Register'!$B$8:$B$107,'Stap 2 Register'!$C$8:$C$107,0)","v":0},{"$f":"_xlfn.XLOOKUP(A53,'Stap 2 Register'!$B$8:$B$107,'Stap 2 Register'!$O$8:$O$107,0)","v":0},{"$f":"_xlfn.XLOOKUP(A53,'Stap 3 Maatregelen'!$C$8:$C$107,'Stap 3 Maatregelen'!$G$8:$G$107,0)","v":0},3500000]
[44,{"$f":"_xlfn.XLOOKUP(A54,'Stap 2 Register'!$B$8:$B$107,'Stap 2 Register'!$C$8:$C$107,0)","v":0},{"$f":"_xlfn.XLOOKUP(A54,'Stap 2 Register'!$B$8:$B$107,'Stap 2 Register'!$O$8:$O$107,0)","v":0},{"$f":"_xlfn.XLOOKUP(A54,'Stap 3 Maatregelen'!$C$8:$C$107,'Stap 3 Maatregelen'!$G$8:$G$107,0)","v":0},3500000]
[45,{"$f":"_xlfn.XLOOKUP(A55,'Stap 2 Register'!$B$8:$B$107,'Stap 2 Register'!$C$8:$C$107,0)","v":0},{"$f":"_xlfn.XLOOKUP(A55,'Stap 2 Register'!$B$8:$B$107,'Stap 2 Register'!$O$8:$O$107,0)","v":0},{"$f":"_xlfn.XLOOKUP(A55,'Stap 3 Maatregelen'!$C$8:$C$107,'Stap 3 Maatregelen'!$G$8:$G$107,0)","v":0},3500000]
[46,{"$f":"_xlfn.XLOOKUP(A56,'Stap 2 Register'!$B$8:$B$107,'Stap 2 Register'!$C$8:$C$107,0)","v":0},{"$f":"_xlfn.XLOOKUP(A56,'Stap 2 Register'!$B$8:$B$107,'Stap 2 Register'!$O$8:$O$107,0)","v":0},{"$f":"_xlfn.XLOOKUP(A56,'Stap 3 Maatregelen'!$C$8:$C$107,'Stap 3 Maatregelen'!$G$8:$G$107,0)","v":0},3500000]
[47,{"$f":"_xlfn.XLOOKUP(A57,'Stap 2 Register'!$B$8:$B$107,'Stap 2 Register'!$C$8:$C$107,0)","v":0},{"$f":"_xlfn.XLOOKUP(A57,'Stap 2 Register'!$B$8:$B$107,'Stap 2 Register'!$O$8:$O$107,0)","v":0},{"$f":"_xlfn.XLOOKUP(A57,'Stap 3 Maatregelen'!$C$8:$C$107,'Stap 3 Maatregelen'!$G$8:$G$107,0)","v":0},3500000]
[48,{"$f":"_xlfn.XLOOKUP(A58,'Stap 2 Register'!$B$8:$B$107,'Stap 2 Register'!$C$8:$C$107,0)","v":0},{"$f":"_xlfn.XLOOKUP(A58,'Stap 2 Register'!$B$8:$B$107,'Stap 2 Register'!$O$8:$O$107,0)","v":0},{"$f":"_xlfn.XLOOKUP(A58,'Stap 3 Maatregelen'!$C$8:$C$107,'Stap 3 Maatregelen'!$G$8:$G$107,0)","v":0},3500000]
[49,{"$f":"_xlfn.XLOOKUP(A59,'Stap 2 Register'!$B$8:$B$107,'Stap 2 Register'!$C$8:$C$107,0)","v":0},{"$f":"_xlfn.XLOOKUP(A59,'Stap 2 Register'!$B$8:$B$107,'Stap 2 Register'!$O$8:$O$107,0)","v":0},{"$f":"_xlfn.XLOOKUP(A59,'Stap 3 Maatregelen'!$C$8:$C$107,'Stap 3 Maatregelen'!$G$8:$G$107,0)","v":0},3500000]
[50,{"$f":"_xlfn.XLOOKUP(A60,'Stap 2 Register'!$B$8:$B$107,'Stap 2 Register'!$C$8:$C$107,0)","v":0},{"$f":"_xlfn.XLOOKUP(A60,'Stap 2 Register'!$B$8:$B$107,'Stap 2 Register'!$O$8:$O$107,0)","v":0},{"$f":"_xlfn.XLOOKUP(A60,'Stap 3 Maatregelen'!$C$8:$C$107,'Stap 3 Maatregelen'!$G$8:$G$107,0)","v":0},3500000]
[51,{"$f":"_xlfn.XLOOKUP(A61,'Stap 2 Register'!$B$8:$B$107,'Stap 2 Register'!$C$8:$C$107,0)","v":0},{"$f":"_xlfn.XLOOKUP(A61,'Stap 2 Register'!$B$8:$B$107,'Stap 2 Register'!$O$8:$O$107,0)","v":0},{"$f":"_xlfn.XLOOKUP(A61,'Stap 3 Maatregelen'!$C$8:$C$107,'Stap 3 Maatregelen'!$G$8:$G$107,0)","v":0},3500000]
[52,{"$f":"_xlfn.XLOOKUP(A62,'Stap 2 Register'!$B$8:$B$107,'Stap 2 Register'!$C$8:$C$107,0)","v":0},{"$f":"_xlfn.XLOOKUP(A62,'Stap 2 Register'!$B$8:$B$107,'Stap 2 Register'!$O$8:$O$107,0)","v":0},{"$f":"_xlfn.XLOOKUP(A62,'Stap 3 Maatregelen'!$C$8:$C$107,'Stap 3 Maatregelen'!$G$8:$G$107,0)","v":0},3500000]
[53,{"$f":"_xlfn.XLOOKUP(A63,'Stap 2 Register'!$B$8:$B$107,'Stap 2 Register'!$C$8:$C$107,0)","v":0},{"$f":"_xlfn.XLOOKUP(A63,'Stap 2 Register'!$B$8:$B$107,'Stap 2 Register'!$O$8:$O$107,0)","v":0},{"$f":"_xlfn.XLOOKUP(A63,'Stap 3 Maatregelen'!$C$8:$C$107,'Stap 3 Maatregelen'!$G$8:$G$107,0)","v":0},3500000]
[54,{"$f":"_xlfn.XLOOKUP(A64,'Stap 2 Register'!$B$8:$B$107,'Stap 2 Register'!$C$8:$C$107,0)","v":0},{"$f":"_xlfn.XLOOKUP(A64,'Stap 2 Register'!$B$8:$B$107,'Stap 2 Register'!$O$8:$O$107,0)","v":0},{"$f":"_xlfn.XLOOKUP(A64,'Stap 3 Maatregelen'!$C$8:$C$107,'Stap 3 Maatregelen'!$G$8:$G$107,0)","v":0},3500000]
[55,{"$f":"_xlfn.XLOOKUP(A65,'Stap 2 Register'!$B$8:$B$107,'Stap 2 Register'!$C$8:$C$107,0)","v":0},{"$f":"_xlfn.XLOOKUP(A65,'Stap 2 Register'!$B$8:$B$107,'Stap 2 Register'!$O$8:$O$107,0)","v":0},{"$f":"_xlfn.XLOOKUP(A65,'Stap 3 Maatregelen'!$C$8:$C$107,'Stap 3 Maatregelen'!$G$8:$G$107,0)","v":0},3500000]
[56,{"$f":"_xlfn.XLOOKUP(A66,'Stap 2 Register'!$B$8:$B$107,'Stap 2 Register'!$C$8:$C$107,0)","v":0},{"$f":"_xlfn.XLOOKUP(A66,'Stap 2 Register'!$B$8:$B$107,'Stap 2 Register'!$O$8:$O$107,0)","v":0},{"$f":"_xlfn.XLOOKUP(A66,'Stap 3 Maatregelen'!$C$8:$C$107,'Stap 3 Maatregelen'!$G$8:$G$107,0)","v":0},3500000]
[57,{"$f":"_xlfn.XLOOKUP(A67,'Stap 2 Register'!$B$8:$B$107,'Stap 2 Register'!$C$8:$C$107,0)","v":0},{"$f":"_xlfn.XLOOKUP(A67,'Stap 2 Register'!$B$8:$B$107,'Stap 2 Register'!$O$8:$O$107,0)","v":0},{"$f":"_xlfn.XLOOKUP(A67,'Stap 3 Maatregelen'!$C$8:$C$107,'Stap 3 Maatregelen'!$G$8:$G$107,0)","v":0},3500000]
[58,{"$f":"_xlfn.XLOOKUP(A68,'Stap 2 Register'!$B$8:$B$107,'Stap 2 Register'!$C$8:$C$107,0)","v":0},{"$f":"_xlfn.XLOOKUP(A68,'Stap 2 Register'!$B$8:$B$107,'Stap 2 Register'!$O$8:$O$107,0)","v":0},{"$f":"_xlfn.XLOOKUP(A68,'Stap 3 Maatregelen'!$C$8:$C$107,'Stap 3 Maatregelen'!$G$8:$G$107,0)","v":0},3500000]
[59,{"$f":"_xlfn.XLOOKUP(A69,'Stap 2 Register'!$B$8:$B$107,'Stap 2 Register'!$C$8:$C$107,0)","v":0},{"$f":"_xlfn.XLOOKUP(A69,'Stap 2 Register'!$B$8:$B$107,'Stap 2 Register'!$O$8:$O$107,0)","v":0},{"$f":"_xlfn.XLOOKUP(A69,'Stap 3 Maatregelen'!$C$8:$C$107,'Stap 3 Maatregelen'!$G$8:$G$107,0)","v":0},3500000]
[60,{"$f":"_xlfn.XLOOKUP(A70,'Stap 2 Register'!$B$8:$B$107,'Stap 2 Register'!$C$8:$C$107,0)","v":0},{"$f":"_xlfn.XLOOKUP(A70,'Stap 2 Register'!$B$8:$B$107,'Stap 2 Register'!$O$8:$O$107,0)","v":0},{"$f":"_xlfn.XLOOKUP(A70,'Stap 3 Maatregelen'!$C$8:$C$107,'Stap 3 Maatregelen'!$G$8:$G$107,0)","v":0},3500000]
[61,{"$f":"_xlfn.XLOOKUP(A71,'Stap 2 Register'!$B$8:$B$107,'Stap 2 Register'!$C$8:$C$107,0)","v":0},{"$f":"_xlfn.XLOOKUP(A71,'Stap 2 Register'!$B$8:$B$107,'Stap 2 Register'!$O$8:$O$107,0)","v":0},{"$f":"_xlfn.XLOOKUP(A71,'Stap 3 Maatregelen'!$C$8:$C$107,'Stap 3 Maatregelen'!$G$8:$G$107,0)","v":0},3500000]
[62,{"$f":"_xlfn.XLOOKUP(A72,'Stap 2 Register'!$B$8:$B$107,'Stap 2 Register'!$C$8:$C$107,0)","v":0},{"$f":"_xlfn.XLOOKUP(A72,'Stap 2 Register'!$B$8:$B$107,'Stap 2 Register'!$O$8:$O$107,0)","v":0},{"$f":"_xlfn.XLOOKUP(A72,'Stap 3 Maatregelen'!$C$8:$C$107,'Stap 3 Maatregelen'!$G$8:$G$107,0)","v":0},3500000]
[63,{"$f":"_xlfn.XLOOKUP(A73,'Stap 2 Register'!$B$8:$B$107,'Stap 2 Register'!$C$8:$C$107,0)","v":0},{"$f":"_xlfn.XLOOKUP(A73,'Stap 2 Register'!$B$8:$B$107,'Stap 2 Register'!$O$8:$O$107,0)","v":0},{"$f":"_xlfn.XLOOKUP(A73,'Stap 3 Maatregelen'!$C$8:$C$107,'Stap 3 Maatregelen'!$G$8:$G$107,0)","v":0},3500000]
[64,{"$f":"_xlfn.XLOOKUP(A74,'Stap 2 Register'!$B$8:$B$107,'Stap 2 Register'!$C$8:$C$107,0)","v":0},{"$f":"_xlfn.XLOOKUP(A74,'Stap 2 Register'!$B$8:$B$107,'Stap 2 Register'!$O$8:$O$107,0)","v":0},{"$f":"_xlfn.XLOOKUP(A74,'Stap 3 Maatregelen'!$C$8:$C$107,'Stap 3 Maatregelen'!$G$8:$G$107,0)","v":0},3500000]
[65,{"$f":"_xlfn.XLOOKUP(A75,'Stap 2 Register'!$B$8:$B$107,'Stap 2 Register'!$C$8:$C$107,0)","v":0},{"$f":"_xlfn.XLOOKUP(A75,'Stap 2 Register'!$B$8:$B$107,'Stap 2 Register'!$O$8:$O$107,0)","v":0},{"$f":"_xlfn.XLOOKUP(A75,'Stap 3 Maatregelen'!$C$8:$C$107,'Stap 3 Maatregelen'!$G$8:$G$107,0)","v":0},3500000]
[66,{"$f":"_xlfn.XLOOKUP(A76,'Stap 2 Register'!$B$8:$B$107,'Stap 2 Register'!$C$8:$C$107,0)","v":0},{"$f":"_xlfn.XLOOKUP(A76,'Stap 2 Register'!$B$8:$B$107,'Stap 2 Register'!$O$8:$O$107,0)","v":0},{"$f":"_xlfn.XLOOKUP(A76,'Stap 3 Maatregelen'!$C$8:$C$107,'Stap 3 Maatregelen'!$G$8:$G$107,0)","v":0},3500000]
[67,{"$f":"_xlfn.XLOOKUP(A77,'Stap 2 Register'!$B$8:$B$107,'Stap 2 Register'!$C$8:$C$107,0)","v":0},{"$f":"_xlfn.XLOOKUP(A77,'Stap 2 Register'!$B$8:$B$107,'Stap 2 Register'!$O$8:$O$107,0)","v":0},{"$f":"_xlfn.XLOOKUP(A77,'Stap 3 Maatregelen'!$C$8:$C$107,'Stap 3 Maatregelen'!$G$8:$G$107,0)","v":0},{"$f":"$E$11","v":3500000}]
[68,{"$f":"_xlfn.XLOOKUP(A78,'Stap 2 Register'!$B$8:$B$107,'Stap 2 Register'!$C$8:$C$107,0)","v":0},{"$f":"_xlfn.XLOOKUP(A78,'Stap 2 Register'!$B$8:$B$107,'Stap 2 Register'!$O$8:$O$107,0)","v":0},{"$f":"_xlfn.XLOOKUP(A78,'Stap 3 Maatregelen'!$C$8:$C$107,'Stap 3 Maatregelen'!$G$8:$G$107,0)","v":0},3500000]
[69,{"$f":"_xlfn.XLOOKUP(A79,'Stap 2 Register'!$B$8:$B$107,'Stap 2 Register'!$C$8:$C$107,0)","v":0},{"$f":"_xlfn.XLOOKUP(A79,'Stap 2 Register'!$B$8:$B$107,'Stap 2 Register'!$O$8:$O$107,0)","v":0},{"$f":"_xlfn.XLOOKUP(A79,'Stap 3 Maatregelen'!$C$8:$C$107,'Stap 3 Maatregelen'!$G$8:$G$107,0)","v":0},3500000]
[70,{"$f":"_xlfn.XLOOKUP(A80,'Stap 2 Register'!$B$8:$B$107,'Stap 2 Register'!$C$8:$C$107,0)","v":0},{"$f":"_xlfn.XLOOKUP(A80,'Stap 2 Register'!$B$8:$B$107,'Stap 2 Register'!$O$8:$O$107,0)","v":0},{"$f":"_xlfn.XLOOKUP(A80,'Stap 3 Maatregelen'!$C$8:$C$107,'Stap 3 Maatregelen'!$G$8:$G$107,0)","v":0},3500000]
[71,{"$f":"_xlfn.XLOOKUP(A81,'Stap 2 Register'!$B$8:$B$107,'Stap 2 Register'!$C$8:$C$107,0)","v":0},{"$f":"_xlfn.XLOOKUP(A81,'Stap 2 Register'!$B$8:$B$107,'Stap 2 Register'!$O$8:$O$107,0)","v":0},{"$f":"_xlfn.XLOOKUP(A81,'Stap 3 Maatregelen'!$C$8:$C$107,'Stap 3 Maatregelen'!$G$8:$G$107,0)","v":0},3500000]
[72,{"$f":"_xlfn.XLOOKUP(A82,'Stap 2 Register'!$B$8:$B$107,'Stap 2 Register'!$C$8:$C$107,0)","v":0},{"$f":"_xlfn.XLOOKUP(A82,'Stap 2 Register'!$B$8:$B$107,'Stap 2 Register'!$O$8:$O$107,0)","v":0},{"$f":"_xlfn.XLOOKUP(A82,'Stap 3 Maatregelen'!$C$8:$C$107,'Stap 3 Maatregelen'!$G$8:$G$107,0)","v":0},3500000]
[73,{"$f":"_xlfn.XLOOKUP(A83,'Stap 2 Register'!$B$8:$B$107,'Stap 2 Register'!$C$8:$C$107,0)","v":0},{"$f":"_xlfn.XLOOKUP(A83,'Stap 2 Register'!$B$8:$B$107,'Stap 2 Register'!$O$8:$O$107,0)","v":0},{"$f":"_xlfn.XLOOKUP(A83,'Stap 3 Maatregelen'!$C$8:$C$107,'Stap 3 Maatregelen'!$G$8:$G$107,0)","v":0},3500000]
[74,{"$f":"_xlfn.XLOOKUP(A84,'Stap 2 Register'!$B$8:$B$107,'Stap 2 Register'!$C$8:$C$107,0)","v":0},{"$f":"_xlfn.XLOOKUP(A84,'Stap 2 Register'!$B$8:$B$107,'Stap 2 Register'!$O$8:$O$107,0)","v":0},{"$f":"_xlfn.XLOOKUP(A84,'Stap 3 Maatregelen'!$C$8:$C$107,'Stap 3 Maatregelen'!$G$8:$G$107,0)","v":0},3500000]
[75,{"$f":"_xlfn.XLOOKUP(A85,'Stap 2 Register'!$B$8:$B$107,'Stap 2 Register'!$C$8:$C$107,0)","v":0},{"$f":"_xlfn.XLOOKUP(A85,'Stap 2 Register'!$B$8:$B$107,'Stap 2 Register'!$O$8:$O$107,0)","v":0},{"$f":"_xlfn.XLOOKUP(A85,'Stap 3 Maatregelen'!$C$8:$C$107,'Stap 3 Maatregelen'!$G$8:$G$107,0)","v":0},3500000]
[76,{"$f":"_xlfn.XLOOKUP(A86,'Stap 2 Register'!$B$8:$B$107,'Stap 2 Register'!$C$8:$C$107,0)","v":0},{"$f":"_xlfn.XLOOKUP(A86,'Stap 2 Register'!$B$8:$B$107,'Stap 2 Register'!$O$8:$O$107,0)","v":0},{"$f":"_xlfn.XLOOKUP(A86,'Stap 3 Maatregelen'!$C$8:$C$107,'Stap 3 Maatregelen'!$G$8:$G$107,0)","v":0},3500000]
[77,{"$f":"_xlfn.XLOOKUP(A87,'Stap 2 Register'!$B$8:$B$107,'Stap 2 Register'!$C$8:$C$107,0)","v":0},{"$f":"_xlfn.XLOOKUP(A87,'Stap 2 Register'!$B$8:$B$107,'Stap 2 Register'!$O$8:$O$107,0)","v":0},{"$f":"_xlfn.XLOOKUP(A87,'Stap 3 Maatregelen'!$C$8:$C$107,'Stap 3 Maatregelen'!$G$8:$G$107,0)","v":0},3500000]
[78,{"$f":"_xlfn.XLOOKUP(A88,'Stap 2 Register'!$B$8:$B$107,'Stap 2 Register'!$C$8:$C$107,0)","v":0},{"$f":"_xlfn.XLOOKUP(A88,'Stap 2 Register'!$B$8:$B$107,'Stap 2 Register'!$O$8:$O$107,0)","v":0},{"$f":"_xlfn.XLOOKUP(A88,'Stap 3 Maatregelen'!$C$8:$C$107,'Stap 3 Maatregelen'!$G$8:$G$107,0)","v":0},3500000]
[79,{"$f":"_xlfn.XLOOKUP(A89,'Stap 2 Register'!$B$8:$B$107,'Stap 2 Register'!$C$8:$C$107,0)","v":0},{"$f":"_xlfn.XLOOKUP(A89,'Stap 2 Register'!$B$8:$B$107,'Stap 2 Register'!$O$8:$O$107,0)","v":0},{"$f":"_xlfn.XLOOKUP(A89,'Stap 3 Maatregelen'!$C$8:$C$107,'Stap 3 Maatregelen'!$G$8:$G$107,0)","v":0},3500000]
[80,{"$f":"_xlfn.XLOOKUP(A90,'Stap 2 Register'!$B$8:$B$107,'Stap 2 Register'!$C$8:$C$107,0)","v":0},{"$f":"_xlfn.XLOOKUP(A90,'Stap 2 Register'!$B$8:$B$107,'Stap 2 Register'!$O$8:$O$107,0)","v":0},{"$f":"_xlfn.XLOOKUP(A90,'Stap 3 Maatregelen'!$C$8:$C$107,'Stap 3 Maatregelen'!$G$8:$G$107,0)","v":0},3500000]
[81,{"$f":"_xlfn.XLOOKUP(A91,'Stap 2 Register'!$B$8:$B$107,'Stap 2 Register'!$C$8:$C$107,0)","v":0},{"$f":"_xlfn.XLOOKUP(A91,'Stap 2 Register'!$B$8:$B$107,'Stap 2 Register'!$O$8:$O$107,0)","v":0},{"$f":"_xlfn.XLOOKUP(A91,'Stap 3 Maatregelen'!$C$8:$C$107,'Stap 3 Maatregelen'!$G$8:$G$107,0)","v":0},3500000]
[82,{"$f":"_xlfn.XLOOKUP(A92,'Stap 2 Register'!$B$8:$B$107,'Stap 2 Register'!$C$8:$C$107,0)","v":0},{"$f":"_xlfn.XLOOKUP(A92,'Stap 2 Register'!$B$8:$B$107,'Stap 2 Register'!$O$8:$O$107,0)","v":0},{"$f":"_xlfn.XLOOKUP(A92,'Stap 3 Maatregelen'!$C$8:$C$107,'Stap 3 Maatregelen'!$G$8:$G$107,0)","v":0},3500000]
[83,{"$f":"_xlfn.XLOOKUP(A93,'Stap 2 Register'!$B$8:$B$107,'Stap 2 Register'!$C$8:$C$107,0)","v":0},{"$f":"_xlfn.XLOOKUP(A93,'Stap 2 Register'!$B$8:$B$107,'Stap 2 Register'!$O$8:$O$107,0)","v":0},{"$f":"_xlfn.XLOOKUP(A93,'Stap 3 Maatregelen'!$C$8:$C$107,'Stap 3 Maatregelen'!$G$8:$G$107,0)","v":0},3500000]
[84,{"$f":"_xlfn.XLOOKUP(A94,'Stap 2 Register'!$B$8:$B$107,'Stap 2 Register'!$C$8:$C$107,0)","v":0},{"$f":"_xlfn.XLOOKUP(A94,'Stap 2 Register'!$B$8:$B$107,'Stap 2 Register'!$O$8:$O$107,0)","v":0},{"$f":"_xlfn.XLOOKUP(A94,'Stap 3 Maatregelen'!$C$8:$C$107,'Stap 3 Maatregelen'!$G$8:$G$107,0)","v":0},3500000]
[85,{"$f":"_xlfn.XLOOKUP(A95,'Stap 2 Register'!$B$8:$B$107,'Stap 2 Register'!$C$8:$C$107,0)","v":0},{"$f":"_xlfn.XLOOKUP(A95,'Stap 2 Register'!$B$8:$B$107,'Stap 2 Register'!$O$8:$O$107,0)","v":0},{"$f":"_xlfn.XLOOKUP(A95,'Stap 3 Maatregelen'!$C$8:$C$107,'Stap 3 Maatregelen'!$G$8:$G$107,0)","v":0},3500000]
[86,{"$f":"_xlfn.XLOOKUP(A96,'Stap 2 Register'!$B$8:$B$107,'Stap 2 Register'!$C$8:$C$107,0)","v":0},{"$f":"_xlfn.XLOOKUP(A96,'Stap 2 Register'!$B$8:$B$107,'Stap 2 Register'!$O$8:$O$107,0)","v":0},{"$f":"_xlfn.XLOOKUP(A96,'Stap 3 Maatregelen'!$C$8:$C$107,'Stap 3 Maatregelen'!$G$8:$G$107,0)","v":0},3500000]
[87,{"$f":"_xlfn.XLOOKUP(A97,'Stap 2 Register'!$B$8:$B$107,'Stap 2 Register'!$C$8:$C$107,0)","v":0},{"$f":"_xlfn.XLOOKUP(A97,'Stap 2 Register'!$B$8:$B$107,'Stap 2 Register'!$O$8:$O$107,0)","v":0},{"$f":"_xlfn.XLOOKUP(A97,'Stap 3 Maatregelen'!$C$8:$C$107,'Stap 3 Maatregelen'!$G$8:$G$107,0)","v":0},3500000]
[88,{"$f":"_xlfn.XLOOKUP(A98,'Stap 2 Register'!$B$8:$B$107,'Stap 2 Register'!$C$8:$C$107,0)","v":0},{"$f":"_xlfn.XLOOKUP(A98,'Stap 2 Register'!$B$8:$B$107,'Stap 2 Register'!$O$8:$O$107,0)","v":0},{"$f":"_xlfn.XLOOKUP(A98,'Stap 3 Maatregelen'!$C$8:$C$107,'Stap 3 Maatregelen'!$G$8:$G$107,0)","v":0},3500000]
[89,{"$f":"_xlfn.XLOOKUP(A99,'Stap 2 Register'!$B$8:$B$107,'Stap 2 Register'!$C$8:$C$107,0)","v":0},{"$f":"_xlfn.XLOOKUP(A99,'Stap 2 Register'!$B$8:$B$107,'Stap 2 Register'!$O$8:$O$107,0)","v":0},{"$f":"_xlfn.XLOOKUP(A99,'Stap 3 Maatregelen'!$C$8:$C$107,'Stap 3 Maatregelen'!$G$8:$G$107,0)","v":0},3500000]
[90,{"$f":"_xlfn.XLOOKUP(A100,'Stap 2 Register'!$B$8:$B$107,'Stap 2 Register'!$C$8:$C$107,0)","v":0},{"$f":"_xlfn.XLOOKUP(A100,'Stap 2 Register'!$B$8:$B$107,'Stap 2 Register'!$O$8:$O$107,0)","v":0},{"$f":"_xlfn.XLOOKUP(A100,'Stap 3 Maatregelen'!$C$8:$C$107,'Stap 3 Maatregelen'!$G$8:$G$107,0)","v":0},3500000]
[91,{"$f":"_xlfn.XLOOKUP(A101,'Stap 2 Register'!$B$8:$B$107,'Stap 2 Register'!$C$8:$C$107,0)","v":0},{"$f":"_xlfn.XLOOKUP(A101,'Stap 2 Register'!$B$8:$B$107,'Stap 2 Register'!$O$8:$O$107,0)","v":0},{"$f":"_xlfn.XLOOKUP(A101,'Stap 3 Maatregelen'!$C$8:$C$107,'Stap 3 Maatregelen'!$G$8:$G$107,0)","v":0},3500000]
[92,{"$f":"_xlfn.XLOOKUP(A102,'Stap 2 Register'!$B$8:$B$107,'Stap 2 Register'!$C$8:$C$107,0)","v":0},{"$f":"_xlfn.XLOOKUP(A102,'Stap 2 Register'!$B$8:$B$107,'Stap 2 Register'!$O$8:$O$107,0)","v":0},{"$f":"_xlfn.XLOOKUP(A102,'Stap 3 Maatregelen'!$C$8:$C$107,'Stap 3 Maatregelen'!$G$8:$G$107,0)","v":0},3500000]
[93,{"$f":"_xlfn.XLOOKUP(A103,'Stap 2 Register'!$B$8:$B$107,'Stap 2 Register'!$C$8:$C$107,0)","v":0},{"$f":"_xlfn.XLOOKUP(A103,'Stap 2 Register'!$B$8:$B$107,'Stap 2 Register'!$O$8:$O$107,0)","v":0},{"$f":"_xlfn.XLOOKUP(A103,'Stap 3 Maatregelen'!$C$8:$C$107,'Stap 3 Maatregelen'!$G$8:$G$107,0)","v":0},3500000]
[94,{"$f":"_xlfn.XLOOKUP(A104,'Stap 2 Register'!$B$8:$B$107,'Stap 2 Register'!$C$8:$C$107,0)","v":0},{"$f":"_xlfn.XLOOKUP(A104,'Stap 2 Register'!$B$8:$B$107,'Stap 2 Register'!$O$8:$O$107,0)","v":0},{"$f":"_xlfn.XLOOKUP(A104,'Stap 3 Maatregelen'!$C$8:$C$107,'Stap 3 Maatregelen'!$G$8:$G$107,0)","v":0},3500000]
[95,{"$f":"_xlfn.XLOOKUP(A105,'Stap 2 Register'!$B$8:$B$107,'Stap 2 Register'!$C$8:$C$107,0)","v":0},{"$f":"_xlfn.XLOOKUP(A105,'Stap 2 Register'!$B$8:$B$107,'Stap 2 Register'!$O$8:$O$107,0)","v":0},{"$f":"_xlfn.XLOOKUP(A105,'Stap 3 Maatregelen'!$C$8:$C$107,'Stap 3 Maatregelen'!$G$8:$G$107,0)","v":0},3500000]
[96,{"$f":"_xlfn.XLOOKUP(A106,'Stap 2 Register'!$B$8:$B$107,'Stap 2 Register'!$C$8:$C$107,0)","v":0},{"$f":"_xlfn.XLOOKUP(A106,'Stap 2 Register'!$B$8:$B$107,'Stap 2 Register'!$O$8:$O$107,0)","v":0},{"$f":"_xlfn.XLOOKUP(A106,'Stap 3 Maatregelen'!$C$8:$C$107,'Stap 3 Maatregelen'!$G$8:$G$107,0)","v":0},3500000]
[97,{"$f":"_xlfn.XLOOKUP(A107,'Stap 2 Register'!$B$8:$B$107,'Stap 2 Register'!$C$8:$C$107,0)","v":0},{"$f":"_xlfn.XLOOKUP(A107,'Stap 2 Register'!$B$8:$B$107,'Stap 2 Register'!$O$8:$O$107,0)","v":0},{"$f":"_xlfn.XLOOKUP(A107,'Stap 3 Maatregelen'!$C$8:$C$107,'Stap 3 Maatregelen'!$G$8:$G$107,0)","v":0},3500000]
[98,{"$f":"_xlfn.XLOOKUP(A108,'Stap 2 Register'!$B$8:$B$107,'Stap 2 Register'!$C$8:$C$107,0)","v":0},{"$f":"_xlfn.XLOOKUP(A108,'Stap 2 Register'!$B$8:$B$107,'Stap 2 Register'!$O$8:$O$107,0)","v":0},{"$f":"_xlfn.XLOOKUP(A108,'Stap 3 Maatregelen'!$C$8:$C$107,'Stap 3 Maatregelen'!$G$8:$G$107,0)","v":0},3500000]
[99,{"$f":"_xlfn.XLOOKUP(A109,'Stap 2 Register'!$B$8:$B$107,'Stap 2 Register'!$C$8:$C$107,0)","v":0},{"$f":"_xlfn.XLOOKUP(A109,'Stap 2 Register'!$B$8:$B$107,'Stap 2 Register'!$O$8:$O$107,0)","v":0},{"$f":"_xlfn.XLOOKUP(A109,'Stap 3 Maatregelen'!$C$8:$C$107,'Stap 3 Maatregelen'!$G$8:$G$107,0)","v":0},3500000]
[100,{"$f":"_xlfn.XLOOKUP(A110,'Stap 2 Register'!$B$8:$B$107,'Stap 2 Register'!$C$8:$C$107,0)","v":0},{"$f":"_xlfn.XLOOKUP(A110,'Stap 2 Register'!$B$8:$B$107,'Stap 2 Register'!$O$8:$O$107,0)","v":0},{"$f":"_xlfn.XLOOKUP(A110,'Stap 3 Maatregelen'!$C$8:$C$107,'Stap 3 Maatregelen'!$G$8:$G$107,0)","v":0},3500000]